Workbook

Sheet Dashboard
A1: CARRELLI TELESCOPICI | CHECKLIST DI VERIFICA
A3: Controllo aziendale documentato • PR-CT-01 • Fissi e rotativi • Edizione 2026
A4: =IFERROR(HYPERLINK("#'Anagrafica'!A1","01 CONFIGURA"),"01 CONFIGURA") -> 01 CONFIGURA | D4: =IFERROR(HYPERLINK("#'Checklist'!A1","02 VERIFICA"),"02 VERIFICA") -> 02 VERIFICA | G4: =IFERROR(HYPERLINK("#'Azioni'!A1","03 GESTISCI AZIONI"),"03 GESTISCI AZIONI") -> 03 GESTISCI AZIONI | J4: =IFERROR(HYPERLINK("#'Guida'!A1","GUIDA E LIMITI"),"GUIDA E LIMITI") -> GUIDA E LIMITI
A6: =Catalogo!Q19 -> DA CONFIGURARE | VERIFICA NON CONCLUSA | N6: benni
A9: CONTROLLI | D9: COPERTURA VERIFICATA | G9: CONFORMI / PERIMETRO | J9: NC INIZIALI
A10: =Catalogo!Q2 -> 230 | D10: =Catalogo!Q14 -> 0 | G10: =Catalogo!Q15 -> 0 | J10: =Catalogo!Q8 -> 0
A14: RILIEVI SICUREZZA | D14: DA VERIFICARE | G14: AZIONI CHIUSE | J14: SCADENZE CRITICHE
A15: =Catalogo!Q9 -> 0 | D15: =Catalogo!Q5+Catalogo!Q7 -> 230 | G15: =Catalogo!Q10 -> 0 | J15: =Catalogo!Q12 -> 0
A19: =IF(Anagrafica!C7="","AZIENDA / MACCHINA DA INSERIRE",Anagrafica!C7&" | "&Anagrafica!C13&" "&Anagrafica!C14&" | "&Anagrafica!C15) -> demo srl | manitou | | G19: =Anagrafica!K8 -> 46286
A22: Il cruscotto misura ciò che è registrato, non certifica la sicurezza. NV, dati mancanti e NA non motivati non diventano conformità. Nessun indice favorevole compensa un rilievo di sicurezza.
A42: COPERTURA PER AMBITO | STESSI ID DELLA PROCEDURA A01–A24
A44: Cod. | B44: Ambito | F44: Totale | G44: C / riesame | H44: NC | I44: NV | J44: Da compilare | K44: NA | L44: Copertura
A45: A01 | B45: Adozione e responsabilità | F45: =COUNTIF(Checklist!$A$8:$A$237,A45&"-*") -> 7 | G45: =COUNTIFS(Checklist!$A$8:$A$237,A45&"-*",Checklist!$L$8:$L$237,"C")+COUNTIFS(Checklist!$A$8:$A$237,A45&"-*",Checklist!$L$8:$L$237,"C dopo riesame") -> 0 | H45: =COUNTIFS(Checklist!$A$8:$A$237,A45&"-*",Checklist!$L$8:$L$237,"NC") -> 0 | I45: =COUNTIFS(Checklist!$A$8:$A$237,A45&"-*",Checklist!$L$8:$L$237,"NV") -> 0 | J45: =F45-G45-H45-I45-K45 -> 7 | K45: =COUNTIFS(Checklist!$A$8:$A$237,A45&"-*",Checklist!$L$8:$L$237,"NA") -> 0 | L45: =IF(F45=0,0,(G45+H45+K45)/F45) -> 0
A46: A02 | B46: Identità e limiti tecnici | F46: =COUNTIF(Checklist!$A$8:$A$237,A46&"-*") -> 16 | G46: =COUNTIFS(Checklist!$A$8:$A$237,A46&"-*",Checklist!$L$8:$L$237,"C")+COUNTIFS(Checklist!$A$8:$A$237,A46&"-*",Checklist!$L$8:$L$237,"C dopo riesame") -> 0 | H46: =COUNTIFS(Checklist!$A$8:$A$237,A46&"-*",Checklist!$L$8:$L$237,"NC") -> 0 | I46: =COUNTIFS(Checklist!$A$8:$A$237,A46&"-*",Checklist!$L$8:$L$237,"NV") -> 0 | J46: =F46-G46-H46-I46-K46 -> 16 | K46: =COUNTIFS(Checklist!$A$8:$A$237,A46&"-*",Checklist!$L$8:$L$237,"NA") -> 0 | L46: =IF(F46=0,0,(G46+H46+K46)/F46) -> 0
A47: A03 | B47: Accettazione e noleggio | F47: =COUNTIF(Checklist!$A$8:$A$237,A47&"-*") -> 8 | G47: =COUNTIFS(Checklist!$A$8:$A$237,A47&"-*",Checklist!$L$8:$L$237,"C")+COUNTIFS(Checklist!$A$8:$A$237,A47&"-*",Checklist!$L$8:$L$237,"C dopo riesame") -> 0 | H47: =COUNTIFS(Checklist!$A$8:$A$237,A47&"-*",Checklist!$L$8:$L$237,"NC") -> 0 | I47: =COUNTIFS(Checklist!$A$8:$A$237,A47&"-*",Checklist!$L$8:$L$237,"NV") -> 0 | J47: =F47-G47-H47-I47-K47 -> 8 | K47: =COUNTIFS(Checklist!$A$8:$A$237,A47&"-*",Checklist!$L$8:$L$237,"NA") -> 0 | L47: =IF(F47=0,0,(G47+H47+K47)/F47) -> 0
A48: A04 | B48: Operatori e addestramento | F48: =COUNTIF(Checklist!$A$8:$A$237,A48&"-*") -> 15 | G48: =COUNTIFS(Checklist!$A$8:$A$237,A48&"-*",Checklist!$L$8:$L$237,"C")+COUNTIFS(Checklist!$A$8:$A$237,A48&"-*",Checklist!$L$8:$L$237,"C dopo riesame") -> 0 | H48: =COUNTIFS(Checklist!$A$8:$A$237,A48&"-*",Checklist!$L$8:$L$237,"NC") -> 0 | I48: =COUNTIFS(Checklist!$A$8:$A$237,A48&"-*",Checklist!$L$8:$L$237,"NV") -> 0 | J48: =F48-G48-H48-I48-K48 -> 15 | K48: =COUNTIFS(Checklist!$A$8:$A$237,A48&"-*",Checklist!$L$8:$L$237,"NA") -> 0 | L48: =IF(F48=0,0,(G48+H48+K48)/F48) -> 0
A49: A05 | B49: Controlli pre-utilizzo | F49: =COUNTIF(Checklist!$A$8:$A$237,A49&"-*") -> 21 | G49: =COUNTIFS(Checklist!$A$8:$A$237,A49&"-*",Checklist!$L$8:$L$237,"C")+COUNTIFS(Checklist!$A$8:$A$237,A49&"-*",Checklist!$L$8:$L$237,"C dopo riesame") -> 0 | H49: =COUNTIFS(Checklist!$A$8:$A$237,A49&"-*",Checklist!$L$8:$L$237,"NC") -> 0 | I49: =COUNTIFS(Checklist!$A$8:$A$237,A49&"-*",Checklist!$L$8:$L$237,"NV") -> 0 | J49: =F49-G49-H49-I49-K49 -> 21 | K49: =COUNTIFS(Checklist!$A$8:$A$237,A49&"-*",Checklist!$L$8:$L$237,"NA") -> 0 | L49: =IF(F49=0,0,(G49+H49+K49)/F49) -> 0
A50: A06 | B50: Sito, appoggi e interferenze | F50: =COUNTIF(Checklist!$A$8:$A$237,A50&"-*") -> 12 | G50: =COUNTIFS(Checklist!$A$8:$A$237,A50&"-*",Checklist!$L$8:$L$237,"C")+COUNTIFS(Checklist!$A$8:$A$237,A50&"-*",Checklist!$L$8:$L$237,"C dopo riesame") -> 0 | H50: =COUNTIFS(Checklist!$A$8:$A$237,A50&"-*",Checklist!$L$8:$L$237,"NC") -> 0 | I50: =COUNTIFS(Checklist!$A$8:$A$237,A50&"-*",Checklist!$L$8:$L$237,"NV") -> 0 | J50: =F50-G50-H50-I50-K50 -> 12 | K50: =COUNTIFS(Checklist!$A$8:$A$237,A50&"-*",Checklist!$L$8:$L$237,"NA") -> 0 | L50: =IF(F50=0,0,(G50+H50+K50)/F50) -> 0
A51: A07 | B51: Piano e diagramma di portata | F51: =COUNTIF(Checklist!$A$8:$A$237,A51&"-*") -> 15 | G51: =COUNTIFS(Checklist!$A$8:$A$237,A51&"-*",Checklist!$L$8:$L$237,"C")+COUNTIFS(Checklist!$A$8:$A$237,A51&"-*",Checklist!$L$8:$L$237,"C dopo riesame") -> 0 | H51: =COUNTIFS(Checklist!$A$8:$A$237,A51&"-*",Checklist!$L$8:$L$237,"NC") -> 0 | I51: =COUNTIFS(Checklist!$A$8:$A$237,A51&"-*",Checklist!$L$8:$L$237,"NV") -> 0 | J51: =F51-G51-H51-I51-K51 -> 15 | K51: =COUNTIFS(Checklist!$A$8:$A$237,A51&"-*",Checklist!$L$8:$L$237,"NA") -> 0 | L51: =IF(F51=0,0,(G51+H51+K51)/F51) -> 0
A52: A08 | B52: Compatibilità e cambio accessorio | F52: =COUNTIF(Checklist!$A$8:$A$237,A52&"-*") -> 8 | G52: =COUNTIFS(Checklist!$A$8:$A$237,A52&"-*",Checklist!$L$8:$L$237,"C")+COUNTIFS(Checklist!$A$8:$A$237,A52&"-*",Checklist!$L$8:$L$237,"C dopo riesame") -> 0 | H52: =COUNTIFS(Checklist!$A$8:$A$237,A52&"-*",Checklist!$L$8:$L$237,"NC") -> 0 | I52: =COUNTIFS(Checklist!$A$8:$A$237,A52&"-*",Checklist!$L$8:$L$237,"NV") -> 0 | J52: =F52-G52-H52-I52-K52 -> 8 | K52: =COUNTIFS(Checklist!$A$8:$A$237,A52&"-*",Checklist!$L$8:$L$237,"NA") -> 0 | L52: =IF(F52=0,0,(G52+H52+K52)/F52) -> 0
A53: A09 | B53: Carichi sospesi e imbracature | F53: =COUNTIF(Checklist!$A$8:$A$237,A53&"-*") -> 8 | G53: =COUNTIFS(Checklist!$A$8:$A$237,A53&"-*",Checklist!$L$8:$L$237,"C")+COUNTIFS(Checklist!$A$8:$A$237,A53&"-*",Checklist!$L$8:$L$237,"C dopo riesame") -> 0 | H53: =COUNTIFS(Checklist!$A$8:$A$237,A53&"-*",Checklist!$L$8:$L$237,"NC") -> 0 | I53: =COUNTIFS(Checklist!$A$8:$A$237,A53&"-*",Checklist!$L$8:$L$237,"NV") -> 0 | J53: =F53-G53-H53-I53-K53 -> 8 | K53: =COUNTIFS(Checklist!$A$8:$A$237,A53&"-*",Checklist!$L$8:$L$237,"NA") -> 0 | L53: =IF(F53=0,0,(G53+H53+K53)/F53) -> 0
A54: A10 | B54: Persone e recupero dedicato | F54: =COUNTIF(Checklist!$A$8:$A$237,A54&"-*") -> 13 | G54: =COUNTIFS(Checklist!$A$8:$A$237,A54&"-*",Checklist!$L$8:$L$237,"C")+COUNTIFS(Checklist!$A$8:$A$237,A54&"-*",Checklist!$L$8:$L$237,"C dopo riesame") -> 0 | H54: =COUNTIFS(Checklist!$A$8:$A$237,A54&"-*",Checklist!$L$8:$L$237,"NC") -> 0 | I54: =COUNTIFS(Checklist!$A$8:$A$237,A54&"-*",Checklist!$L$8:$L$237,"NV") -> 0 | J54: =F54-G54-H54-I54-K54 -> 13 | K54: =COUNTIFS(Checklist!$A$8:$A$237,A54&"-*",Checklist!$L$8:$L$237,"NA") -> 0 | L54: =IF(F54=0,0,(G54+H54+K54)/F54) -> 0
A55: A11 | B55: Briefing e comunicazioni | F55: =COUNTIF(Checklist!$A$8:$A$237,A55&"-*") -> 5 | G55: =COUNTIFS(Checklist!$A$8:$A$237,A55&"-*",Checklist!$L$8:$L$237,"C")+COUNTIFS(Checklist!$A$8:$A$237,A55&"-*",Checklist!$L$8:$L$237,"C dopo riesame") -> 0 | H55: =COUNTIFS(Checklist!$A$8:$A$237,A55&"-*",Checklist!$L$8:$L$237,"NC") -> 0 | I55: =COUNTIFS(Checklist!$A$8:$A$237,A55&"-*",Checklist!$L$8:$L$237,"NV") -> 0 | J55: =F55-G55-H55-I55-K55 -> 5 | K55: =COUNTIFS(Checklist!$A$8:$A$237,A55&"-*",Checklist!$L$8:$L$237,"NA") -> 0 | L55: =IF(F55=0,0,(G55+H55+K55)/F55) -> 0
A56: A12 | B56: Fine turno e consegne | F56: =COUNTIF(Checklist!$A$8:$A$237,A56&"-*") -> 11 | G56: =COUNTIFS(Checklist!$A$8:$A$237,A56&"-*",Checklist!$L$8:$L$237,"C")+COUNTIFS(Checklist!$A$8:$A$237,A56&"-*",Checklist!$L$8:$L$237,"C dopo riesame") -> 0 | H56: =COUNTIFS(Checklist!$A$8:$A$237,A56&"-*",Checklist!$L$8:$L$237,"NC") -> 0 | I56: =COUNTIFS(Checklist!$A$8:$A$237,A56&"-*",Checklist!$L$8:$L$237,"NV") -> 0 | J56: =F56-G56-H56-I56-K56 -> 11 | K56: =COUNTIFS(Checklist!$A$8:$A$237,A56&"-*",Checklist!$L$8:$L$237,"NA") -> 0 | L56: =IF(F56=0,0,(G56+H56+K56)/F56) -> 0
... A68: A24 | B68: Distribuzione e riesame | F68: =COUNTIF(Checklist!$A$8:$A$237,A68&"-*") -> 7 | G68: =COUNTIFS(Checklist!$A$8:$A$237,A68&"-*",Checklist!$L$8:$L$237,"C")+COUNTIFS(Checklist!$A$8:$A$237,A68&"-*",Checklist!$L$8:$L$237,"C dopo riesame") -> 0 | H68: =COUNTIFS(Checklist!$A$8:$A$237,A68&"-*",Checklist!$L$8:$L$237,"NC") -> 0 | I68: =COUNTIFS(Checklist!$A$8:$A$237,A68&"-*",Checklist!$L$8:$L$237,"NV") -> 0 | J68: =F68-G68-H68-I68-K68 -> 7 | K68: =COUNTIFS(Checklist!$A$8:$A$237,A68&"-*",Checklist!$L$8:$L$237,"NA") -> 0 | L68: =IF(F68=0,0,(G68+H68+K68)/F68) -> 0
A71: =IFERROR(HYPERLINK("#'Preuso'!A1","VISTA PRE-UTILIZZO"),"VISTA PRE-UTILIZZO") -> VISTA PRE-UTILIZZO | D71: =IFERROR(HYPERLINK("#'Scadenze'!A1","SCADENZARIO"),"SCADENZARIO") -> SCADENZARIO | G71: =IFERROR(HYPERLINK("#'Verbale'!A1","RIEPILOGO INTERNO"),"RIEPILOGO INTERNO") -> RIEPILOGO INTERNO | J71: =IFERROR(HYPERLINK("#'Fonti'!A1","FONTI E PRECISAZIONI"),"FONTI E PRECISAZIONI") -> FONTI E PRECISAZIONI
A74: COPERTURA = (C + C dopo riesame + NC + NA validati) / totale. CONFORMI / PERIMETRO = (C + C dopo riesame) / (totale − NA validati). Gli incompleti restano nel denominatore. I riepiloghi comprendono tutte le righe, anche quando la tabella è filtrata.

Sheet Guida
A1: GUIDA OPERATIVA | COME USARE LA CHECKLIST
A3: Una copia per macchina, configurazione e sessione di verifica. File XLSX senza macro.
A4: =IFERROR(HYPERLINK("#'Dashboard'!A1","◀ DASHBOARD"),"◀ DASHBOARD") -> ◀ DASHBOARD | D4: =IFERROR(HYPERLINK("#'Guida'!A1","GUIDA / LEGENDA"),"GUIDA / LEGENDA") -> GUIDA / LEGENDA
A6: 01 | Definire la sessione
A7: Compilare Anagrafica: azienda, sito, ID, data, macchina, configurazione e responsabili. Confermare le funzioni presenti e l'adozione dei criteri. I valori tecnici della sezione inferiore devono provenire dal manuale reale. Non è sufficiente indicare il solo marchio.
A11: 02 | Registrare i riscontri
A12: Compilare le celle azzurre E:H di Checklist: esito, evidenza o motivo NA, data effettiva e verificatore. Gli altri campi guidano il controllo o calcolano lo stato. Filtrare per ambito A01–A24, rilevanza o esito. I riepiloghi includono tutte le righe, anche filtrate.
A16: 03 | Distinguere gli esiti
A17: C = criterio riscontrato favorevolmente. NC = criterio non soddisfatto. NV = requisito non ancora verificato. NA = requisito realmente non applicabile, con motivazione. La mancata conoscenza non è NA. Le righe core non escludibili sono segnalate in Catalogo.
A21: 04 | Interpretare la validazione
A22: Un C senza evidenza, data e verificatore è INCOMPLETO. Una data futura o non numerica non è accettata. Un NA su un requisito non escludibile diventa NA NON AMMESSO. La cella vuota resta DA COMPILARE. Nessuna risposta è preimpostata come favorevole.
A26: 05 | Gestire un rilievo
A27: Seguire il collegamento Apri ID verso Azioni. Riportare azione decisa, incaricato, apertura, termine e stato. Per rilievi di sicurezza, applicare il fermo dell'attività pertinente e le procedure reali; il file non sostituisce segregazione, isolamento o comunicazioni.
A31: 06 | Chiudere con evidenze
A32: Chiusa non basta. Servono evidenza del ripristino, verificatore dell'efficacia, data valida, esito riesame C e dati dell'azione completi. Soltanto CHIUSA VERIFICATA aggiorna l'esito corrente a C dopo riesame. L'esito iniziale NC/NV rimane visibile. Non sovrascriverlo.
... A96: MAPPA DI NAVIGAZIONE
A99: =IFERROR(HYPERLINK("#'Anagrafica'!A1","ANAGRAFICA"),"ANAGRAFICA") -> ANAGRAFICA | D99: Identità, configurazione, parametri e limiti.
A102: =IFERROR(HYPERLINK("#'Checklist'!A1","CHECKLIST"),"CHECKLIST") -> CHECKLIST | D102: 230 controlli con fonti, esiti, evidenze e decisioni.
A105: =IFERROR(HYPERLINK("#'Azioni'!A1","AZIONI"),"AZIONI") -> AZIONI | D105: Piano correttivo collegato per ID e chiusura verificata.
A108: =IFERROR(HYPERLINK("#'Preuso'!A1","PREUSO"),"PREUSO") -> PREUSO | D108: 21 controlli quotidiani in sola vista, collegati al registro principale.
A111: =IFERROR(HYPERLINK("#'Scadenze'!A1","SCADENZE"),"SCADENZE") -> SCADENZE | D111: 20 voci per calendario e contatore; frequenze da documentare.
A114: =IFERROR(HYPERLINK("#'Operatori'!A1","OPERATORI"),"OPERATORI") -> OPERATORI | D114: 20 righe disponibili per requisiti e assegnazioni.
A117: =IFERROR(HYPERLINK("#'Accessori'!A1","ACCESSORI"),"ACCESSORI") -> ACCESSORI | D117: 20 righe per compatibilità e riscontri degli accessori.
A120: =IFERROR(HYPERLINK("#'Piano_manovra'!A1","PIANO_MANOVRA"),"PIANO_MANOVRA") -> PIANO_MANOVRA | D120: 4 fasi numeriche, limiti e validazione umana.
A123: =IFERROR(HYPERLINK("#'Evidenze'!A1","EVIDENZE"),"EVIDENZE") -> EVIDENZE | D123: 50 righe per documenti e riscontri.
A126: =IFERROR(HYPERLINK("#'Verbale'!A1","VERBALE"),"VERBALE") -> VERBALE | D126: Riepilogo e decisione interna da completare.
A129: =IFERROR(HYPERLINK("#'Catalogo'!A1","CATALOGO"),"CATALOGO") -> CATALOGO | D129: Origine di ogni requisito e criteri di applicabilità.
A132: =IFERROR(HYPERLINK("#'Fonti'!A1","FONTI"),"FONTI") -> FONTI | D132: Fonti primarie, riscontri esterni e precisazioni.
A135: =IFERROR(HYPERLINK("#'Esempio'!A1","ESEMPIO"),"ESEMPIO") -> ESEMPIO | D135: Casi isolati per comprendere la logica, esclusi dai KPI.
A139: DISCLAIMER | Modello di supporto informativo e organizzativo da personalizzare, controllare e approvare. Non sostituisce DVR, procedure, manuali, istruzioni degli accessori, formazione, competenze professionali o adempimenti normativi. Le decisioni riguardano la macchina e le condizioni effettive; una compilazione formale non dimostra da sola sicurezza o conformità.

Sheet Anagrafica
A1: ANAGRAFICA E CONDIZIONI DI UTILIZZO
A3: Un file = una macchina, una configurazione e una sessione di verifica. Celle azzurre da compilare. | Q3: benni
A4: =IFERROR(HYPERLINK("#'Dashboard'!A1","◀ DASHBOARD"),"◀ DASHBOARD") -> ◀ DASHBOARD | D4: =IFERROR(HYPERLINK("#'Guida'!A1","GUIDA / LEGENDA"),"GUIDA / LEGENDA") -> GUIDA / LEGENDA | G4: =IFERROR(HYPERLINK("#'Checklist'!A1","AVVIA CHECKLIST"),"AVVIA CHECKLIST") -> AVVIA CHECKLIST | J4: =IFERROR(HYPERLINK("#'Scadenze'!A1","SCADENZE"),"SCADENZE") -> SCADENZE
A6: 01 / IDENTIFICAZIONE DELLA SESSIONE | H6: 02 / PARAMETRI DI CALCOLO E FUNZIONI
A7: Azienda / unità produttiva | C7: demo srl | H7: Data analisi: override (facoltativo)
A8: ID verifica / revisione | H8: Data analisi effettiva | K8: =IF(AND(ISNUMBER(K7),K7>0),K7,TODAY()) -> 46286
A9: Data effettiva della verifica
A10: Sito / cantiere | H10: Preavviso calendario (giorni) | K10: 60
A11: Verificatore / ruolo | H11: Urgenza calendario (giorni) | K11: 30
A12: Responsabile valutazione | H12: Preavviso manutenzione (ore) | K12: 50
A13: Marca (es. Manitou / Merlo) | C13: manitou | H13: Aggiornamento (mesi) | K13: 60
A14: Modello | H14: Verifica periodica (mesi) | K14: 12
A15: Numero di fabbrica / matricola
A16: Tipologia di telescopico | H16: Uso carichi sospesi | K16: Da definire
A17: Anno di costruzione | H17: Uso sollevamento persone | K17: Da definire
A18: Prima messa in servizio | H18: Uso forche | K18: Da definire
A19: Ore contatore attuali | H19: Uso benna / pinza / altri | K19: Da definire
A20: Accessorio / configurazione in esame | H20: Presenza stabilizzatori | K20: Da definire
A21: Manuale: codice / revisione | H21: Criteri modello approvati | K21: Da definire
A22: Procedura aziendale / revisione | H22: Riferimento approvazione
H23: 60/30 giorni e 50 ore sono promemoria interni, non termini di legge. I 12/60 mesi sono riferimenti da applicare al caso pertinente.
A24: 03 / LIMITI TECNICI — TRASCRIVERE SOLO DAI DOCUMENTI PERTINENTI
A26: Parametro | D26: Valore / condizione | G26: Unità | H26: Documento / pagina | K26: Validato da | L26: Data
A27: Pneumatici: tipo e pressione | G27: bar / specifica
A28: Usura ammessa forche, perni e componenti | G28: mm / criterio
A29: Pendenza longitudinale per assetto | G29: ° o % (specificare)
A30: Pendenza trasversale per assetto | G30: ° o % (specificare)
A31: Marcia: assetto braccio e accessorio | G31: condizione manuale
A32: Velocità sul percorso | G32: km/h
A33: Vento per configurazione e attività | G33: m/s
A34: Stabilizzatori: aperture e appoggi | G34: m / condizione
A35: Reazioni appoggi e ripartitori | G35: kN / m² / relazione
A36: Settori e campo di rotazione | G36: ° / settore
A37: Diagramma: baricentro e masse incluse | G37: mm / kg / condizione
A38: Persone: numero e massa totale | G38: persone / kg
... A42: Ulteriore limite della macchina/accessorio | G42: specificare
A44: NON INSERIRE LIMITI GENERICI. Il modello non calcola la portata della macchina, le reazioni degli stabilizzatori o la resistenza del terreno. Dati mancanti necessari = attività da non avviare. Le funzioni selezionate non rendono compatibile una combinazione non documentata.

Sheet Checklist
A1: CHECKLIST DI VERIFICA | 230 CONTROLLI
A3: Esiti: C, NC, NV, NA. Registrare evidenza/motivazione, data e verificatore. Gli esiti non sono precompilati.
A4: =IFERROR(HYPERLINK("#'Dashboard'!A1","◀ DASHBOARD"),"◀ DASHBOARD") -> ◀ DASHBOARD | D4: =IFERROR(HYPERLINK("#'Guida'!A1","GUIDA / LEGENDA"),"GUIDA / LEGENDA") -> GUIDA / LEGENDA | G4: =IFERROR(HYPERLINK("#'Azioni'!A1","GESTISCI AZIONI"),"GESTISCI AZIONI") -> GESTISCI AZIONI | J4: =IFERROR(HYPERLINK("#'Catalogo'!A1","CRITERI E FONTI"),"CRITERI E FONTI") -> CRITERI E FONTI
A5: NA richiede motivazione; non sostituisce un dato ignoto. I campi di base non escludibili sono controllati automaticamente. Nessuna checklist sostituisce una verifica periodica di legge.
A7: ID | B7: Ambito / allegato | C7: Requisito e criterio di accettazione | D7: Rilevanza | E7: Esito | F7: Evidenza / motivo NA | G7: Data controllo | H7: Verificatore | I7: Esito iniziale validato | J7: Indicazione conseguente | K7: Piano azione | L7: Esito corrente | M7: Riferimento
A8: A01-01 | B8: Adozione e responsabilità | C8: DVR e documenti del sito coerenti con le attività incluse; riferimenti identificati. | D8: Gestione | I8: =IF(E8="","DA COMPILARE",IF(AND(E8<>"C",E8<>"NC",E8<>"NV",E8<>"NA"),"ESITO NON VALIDO",IF(AND(E8="NA",INDEX(Catalogo!$F$8:$F$237,MATCH(A8,Catalogo!$A$8:$A$237,0))=0),"NA NON AMMESSO",IF(OR(LEN(TRIM(F8))=0,LEN(TRIM(H8))=0,G8=""),"INCOMPLETO",IF(NOT(ISNUMBER(G8)),"DATA NON VALIDA",IF(OR(G8<=0,G8>Anagrafica!$K$8),"DATA NON VALIDA",E8)))))) -> DA COMPILARE | J8: =IF(I8="C","Mantenere il requisito e ripetere il controllo quando necessario.",IF(I8="NA","Esclusione motivata: riesaminare se cambia il perimetro.",IF(I8="NC",INDEX(Catalogo!$H$8:$H$237,MATCH(A8,Catalogo!$A$8:$A$237,0)),IF(I8="NV","Accertamento necessario prima della funzione interessata. "&INDEX(Catalogo!$H$8:$H$237,MATCH(A8,Catalogo!$A$8:$A$237,0)),IF(I8="DA COMPILARE","Eseguire il controllo; non presumere conformità.","Integrare/correggere esito, evidenza, data e verificatore. Nessun via libera."))))) -> Eseguire il controllo; non presumere conformità. | K8: =IFERROR(HYPERLINK("#'Azioni'!A"&(MATCH(A8,Azioni!$A$8:$A$237,0)+7),"Apri "&A8),"Apri "&A8) -> Apri A01-01 | L8: =IF(AND(OR(I8="NC",I8="NV"),INDEX(Azioni!$O$8:$O$237,MATCH(A8,Azioni!$A$8:$A$237,0))="CHIUSA VERIFICATA"),"C dopo riesame",I8) -> DA COMPILARE | M8: PR-CT-01, A01; cap. 01–02, 21–22
A9: A01-02 | B9: Adozione e responsabilità | C9: A02 e manuali completati per ogni macchina; limiti tecnici necessari disponibili. | D9: Gestione | I9: =IF(E9="","DA COMPILARE",IF(AND(E9<>"C",E9<>"NC",E9<>"NV",E9<>"NA"),"ESITO NON VALIDO",IF(AND(E9="NA",INDEX(Catalogo!$F$8:$F$237,MATCH(A9,Catalogo!$A$8:$A$237,0))=0),"NA NON AMMESSO",IF(OR(LEN(TRIM(F9))=0,LEN(TRIM(H9))=0,G9=""),"INCOMPLETO",IF(NOT(ISNUMBER(G9)),"DATA NON VALIDA",IF(OR(G9<=0,G9>Anagrafica!$K$8),"DATA NON VALIDA",E9)))))) -> DA COMPILARE | J9: =IF(I9="C","Mantenere il requisito e ripetere il controllo quando necessario.",IF(I9="NA","Esclusione motivata: riesaminare se cambia il perimetro.",IF(I9="NC",INDEX(Catalogo!$H$8:$H$237,MATCH(A9,Catalogo!$A$8:$A$237,0)),IF(I9="NV","Accertamento necessario prima della funzione interessata. "&INDEX(Catalogo!$H$8:$H$237,MATCH(A9,Catalogo!$A$8:$A$237,0)),IF(I9="DA COMPILARE","Eseguire il controllo; non presumere conformità.","Integrare/correggere esito, evidenza, data e verificatore. Nessun via libera."))))) -> Eseguire il controllo; non presumere conformità. | K9: =IFERROR(HYPERLINK("#'Azioni'!A"&(MATCH(A9,Azioni!$A$8:$A$237,0)+7),"Apri "&A9),"Apri "&A9) -> Apri A01-02 | L9: =IF(AND(OR(I9="NC",I9="NV"),INDEX(Azioni!$O$8:$O$237,MATCH(A9,Azioni!$A$8:$A$237,0))="CHIUSA VERIFICATA"),"C dopo riesame",I9) -> DA COMPILARE | M9: PR-CT-01, A01; cap. 01–02, 21–22
A10: A01-03 | B10: Adozione e responsabilità | C10: Accessori ammessi e operatori autorizzati identificati; funzioni escluse esplicitate. | D10: Gestione | I10: =IF(E10="","DA COMPILARE",IF(AND(E10<>"C",E10<>"NC",E10<>"NV",E10<>"NA"),"ESITO NON VALIDO",IF(AND(E10="NA",INDEX(Catalogo!$F$8:$F$237,MATCH(A10,Catalogo!$A$8:$A$237,0))=0),"NA NON AMMESSO",IF(OR(LEN(TRIM(F10))=0,LEN(TRIM(H10))=0,G10=""),"INCOMPLETO",IF(NOT(ISNUMBER(G10)),"DATA NON VALIDA",IF(OR(G10<=0,G10>Anagrafica!$K$8),"DATA NON VALIDA",E10)))))) -> DA COMPILARE | J10: =IF(I10="C","Mantenere il requisito e ripetere il controllo quando necessario.",IF(I10="NA","Esclusione motivata: riesaminare se cambia il perimetro.",IF(I10="NC",INDEX(Catalogo!$H$8:$H$237,MATCH(A10,Catalogo!$A$8:$A$237,0)),IF(I10="NV","Accertamento necessario prima della funzione interessata. "&INDEX(Catalogo!$H$8:$H$237,MATCH(A10,Catalogo!$A$8:$A$237,0)),IF(I10="DA COMPILARE","Eseguire il controllo; non presumere conformità.","Integrare/correggere esito, evidenza, data e verificatore. Nessun via libera."))))) -> Eseguire il controllo; non presumere conformità. | K10: =IFERROR(HYPERLINK("#'Azioni'!A"&(MATCH(A10,Azioni!$A$8:$A$237,0)+7),"Apri "&A10),"Apri "&A10) -> Apri A01-03 | L10: =IF(AND(OR(I10="NC",I10="NV"),INDEX(Azioni!$O$8:$O$237,MATCH(A10,Azioni!$A$8:$A$237,0))="CHIUSA VERIFICATA"),"C dopo riesame",I10) -> DA COMPILARE | M10: PR-CT-01, A01; cap. 01–02, 21–22
A11: A01-04 | B11: Adozione e responsabilità | C11: Piani per persone / carichi sospesi approvati ove pertinenti; recupero verificato. | D11: Gestione | I11: =IF(E11="","DA COMPILARE",IF(AND(E11<>"C",E11<>"NC",E11<>"NV",E11<>"NA"),"ESITO NON VALIDO",IF(AND(E11="NA",INDEX(Catalogo!$F$8:$F$237,MATCH(A11,Catalogo!$A$8:$A$237,0))=0),"NA NON AMMESSO",IF(OR(LEN(TRIM(F11))=0,LEN(TRIM(H11))=0,G11=""),"INCOMPLETO",IF(NOT(ISNUMBER(G11)),"DATA NON VALIDA",IF(OR(G11<=0,G11>Anagrafica!$K$8),"DATA NON VALIDA",E11)))))) -> DA COMPILARE | J11: =IF(I11="C","Mantenere il requisito e ripetere il controllo quando necessario.",IF(I11="NA","Esclusione motivata: riesaminare se cambia il perimetro.",IF(I11="NC",INDEX(Catalogo!$H$8:$H$237,MATCH(A11,Catalogo!$A$8:$A$237,0)),IF(I11="NV","Accertamento necessario prima della funzione interessata. "&INDEX(Catalogo!$H$8:$H$237,MATCH(A11,Catalogo!$A$8:$A$237,0)),IF(I11="DA COMPILARE","Eseguire il controllo; non presumere conformità.","Integrare/correggere esito, evidenza, data e verificatore. Nessun via libera."))))) -> Eseguire il controllo; non presumere conformità. | K11: =IFERROR(HYPERLINK("#'Azioni'!A"&(MATCH(A11,Azioni!$A$8:$A$237,0)+7),"Apri "&A11),"Apri "&A11) -> Apri A01-04 | L11: =IF(AND(OR(I11="NC",I11="NV"),INDEX(Azioni!$O$8:$O$237,MATCH(A11,Azioni!$A$8:$A$237,0))="CHIUSA VERIFICATA"),"C dopo riesame",I11) -> DA COMPILARE | M11: PR-CT-01, A01; cap. 01–02, 21–22
A12: A01-05 | B12: Adozione e responsabilità | C12: Scadenze, manutenzioni, fermo e ripresa assegnati; modulistica distribuita. | D12: Gestione | I12: =IF(E12="","DA COMPILARE",IF(AND(E12<>"C",E12<>"NC",E12<>"NV",E12<>"NA"),"ESITO NON VALIDO",IF(AND(E12="NA",INDEX(Catalogo!$F$8:$F$237,MATCH(A12,Catalogo!$A$8:$A$237,0))=0),"NA NON AMMESSO",IF(OR(LEN(TRIM(F12))=0,LEN(TRIM(H12))=0,G12=""),"INCOMPLETO",IF(NOT(ISNUMBER(G12)),"DATA NON VALIDA",IF(OR(G12<=0,G12>Anagrafica!$K$8),"DATA NON VALIDA",E12)))))) -> DA COMPILARE | J12: =IF(I12="C","Mantenere il requisito e ripetere il controllo quando necessario.",IF(I12="NA","Esclusione motivata: riesaminare se cambia il perimetro.",IF(I12="NC",INDEX(Catalogo!$H$8:$H$237,MATCH(A12,Catalogo!$A$8:$A$237,0)),IF(I12="NV","Accertamento necessario prima della funzione interessata. "&INDEX(Catalogo!$H$8:$H$237,MATCH(A12,Catalogo!$A$8:$A$237,0)),IF(I12="DA COMPILARE","Eseguire il controllo; non presumere conformità.","Integrare/correggere esito, evidenza, data e verificatore. Nessun via libera."))))) -> Eseguire il controllo; non presumere conformità. | K12: =IFERROR(HYPERLINK("#'Azioni'!A"&(MATCH(A12,Azioni!$A$8:$A$237,0)+7),"Apri "&A12),"Apri "&A12) -> Apri A01-05 | L12: =IF(AND(OR(I12="NC",I12="NV"),INDEX(Azioni!$O$8:$O$237,MATCH(A12,Azioni!$A$8:$A$237,0))="CHIUSA VERIFICATA"),"C dopo riesame",I12) -> DA COMPILARE | M12: PR-CT-01, A01; cap. 01–02, 21–22
A13: A01-06 | B13: Adozione e responsabilità | C13: Perimetro dell'audit, configurazioni escluse e responsabile della decisione identificati. | D13: Gestione | I13: =IF(E13="","DA COMPILARE",IF(AND(E13<>"C",E13<>"NC",E13<>"NV",E13<>"NA"),"ESITO NON VALIDO",IF(AND(E13="NA",INDEX(Catalogo!$F$8:$F$237,MATCH(A13,Catalogo!$A$8:$A$237,0))=0),"NA NON AMMESSO",IF(OR(LEN(TRIM(F13))=0,LEN(TRIM(H13))=0,G13=""),"INCOMPLETO",IF(NOT(ISNUMBER(G13)),"DATA NON VALIDA",IF(OR(G13<=0,G13>Anagrafica!$K$8),"DATA NON VALIDA",E13)))))) -> DA COMPILARE | J13: =IF(I13="C","Mantenere il requisito e ripetere il controllo quando necessario.",IF(I13="NA","Esclusione motivata: riesaminare se cambia il perimetro.",IF(I13="NC",INDEX(Catalogo!$H$8:$H$237,MATCH(A13,Catalogo!$A$8:$A$237,0)),IF(I13="NV","Accertamento necessario prima della funzione interessata. "&INDEX(Catalogo!$H$8:$H$237,MATCH(A13,Catalogo!$A$8:$A$237,0)),IF(I13="DA COMPILARE","Eseguire il controllo; non presumere conformità.","Integrare/correggere esito, evidenza, data e verificatore. Nessun via libera."))))) -> Eseguire il controllo; non presumere conformità. | K13: =IFERROR(HYPERLINK("#'Azioni'!A"&(MATCH(A13,Azioni!$A$8:$A$237,0)+7),"Apri "&A13),"Apri "&A13) -> Apri A01-06 | L13: =IF(AND(OR(I13="NC",I13="NV"),INDEX(Azioni!$O$8:$O$237,MATCH(A13,Azioni!$A$8:$A$237,0))="CHIUSA VERIFICATA"),"C dopo riesame",I13) -> DA COMPILARE | M13: PR-CT-01, A01; cap. 01–02
A14: A01-07 | B14: Adozione e responsabilità | C14: Responsabili, sostituti, recapiti e custodia del fascicolo operativo definiti. | D14: Gestione | I14: =IF(E14="","DA COMPILARE",IF(AND(E14<>"C",E14<>"NC",E14<>"NV",E14<>"NA"),"ESITO NON VALIDO",IF(AND(E14="NA",INDEX(Catalogo!$F$8:$F$237,MATCH(A14,Catalogo!$A$8:$A$237,0))=0),"NA NON AMMESSO",IF(OR(LEN(TRIM(F14))=0,LEN(TRIM(H14))=0,G14=""),"INCOMPLETO",IF(NOT(ISNUMBER(G14)),"DATA NON VALIDA",IF(OR(G14<=0,G14>Anagrafica!$K$8),"DATA NON VALIDA",E14)))))) -> DA COMPILARE | J14: =IF(I14="C","Mantenere il requisito e ripetere il controllo quando necessario.",IF(I14="NA","Esclusione motivata: riesaminare se cambia il perimetro.",IF(I14="NC",INDEX(Catalogo!$H$8:$H$237,MATCH(A14,Catalogo!$A$8:$A$237,0)),IF(I14="NV","Accertamento necessario prima della funzione interessata. "&INDEX(Catalogo!$H$8:$H$237,MATCH(A14,Catalogo!$A$8:$A$237,0)),IF(I14="DA COMPILARE","Eseguire il controllo; non presumere conformità.","Integrare/correggere esito, evidenza, data e verificatore. Nessun via libera."))))) -> Eseguire il controllo; non presumere conformità. | K14: =IFERROR(HYPERLINK("#'Azioni'!A"&(MATCH(A14,Azioni!$A$8:$A$237,0)+7),"Apri "&A14),"Apri "&A14) -> Apri A01-07 | L14: =IF(AND(OR(I14="NC",I14="NV"),INDEX(Azioni!$O$8:$O$237,MATCH(A14,Azioni!$A$8:$A$237,0))="CHIUSA VERIFICATA"),"C dopo riesame",I14) -> DA COMPILARE | M14: PR-CT-01, A01; cap. 02, 21
A15: A02-01 | B15: Identità e limiti tecnici | C15: Targa, numero di fabbrica, modello, anno e matricola corrispondono al fascicolo. | D15: Sicurezza | I15: =IF(E15="","DA COMPILARE",IF(AND(E15<>"C",E15<>"NC",E15<>"NV",E15<>"NA"),"ESITO NON VALIDO",IF(AND(E15="NA",INDEX(Catalogo!$F$8:$F$237,MATCH(A15,Catalogo!$A$8:$A$237,0))=0),"NA NON AMMESSO",IF(OR(LEN(TRIM(F15))=0,LEN(TRIM(H15))=0,G15=""),"INCOMPLETO",IF(NOT(ISNUMBER(G15)),"DATA NON VALIDA",IF(OR(G15<=0,G15>Anagrafica!$K$8),"DATA NON VALIDA",E15)))))) -> DA COMPILARE | J15: =IF(I15="C","Mantenere il requisito e ripetere il controllo quando necessario.",IF(I15="NA","Esclusione motivata: riesaminare se cambia il perimetro.",IF(I15="NC",INDEX(Catalogo!$H$8:$H$237,MATCH(A15,Catalogo!$A$8:$A$237,0)),IF(I15="NV","Accertamento necessario prima della funzione interessata. "&INDEX(Catalogo!$H$8:$H$237,MATCH(A15,Catalogo!$A$8:$A$237,0)),IF(I15="DA COMPILARE","Eseguire il controllo; non presumere conformità.","Integrare/correggere esito, evidenza, data e verificatore. Nessun via libera."))))) -> Eseguire il controllo; non presumere conformità. | K15: =IFERROR(HYPERLINK("#'Azioni'!A"&(MATCH(A15,Azioni!$A$8:$A$237,0)+7),"Apri "&A15),"Apri "&A15) -> Apri A02-01 | L15: =IF(AND(OR(I15="NC",I15="NV"),INDEX(Azioni!$O$8:$O$237,MATCH(A15,Azioni!$A$8:$A$237,0))="CHIUSA VERIFICATA"),"C dopo riesame",I15) -> DA COMPILARE | M15: PR-CT-01, A02; cap. 03–04
A16: A02-02 | B16: Identità e limiti tecnici | C16: Regime di conformità e documentazione della specifica macchina sono identificati. | D16: Sicurezza | I16: =IF(E16="","DA COMPILARE",IF(AND(E16<>"C",E16<>"NC",E16<>"NV",E16<>"NA"),"ESITO NON VALIDO",IF(AND(E16="NA",INDEX(Catalogo!$F$8:$F$237,MATCH(A16,Catalogo!$A$8:$A$237,0))=0),"NA NON AMMESSO",IF(OR(LEN(TRIM(F16))=0,LEN(TRIM(H16))=0,G16=""),"INCOMPLETO",IF(NOT(ISNUMBER(G16)),"DATA NON VALIDA",IF(OR(G16<=0,G16>Anagrafica!$K$8),"DATA NON VALIDA",E16)))))) -> DA COMPILARE | J16: =IF(I16="C","Mantenere il requisito e ripetere il controllo quando necessario.",IF(I16="NA","Esclusione motivata: riesaminare se cambia il perimetro.",IF(I16="NC",INDEX(Catalogo!$H$8:$H$237,MATCH(A16,Catalogo!$A$8:$A$237,0)),IF(I16="NV","Accertamento necessario prima della funzione interessata. "&INDEX(Catalogo!$H$8:$H$237,MATCH(A16,Catalogo!$A$8:$A$237,0)),IF(I16="DA COMPILARE","Eseguire il controllo; non presumere conformità.","Integrare/correggere esito, evidenza, data e verificatore. Nessun via libera."))))) -> Eseguire il controllo; non presumere conformità. | K16: =IFERROR(HYPERLINK("#'Azioni'!A"&(MATCH(A16,Azioni!$A$8:$A$237,0)+7),"Apri "&A16),"Apri "&A16) -> Apri A02-02 | L16: =IF(AND(OR(I16="NC",I16="NV"),INDEX(Azioni!$O$8:$O$237,MATCH(A16,Azioni!$A$8:$A$237,0))="CHIUSA VERIFICATA"),"C dopo riesame",I16) -> DA COMPILARE | M16: PR-CT-01, A02; cap. 04
A17: A02-03 | B17: Identità e limiti tecnici | C17: Manuale: codice, revisione, lingua e ubicazione registrati. | D17: Sicurezza | I17: =IF(E17="","DA COMPILARE",IF(AND(E17<>"C",E17<>"NC",E17<>"NV",E17<>"NA"),"ESITO NON VALIDO",IF(AND(E17="NA",INDEX(Catalogo!$F$8:$F$237,MATCH(A17,Catalogo!$A$8:$A$237,0))=0),"NA NON AMMESSO",IF(OR(LEN(TRIM(F17))=0,LEN(TRIM(H17))=0,G17=""),"INCOMPLETO",IF(NOT(ISNUMBER(G17)),"DATA NON VALIDA",IF(OR(G17<=0,G17>Anagrafica!$K$8),"DATA NON VALIDA",E17)))))) -> DA COMPILARE | J17: =IF(I17="C","Mantenere il requisito e ripetere il controllo quando necessario.",IF(I17="NA","Esclusione motivata: riesaminare se cambia il perimetro.",IF(I17="NC",INDEX(Catalogo!$H$8:$H$237,MATCH(A17,Catalogo!$A$8:$A$237,0)),IF(I17="NV","Accertamento necessario prima della funzione interessata. "&INDEX(Catalogo!$H$8:$H$237,MATCH(A17,Catalogo!$A$8:$A$237,0)),IF(I17="DA COMPILARE","Eseguire il controllo; non presumere conformità.","Integrare/correggere esito, evidenza, data e verificatore. Nessun via libera."))))) -> Eseguire il controllo; non presumere conformità. | K17: =IFERROR(HYPERLINK("#'Azioni'!A"&(MATCH(A17,Azioni!$A$8:$A$237,0)+7),"Apri "&A17),"Apri "&A17) -> Apri A02-03 | L17: =IF(AND(OR(I17="NC",I17="NV"),INDEX(Azioni!$O$8:$O$237,MATCH(A17,Azioni!$A$8:$A$237,0))="CHIUSA VERIFICATA"),"C dopo riesame",I17) -> DA COMPILARE | M17: PR-CT-01, A02; cap. 03–04
A18: A02-04 | B18: Identità e limiti tecnici | C18: Le combinazioni ammesse e i relativi diagrammi sono censiti. | D18: Sicurezza | I18: =IF(E18="","DA COMPILARE",IF(AND(E18<>"C",E18<>"NC",E18<>"NV",E18<>"NA"),"ESITO NON VALIDO",IF(AND(E18="NA",INDEX(Catalogo!$F$8:$F$237,MATCH(A18,Catalogo!$A$8:$A$237,0))=0),"NA NON AMMESSO",IF(OR(LEN(TRIM(F18))=0,LEN(TRIM(H18))=0,G18=""),"INCOMPLETO",IF(NOT(ISNUMBER(G18)),"DATA NON VALIDA",IF(OR(G18<=0,G18>Anagrafica!$K$8),"DATA NON VALIDA",E18)))))) -> DA COMPILARE | J18: =IF(I18="C","Mantenere il requisito e ripetere il controllo quando necessario.",IF(I18="NA","Esclusione motivata: riesaminare se cambia il perimetro.",IF(I18="NC",INDEX(Catalogo!$H$8:$H$237,MATCH(A18,Catalogo!$A$8:$A$237,0)),IF(I18="NV","Accertamento necessario prima della funzione interessata. "&INDEX(Catalogo!$H$8:$H$237,MATCH(A18,Catalogo!$A$8:$A$237,0)),IF(I18="DA COMPILARE","Eseguire il controllo; non presumere conformità.","Integrare/correggere esito, evidenza, data e verificatore. Nessun via libera."))))) -> Eseguire il controllo; non presumere conformità. | K18: =IFERROR(HYPERLINK("#'Azioni'!A"&(MATCH(A18,Azioni!$A$8:$A$237,0)+7),"Apri "&A18),"Apri "&A18) -> Apri A02-04 | L18: =IF(AND(OR(I18="NC",I18="NV"),INDEX(Azioni!$O$8:$O$237,MATCH(A18,Azioni!$A$8:$A$237,0))="CHIUSA VERIFICATA"),"C dopo riesame",I18) -> DA COMPILARE | M18: PR-CT-01, A02; cap. 03, 07
A19: A02-05 | B19: Identità e limiti tecnici | C19: Documentati valore/condizione e fonte specifica per: Pressioni, tipo e limiti pneumatici. | D19: Sicurezza | I19: =IF(E19="","DA COMPILARE",IF(AND(E19<>"C",E19<>"NC",E19<>"NV",E19<>"NA"),"ESITO NON VALIDO",IF(AND(E19="NA",INDEX(Catalogo!$F$8:$F$237,MATCH(A19,Catalogo!$A$8:$A$237,0))=0),"NA NON AMMESSO",IF(OR(LEN(TRIM(F19))=0,LEN(TRIM(H19))=0,G19=""),"INCOMPLETO",IF(NOT(ISNUMBER(G19)),"DATA NON VALIDA",IF(OR(G19<=0,G19>Anagrafica!$K$8),"DATA NON VALIDA",E19)))))) -> DA COMPILARE | J19: =IF(I19="C","Mantenere il requisito e ripetere il controllo quando necessario.",IF(I19="NA","Esclusione motivata: riesaminare se cambia il perimetro.",IF(I19="NC",INDEX(Catalogo!$H$8:$H$237,MATCH(A19,Catalogo!$A$8:$A$237,0)),IF(I19="NV","Accertamento necessario prima della funzione interessata. "&INDEX(Catalogo!$H$8:$H$237,MATCH(A19,Catalogo!$A$8:$A$237,0)),IF(I19="DA COMPILARE","Eseguire il controllo; non presumere conformità.","Integrare/correggere esito, evidenza, data e verificatore. Nessun via libera."))))) -> Eseguire il controllo; non presumere conformità. | K19: =IFERROR(HYPERLINK("#'Azioni'!A"&(MATCH(A19,Azioni!$A$8:$A$237,0)+7),"Apri "&A19),"Apri "&A19) -> Apri A02-05 | L19: =IF(AND(OR(I19="NC",I19="NV"),INDEX(Azioni!$O$8:$O$237,MATCH(A19,Azioni!$A$8:$A$237,0))="CHIUSA VERIFICATA"),"C dopo riesame",I19) -> DA COMPILARE | M19: PR-CT-01, A02; cap. 03, 06–08, 11, 15
... A237: A24-07 | B237: Distribuzione e riesame | C237: Conservazione, accessi e correzioni delle registrazioni sono disciplinati senza firme retroattive. | D237: Gestione | I237: =IF(E237="","DA COMPILARE",IF(AND(E237<>"C",E237<>"NC",E237<>"NV",E237<>"NA"),"ESITO NON VALIDO",IF(AND(E237="NA",INDEX(Catalogo!$F$8:$F$237,MATCH(A237,Catalogo!$A$8:$A$237,0))=0),"NA NON AMMESSO",IF(OR(LEN(TRIM(F237))=0,LEN(TRIM(H237))=0,G237=""),"INCOMPLETO",IF(NOT(ISNUMBER(G237)),"DATA NON VALIDA",IF(OR(G237<=0,G237>Anagrafica!$K$8),"DATA NON VALIDA",E237)))))) -> DA COMPILARE | J237: =IF(I237="C","Mantenere il requisito e ripetere il controllo quando necessario.",IF(I237="NA","Esclusione motivata: riesaminare se cambia il perimetro.",IF(I237="NC",INDEX(Catalogo!$H$8:$H$237,MATCH(A237,Catalogo!$A$8:$A$237,0)),IF(I237="NV","Accertamento necessario prima della funzione interessata. "&INDEX(Catalogo!$H$8:$H$237,MATCH(A237,Catalogo!$A$8:$A$237,0)),IF(I237="DA COMPILARE","Eseguire il controllo; non presumere conformità.","Integrare/correggere esito, evidenza, data e verificatore. Nessun via libera."))))) -> Eseguire il controllo; non presumere conformità. | K237: =IFERROR(HYPERLINK("#'Azioni'!A"&(MATCH(A237,Azioni!$A$8:$A$237,0)+7),"Apri "&A237),"Apri "&A237) -> Apri A24-07 | L237: =IF(AND(OR(I237="NC",I237="NV"),INDEX(Azioni!$O$8:$O$237,MATCH(A237,Azioni!$A$8:$A$237,0))="CHIUSA VERIFICATA"),"C dopo riesame",I237) -> DA COMPILARE | M237: PR-CT-01, A24; cap. 21

Sheet Azioni
A1: AZIONI CORRETTIVE | RIPRISTINO E RIESAME
A3: Il rilievo iniziale resta tracciato. La sola selezione «Chiusa» non modifica l'esito corrente.
A4: =IFERROR(HYPERLINK("#'Dashboard'!A1","◀ DASHBOARD"),"◀ DASHBOARD") -> ◀ DASHBOARD | D4: =IFERROR(HYPERLINK("#'Guida'!A1","GUIDA / LEGENDA"),"GUIDA / LEGENDA") -> GUIDA / LEGENDA
A7: ID controllo | B7: Ambito | C7: Esito iniziale | D7: Rilevanza | E7: Azione proposta | F7: Azione decisa | G7: Responsabile | H7: Data apertura | I7: Termine | J7: Stato lavorazione | K7: Evidenza ripristino | L7: Verificatore efficacia | M7: Data chiusura | N7: Esito riesame | O7: Stato validato | P7: Allerta termine | Q7: Giorni residui
A8: A01-01 | B8: =INDEX(Checklist!$B$8:$B$237,MATCH(A8,Checklist!$A$8:$A$237,0)) -> Adozione e responsabilità | C8: =INDEX(Checklist!$I$8:$I$237,MATCH(A8,Checklist!$A$8:$A$237,0)) -> DA COMPILARE | D8: =INDEX(Checklist!$D$8:$D$237,MATCH(A8,Checklist!$A$8:$A$237,0)) -> Gestione | E8: =IF(OR(C8="NC",C8="NV"),INDEX(Catalogo!$H$8:$H$237,MATCH(A8,Catalogo!$A$8:$A$237,0)),"") | O8: =IF(NOT(OR(C8="NC",C8="NV")),IF(COUNTA(F8:N8)=0,"NON RICHIESTA","VERIFICARE COLLEGAMENTO"),IF(J8="Chiusa",IF(AND(F8<>"",G8<>"",ISNUMBER(H8),ISNUMBER(I8),K8<>"",L8<>"",ISNUMBER(M8),N8="C",H8>0,I8>=H8,M8>=H8,M8>=INDEX(Checklist!$G$8:$G$237,MATCH(A8,Checklist!$A$8:$A$237,0)),H8<=Anagrafica!$K$8,M8<=Anagrafica!$K$8),"CHIUSA VERIFICATA","CHIUSURA INCOMPLETA"),IF(OR(F8="",G8="",H8="",I8="",J8=""),"DA COMPLETARE",IF(OR(NOT(ISNUMBER(H8)),NOT(ISNUMBER(I8)),H8<=0,I8<H8,H8>Anagrafica!$K$8),"DATI NON VALIDI","APERTA")))) -> NON RICHIESTA | P8: =IF(NOT(OR(C8="NC",C8="NV")),"",IF(O8="CHIUSA VERIFICATA","CHIUSA",IF(I8="","TERMINE MANCANTE",IF(NOT(ISNUMBER(I8)),"DATA NON VALIDA",IF(I8<Anagrafica!$K$8,"SCADUTA",IF(I8=Anagrafica!$K$8,"SCADENZA OGGI",IF(I8-Anagrafica!$K$8<=Anagrafica!$K$11,"IN SCADENZA","PIANIFICATA"))))))) | Q8: =IF(AND(OR(C8="NC",C8="NV"),ISNUMBER(I8),O8<>"CHIUSA VERIFICATA"),I8-Anagrafica!$K$8,"")
A9: A01-02 | B9: =INDEX(Checklist!$B$8:$B$237,MATCH(A9,Checklist!$A$8:$A$237,0)) -> Adozione e responsabilità | C9: =INDEX(Checklist!$I$8:$I$237,MATCH(A9,Checklist!$A$8:$A$237,0)) -> DA COMPILARE | D9: =INDEX(Checklist!$D$8:$D$237,MATCH(A9,Checklist!$A$8:$A$237,0)) -> Gestione | E9: =IF(OR(C9="NC",C9="NV"),INDEX(Catalogo!$H$8:$H$237,MATCH(A9,Catalogo!$A$8:$A$237,0)),"") | O9: =IF(NOT(OR(C9="NC",C9="NV")),IF(COUNTA(F9:N9)=0,"NON RICHIESTA","VERIFICARE COLLEGAMENTO"),IF(J9="Chiusa",IF(AND(F9<>"",G9<>"",ISNUMBER(H9),ISNUMBER(I9),K9<>"",L9<>"",ISNUMBER(M9),N9="C",H9>0,I9>=H9,M9>=H9,M9>=INDEX(Checklist!$G$8:$G$237,MATCH(A9,Checklist!$A$8:$A$237,0)),H9<=Anagrafica!$K$8,M9<=Anagrafica!$K$8),"CHIUSA VERIFICATA","CHIUSURA INCOMPLETA"),IF(OR(F9="",G9="",H9="",I9="",J9=""),"DA COMPLETARE",IF(OR(NOT(ISNUMBER(H9)),NOT(ISNUMBER(I9)),H9<=0,I9<H9,H9>Anagrafica!$K$8),"DATI NON VALIDI","APERTA")))) -> NON RICHIESTA | P9: =IF(NOT(OR(C9="NC",C9="NV")),"",IF(O9="CHIUSA VERIFICATA","CHIUSA",IF(I9="","TERMINE MANCANTE",IF(NOT(ISNUMBER(I9)),"DATA NON VALIDA",IF(I9<Anagrafica!$K$8,"SCADUTA",IF(I9=Anagrafica!$K$8,"SCADENZA OGGI",IF(I9-Anagrafica!$K$8<=Anagrafica!$K$11,"IN SCADENZA","PIANIFICATA"))))))) | Q9: =IF(AND(OR(C9="NC",C9="NV"),ISNUMBER(I9),O9<>"CHIUSA VERIFICATA"),I9-Anagrafica!$K$8,"")
A10: A01-03 | B10: =INDEX(Checklist!$B$8:$B$237,MATCH(A10,Checklist!$A$8:$A$237,0)) -> Adozione e responsabilità | C10: =INDEX(Checklist!$I$8:$I$237,MATCH(A10,Checklist!$A$8:$A$237,0)) -> DA COMPILARE | D10: =INDEX(Checklist!$D$8:$D$237,MATCH(A10,Checklist!$A$8:$A$237,0)) -> Gestione | E10: =IF(OR(C10="NC",C10="NV"),INDEX(Catalogo!$H$8:$H$237,MATCH(A10,Catalogo!$A$8:$A$237,0)),"") | O10: =IF(NOT(OR(C10="NC",C10="NV")),IF(COUNTA(F10:N10)=0,"NON RICHIESTA","VERIFICARE COLLEGAMENTO"),IF(J10="Chiusa",IF(AND(F10<>"",G10<>"",ISNUMBER(H10),ISNUMBER(I10),K10<>"",L10<>"",ISNUMBER(M10),N10="C",H10>0,I10>=H10,M10>=H10,M10>=INDEX(Checklist!$G$8:$G$237,MATCH(A10,Checklist!$A$8:$A$237,0)),H10<=Anagrafica!$K$8,M10<=Anagrafica!$K$8),"CHIUSA VERIFICATA","CHIUSURA INCOMPLETA"),IF(OR(F10="",G10="",H10="",I10="",J10=""),"DA COMPLETARE",IF(OR(NOT(ISNUMBER(H10)),NOT(ISNUMBER(I10)),H10<=0,I10<H10,H10>Anagrafica!$K$8),"DATI NON VALIDI","APERTA")))) -> NON RICHIESTA | P10: =IF(NOT(OR(C10="NC",C10="NV")),"",IF(O10="CHIUSA VERIFICATA","CHIUSA",IF(I10="","TERMINE MANCANTE",IF(NOT(ISNUMBER(I10)),"DATA NON VALIDA",IF(I10<Anagrafica!$K$8,"SCADUTA",IF(I10=Anagrafica!$K$8,"SCADENZA OGGI",IF(I10-Anagrafica!$K$8<=Anagrafica!$K$11,"IN SCADENZA","PIANIFICATA"))))))) | Q10: =IF(AND(OR(C10="NC",C10="NV"),ISNUMBER(I10),O10<>"CHIUSA VERIFICATA"),I10-Anagrafica!$K$8,"")
A11: A01-04 | B11: =INDEX(Checklist!$B$8:$B$237,MATCH(A11,Checklist!$A$8:$A$237,0)) -> Adozione e responsabilità | C11: =INDEX(Checklist!$I$8:$I$237,MATCH(A11,Checklist!$A$8:$A$237,0)) -> DA COMPILARE | D11: =INDEX(Checklist!$D$8:$D$237,MATCH(A11,Checklist!$A$8:$A$237,0)) -> Gestione | E11: =IF(OR(C11="NC",C11="NV"),INDEX(Catalogo!$H$8:$H$237,MATCH(A11,Catalogo!$A$8:$A$237,0)),"") | O11: =IF(NOT(OR(C11="NC",C11="NV")),IF(COUNTA(F11:N11)=0,"NON RICHIESTA","VERIFICARE COLLEGAMENTO"),IF(J11="Chiusa",IF(AND(F11<>"",G11<>"",ISNUMBER(H11),ISNUMBER(I11),K11<>"",L11<>"",ISNUMBER(M11),N11="C",H11>0,I11>=H11,M11>=H11,M11>=INDEX(Checklist!$G$8:$G$237,MATCH(A11,Checklist!$A$8:$A$237,0)),H11<=Anagrafica!$K$8,M11<=Anagrafica!$K$8),"CHIUSA VERIFICATA","CHIUSURA INCOMPLETA"),IF(OR(F11="",G11="",H11="",I11="",J11=""),"DA COMPLETARE",IF(OR(NOT(ISNUMBER(H11)),NOT(ISNUMBER(I11)),H11<=0,I11<H11,H11>Anagrafica!$K$8),"DATI NON VALIDI","APERTA")))) -> NON RICHIESTA | P11: =IF(NOT(OR(C11="NC",C11="NV")),"",IF(O11="CHIUSA VERIFICATA","CHIUSA",IF(I11="","TERMINE MANCANTE",IF(NOT(ISNUMBER(I11)),"DATA NON VALIDA",IF(I11<Anagrafica!$K$8,"SCADUTA",IF(I11=Anagrafica!$K$8,"SCADENZA OGGI",IF(I11-Anagrafica!$K$8<=Anagrafica!$K$11,"IN SCADENZA","PIANIFICATA"))))))) | Q11: =IF(AND(OR(C11="NC",C11="NV"),ISNUMBER(I11),O11<>"CHIUSA VERIFICATA"),I11-Anagrafica!$K$8,"")
A12: A01-05 | B12: =INDEX(Checklist!$B$8:$B$237,MATCH(A12,Checklist!$A$8:$A$237,0)) -> Adozione e responsabilità | C12: =INDEX(Checklist!$I$8:$I$237,MATCH(A12,Checklist!$A$8:$A$237,0)) -> DA COMPILARE | D12: =INDEX(Checklist!$D$8:$D$237,MATCH(A12,Checklist!$A$8:$A$237,0)) -> Gestione | E12: =IF(OR(C12="NC",C12="NV"),INDEX(Catalogo!$H$8:$H$237,MATCH(A12,Catalogo!$A$8:$A$237,0)),"") | O12: =IF(NOT(OR(C12="NC",C12="NV")),IF(COUNTA(F12:N12)=0,"NON RICHIESTA","VERIFICARE COLLEGAMENTO"),IF(J12="Chiusa",IF(AND(F12<>"",G12<>"",ISNUMBER(H12),ISNUMBER(I12),K12<>"",L12<>"",ISNUMBER(M12),N12="C",H12>0,I12>=H12,M12>=H12,M12>=INDEX(Checklist!$G$8:$G$237,MATCH(A12,Checklist!$A$8:$A$237,0)),H12<=Anagrafica!$K$8,M12<=Anagrafica!$K$8),"CHIUSA VERIFICATA","CHIUSURA INCOMPLETA"),IF(OR(F12="",G12="",H12="",I12="",J12=""),"DA COMPLETARE",IF(OR(NOT(ISNUMBER(H12)),NOT(ISNUMBER(I12)),H12<=0,I12<H12,H12>Anagrafica!$K$8),"DATI NON VALIDI","APERTA")))) -> NON RICHIESTA | P12: =IF(NOT(OR(C12="NC",C12="NV")),"",IF(O12="CHIUSA VERIFICATA","CHIUSA",IF(I12="","TERMINE MANCANTE",IF(NOT(ISNUMBER(I12)),"DATA NON VALIDA",IF(I12<Anagrafica!$K$8,"SCADUTA",IF(I12=Anagrafica!$K$8,"SCADENZA OGGI",IF(I12-Anagrafica!$K$8<=Anagrafica!$K$11,"IN SCADENZA","PIANIFICATA"))))))) | Q12: =IF(AND(OR(C12="NC",C12="NV"),ISNUMBER(I12),O12<>"CHIUSA VERIFICATA"),I12-Anagrafica!$K$8,"")
A13: A01-06 | B13: =INDEX(Checklist!$B$8:$B$237,MATCH(A13,Checklist!$A$8:$A$237,0)) -> Adozione e responsabilità | C13: =INDEX(Checklist!$I$8:$I$237,MATCH(A13,Checklist!$A$8:$A$237,0)) -> DA COMPILARE | D13: =INDEX(Checklist!$D$8:$D$237,MATCH(A13,Checklist!$A$8:$A$237,0)) -> Gestione | E13: =IF(OR(C13="NC",C13="NV"),INDEX(Catalogo!$H$8:$H$237,MATCH(A13,Catalogo!$A$8:$A$237,0)),"") | O13: =IF(NOT(OR(C13="NC",C13="NV")),IF(COUNTA(F13:N13)=0,"NON RICHIESTA","VERIFICARE COLLEGAMENTO"),IF(J13="Chiusa",IF(AND(F13<>"",G13<>"",ISNUMBER(H13),ISNUMBER(I13),K13<>"",L13<>"",ISNUMBER(M13),N13="C",H13>0,I13>=H13,M13>=H13,M13>=INDEX(Checklist!$G$8:$G$237,MATCH(A13,Checklist!$A$8:$A$237,0)),H13<=Anagrafica!$K$8,M13<=Anagrafica!$K$8),"CHIUSA VERIFICATA","CHIUSURA INCOMPLETA"),IF(OR(F13="",G13="",H13="",I13="",J13=""),"DA COMPLETARE",IF(OR(NOT(ISNUMBER(H13)),NOT(ISNUMBER(I13)),H13<=0,I13<H13,H13>Anagrafica!$K$8),"DATI NON VALIDI","APERTA")))) -> NON RICHIESTA | P13: =IF(NOT(OR(C13="NC",C13="NV")),"",IF(O13="CHIUSA VERIFICATA","CHIUSA",IF(I13="","TERMINE MANCANTE",IF(NOT(ISNUMBER(I13)),"DATA NON VALIDA",IF(I13<Anagrafica!$K$8,"SCADUTA",IF(I13=Anagrafica!$K$8,"SCADENZA OGGI",IF(I13-Anagrafica!$K$8<=Anagrafica!$K$11,"IN SCADENZA","PIANIFICATA"))))))) | Q13: =IF(AND(OR(C13="NC",C13="NV"),ISNUMBER(I13),O13<>"CHIUSA VERIFICATA"),I13-Anagrafica!$K$8,"")
A14: A01-07 | B14: =INDEX(Checklist!$B$8:$B$237,MATCH(A14,Checklist!$A$8:$A$237,0)) -> Adozione e responsabilità | C14: =INDEX(Checklist!$I$8:$I$237,MATCH(A14,Checklist!$A$8:$A$237,0)) -> DA COMPILARE | D14: =INDEX(Checklist!$D$8:$D$237,MATCH(A14,Checklist!$A$8:$A$237,0)) -> Gestione | E14: =IF(OR(C14="NC",C14="NV"),INDEX(Catalogo!$H$8:$H$237,MATCH(A14,Catalogo!$A$8:$A$237,0)),"") | O14: =IF(NOT(OR(C14="NC",C14="NV")),IF(COUNTA(F14:N14)=0,"NON RICHIESTA","VERIFICARE COLLEGAMENTO"),IF(J14="Chiusa",IF(AND(F14<>"",G14<>"",ISNUMBER(H14),ISNUMBER(I14),K14<>"",L14<>"",ISNUMBER(M14),N14="C",H14>0,I14>=H14,M14>=H14,M14>=INDEX(Checklist!$G$8:$G$237,MATCH(A14,Checklist!$A$8:$A$237,0)),H14<=Anagrafica!$K$8,M14<=Anagrafica!$K$8),"CHIUSA VERIFICATA","CHIUSURA INCOMPLETA"),IF(OR(F14="",G14="",H14="",I14="",J14=""),"DA COMPLETARE",IF(OR(NOT(ISNUMBER(H14)),NOT(ISNUMBER(I14)),H14<=0,I14<H14,H14>Anagrafica!$K$8),"DATI NON VALIDI","APERTA")))) -> NON RICHIESTA | P14: =IF(NOT(OR(C14="NC",C14="NV")),"",IF(O14="CHIUSA VERIFICATA","CHIUSA",IF(I14="","TERMINE MANCANTE",IF(NOT(ISNUMBER(I14)),"DATA NON VALIDA",IF(I14<Anagrafica!$K$8,"SCADUTA",IF(I14=Anagrafica!$K$8,"SCADENZA OGGI",IF(I14-Anagrafica!$K$8<=Anagrafica!$K$11,"IN SCADENZA","PIANIFICATA"))))))) | Q14: =IF(AND(OR(C14="NC",C14="NV"),ISNUMBER(I14),O14<>"CHIUSA VERIFICATA"),I14-Anagrafica!$K$8,"")
A15: A02-01 | B15: =INDEX(Checklist!$B$8:$B$237,MATCH(A15,Checklist!$A$8:$A$237,0)) -> Identità e limiti tecnici | C15: =INDEX(Checklist!$I$8:$I$237,MATCH(A15,Checklist!$A$8:$A$237,0)) -> DA COMPILARE | D15: =INDEX(Checklist!$D$8:$D$237,MATCH(A15,Checklist!$A$8:$A$237,0)) -> Sicurezza | E15: =IF(OR(C15="NC",C15="NV"),INDEX(Catalogo!$H$8:$H$237,MATCH(A15,Catalogo!$A$8:$A$237,0)),"") | O15: =IF(NOT(OR(C15="NC",C15="NV")),IF(COUNTA(F15:N15)=0,"NON RICHIESTA","VERIFICARE COLLEGAMENTO"),IF(J15="Chiusa",IF(AND(F15<>"",G15<>"",ISNUMBER(H15),ISNUMBER(I15),K15<>"",L15<>"",ISNUMBER(M15),N15="C",H15>0,I15>=H15,M15>=H15,M15>=INDEX(Checklist!$G$8:$G$237,MATCH(A15,Checklist!$A$8:$A$237,0)),H15<=Anagrafica!$K$8,M15<=Anagrafica!$K$8),"CHIUSA VERIFICATA","CHIUSURA INCOMPLETA"),IF(OR(F15="",G15="",H15="",I15="",J15=""),"DA COMPLETARE",IF(OR(NOT(ISNUMBER(H15)),NOT(ISNUMBER(I15)),H15<=0,I15<H15,H15>Anagrafica!$K$8),"DATI NON VALIDI","APERTA")))) -> NON RICHIESTA | P15: =IF(NOT(OR(C15="NC",C15="NV")),"",IF(O15="CHIUSA VERIFICATA","CHIUSA",IF(I15="","TERMINE MANCANTE",IF(NOT(ISNUMBER(I15)),"DATA NON VALIDA",IF(I15<Anagrafica!$K$8,"SCADUTA",IF(I15=Anagrafica!$K$8,"SCADENZA OGGI",IF(I15-Anagrafica!$K$8<=Anagrafica!$K$11,"IN SCADENZA","PIANIFICATA"))))))) | Q15: =IF(AND(OR(C15="NC",C15="NV"),ISNUMBER(I15),O15<>"CHIUSA VERIFICATA"),I15-Anagrafica!$K$8,"")
A16: A02-02 | B16: =INDEX(Checklist!$B$8:$B$237,MATCH(A16,Checklist!$A$8:$A$237,0)) -> Identità e limiti tecnici | C16: =INDEX(Checklist!$I$8:$I$237,MATCH(A16,Checklist!$A$8:$A$237,0)) -> DA COMPILARE | D16: =INDEX(Checklist!$D$8:$D$237,MATCH(A16,Checklist!$A$8:$A$237,0)) -> Sicurezza | E16: =IF(OR(C16="NC",C16="NV"),INDEX(Catalogo!$H$8:$H$237,MATCH(A16,Catalogo!$A$8:$A$237,0)),"") | O16: =IF(NOT(OR(C16="NC",C16="NV")),IF(COUNTA(F16:N16)=0,"NON RICHIESTA","VERIFICARE COLLEGAMENTO"),IF(J16="Chiusa",IF(AND(F16<>"",G16<>"",ISNUMBER(H16),ISNUMBER(I16),K16<>"",L16<>"",ISNUMBER(M16),N16="C",H16>0,I16>=H16,M16>=H16,M16>=INDEX(Checklist!$G$8:$G$237,MATCH(A16,Checklist!$A$8:$A$237,0)),H16<=Anagrafica!$K$8,M16<=Anagrafica!$K$8),"CHIUSA VERIFICATA","CHIUSURA INCOMPLETA"),IF(OR(F16="",G16="",H16="",I16="",J16=""),"DA COMPLETARE",IF(OR(NOT(ISNUMBER(H16)),NOT(ISNUMBER(I16)),H16<=0,I16<H16,H16>Anagrafica!$K$8),"DATI NON VALIDI","APERTA")))) -> NON RICHIESTA | P16: =IF(NOT(OR(C16="NC",C16="NV")),"",IF(O16="CHIUSA VERIFICATA","CHIUSA",IF(I16="","TERMINE MANCANTE",IF(NOT(ISNUMBER(I16)),"DATA NON VALIDA",IF(I16<Anagrafica!$K$8,"SCADUTA",IF(I16=Anagrafica!$K$8,"SCADENZA OGGI",IF(I16-Anagrafica!$K$8<=Anagrafica!$K$11,"IN SCADENZA","PIANIFICATA"))))))) | Q16: =IF(AND(OR(C16="NC",C16="NV"),ISNUMBER(I16),O16<>"CHIUSA VERIFICATA"),I16-Anagrafica!$K$8,"")
A17: A02-03 | B17: =INDEX(Checklist!$B$8:$B$237,MATCH(A17,Checklist!$A$8:$A$237,0)) -> Identità e limiti tecnici | C17: =INDEX(Checklist!$I$8:$I$237,MATCH(A17,Checklist!$A$8:$A$237,0)) -> DA COMPILARE | D17: =INDEX(Checklist!$D$8:$D$237,MATCH(A17,Checklist!$A$8:$A$237,0)) -> Sicurezza | E17: =IF(OR(C17="NC",C17="NV"),INDEX(Catalogo!$H$8:$H$237,MATCH(A17,Catalogo!$A$8:$A$237,0)),"") | O17: =IF(NOT(OR(C17="NC",C17="NV")),IF(COUNTA(F17:N17)=0,"NON RICHIESTA","VERIFICARE COLLEGAMENTO"),IF(J17="Chiusa",IF(AND(F17<>"",G17<>"",ISNUMBER(H17),ISNUMBER(I17),K17<>"",L17<>"",ISNUMBER(M17),N17="C",H17>0,I17>=H17,M17>=H17,M17>=INDEX(Checklist!$G$8:$G$237,MATCH(A17,Checklist!$A$8:$A$237,0)),H17<=Anagrafica!$K$8,M17<=Anagrafica!$K$8),"CHIUSA VERIFICATA","CHIUSURA INCOMPLETA"),IF(OR(F17="",G17="",H17="",I17="",J17=""),"DA COMPLETARE",IF(OR(NOT(ISNUMBER(H17)),NOT(ISNUMBER(I17)),H17<=0,I17<H17,H17>Anagrafica!$K$8),"DATI NON VALIDI","APERTA")))) -> NON RICHIESTA | P17: =IF(NOT(OR(C17="NC",C17="NV")),"",IF(O17="CHIUSA VERIFICATA","CHIUSA",IF(I17="","TERMINE MANCANTE",IF(NOT(ISNUMBER(I17)),"DATA NON VALIDA",IF(I17<Anagrafica!$K$8,"SCADUTA",IF(I17=Anagrafica!$K$8,"SCADENZA OGGI",IF(I17-Anagrafica!$K$8<=Anagrafica!$K$11,"IN SCADENZA","PIANIFICATA"))))))) | Q17: =IF(AND(OR(C17="NC",C17="NV"),ISNUMBER(I17),O17<>"CHIUSA VERIFICATA"),I17-Anagrafica!$K$8,"")
A18: A02-04 | B18: =INDEX(Checklist!$B$8:$B$237,MATCH(A18,Checklist!$A$8:$A$237,0)) -> Identità e limiti tecnici | C18: =INDEX(Checklist!$I$8:$I$237,MATCH(A18,Checklist!$A$8:$A$237,0)) -> DA COMPILARE | D18: =INDEX(Checklist!$D$8:$D$237,MATCH(A18,Checklist!$A$8:$A$237,0)) -> Sicurezza | E18: =IF(OR(C18="NC",C18="NV"),INDEX(Catalogo!$H$8:$H$237,MATCH(A18,Catalogo!$A$8:$A$237,0)),"") | O18: =IF(NOT(OR(C18="NC",C18="NV")),IF(COUNTA(F18:N18)=0,"NON RICHIESTA","VERIFICARE COLLEGAMENTO"),IF(J18="Chiusa",IF(AND(F18<>"",G18<>"",ISNUMBER(H18),ISNUMBER(I18),K18<>"",L18<>"",ISNUMBER(M18),N18="C",H18>0,I18>=H18,M18>=H18,M18>=INDEX(Checklist!$G$8:$G$237,MATCH(A18,Checklist!$A$8:$A$237,0)),H18<=Anagrafica!$K$8,M18<=Anagrafica!$K$8),"CHIUSA VERIFICATA","CHIUSURA INCOMPLETA"),IF(OR(F18="",G18="",H18="",I18="",J18=""),"DA COMPLETARE",IF(OR(NOT(ISNUMBER(H18)),NOT(ISNUMBER(I18)),H18<=0,I18<H18,H18>Anagrafica!$K$8),"DATI NON VALIDI","APERTA")))) -> NON RICHIESTA | P18: =IF(NOT(OR(C18="NC",C18="NV")),"",IF(O18="CHIUSA VERIFICATA","CHIUSA",IF(I18="","TERMINE MANCANTE",IF(NOT(ISNUMBER(I18)),"DATA NON VALIDA",IF(I18<Anagrafica!$K$8,"SCADUTA",IF(I18=Anagrafica!$K$8,"SCADENZA OGGI",IF(I18-Anagrafica!$K$8<=Anagrafica!$K$11,"IN SCADENZA","PIANIFICATA"))))))) | Q18: =IF(AND(OR(C18="NC",C18="NV"),ISNUMBER(I18),O18<>"CHIUSA VERIFICATA"),I18-Anagrafica!$K$8,"")
A19: A02-05 | B19: =INDEX(Checklist!$B$8:$B$237,MATCH(A19,Checklist!$A$8:$A$237,0)) -> Identità e limiti tecnici | C19: =INDEX(Checklist!$I$8:$I$237,MATCH(A19,Checklist!$A$8:$A$237,0)) -> DA COMPILARE | D19: =INDEX(Checklist!$D$8:$D$237,MATCH(A19,Checklist!$A$8:$A$237,0)) -> Sicurezza | E19: =IF(OR(C19="NC",C19="NV"),INDEX(Catalogo!$H$8:$H$237,MATCH(A19,Catalogo!$A$8:$A$237,0)),"") | O19: =IF(NOT(OR(C19="NC",C19="NV")),IF(COUNTA(F19:N19)=0,"NON RICHIESTA","VERIFICARE COLLEGAMENTO"),IF(J19="Chiusa",IF(AND(F19<>"",G19<>"",ISNUMBER(H19),ISNUMBER(I19),K19<>"",L19<>"",ISNUMBER(M19),N19="C",H19>0,I19>=H19,M19>=H19,M19>=INDEX(Checklist!$G$8:$G$237,MATCH(A19,Checklist!$A$8:$A$237,0)),H19<=Anagrafica!$K$8,M19<=Anagrafica!$K$8),"CHIUSA VERIFICATA","CHIUSURA INCOMPLETA"),IF(OR(F19="",G19="",H19="",I19="",J19=""),"DA COMPLETARE",IF(OR(NOT(ISNUMBER(H19)),NOT(ISNUMBER(I19)),H19<=0,I19<H19,H19>Anagrafica!$K$8),"DATI NON VALIDI","APERTA")))) -> NON RICHIESTA | P19: =IF(NOT(OR(C19="NC",C19="NV")),"",IF(O19="CHIUSA VERIFICATA","CHIUSA",IF(I19="","TERMINE MANCANTE",IF(NOT(ISNUMBER(I19)),"DATA NON VALIDA",IF(I19<Anagrafica!$K$8,"SCADUTA",IF(I19=Anagrafica!$K$8,"SCADENZA OGGI",IF(I19-Anagrafica!$K$8<=Anagrafica!$K$11,"IN SCADENZA","PIANIFICATA"))))))) | Q19: =IF(AND(OR(C19="NC",C19="NV"),ISNUMBER(I19),O19<>"CHIUSA VERIFICATA"),I19-Anagrafica!$K$8,"")
... A237: A24-07 | B237: =INDEX(Checklist!$B$8:$B$237,MATCH(A237,Checklist!$A$8:$A$237,0)) -> Distribuzione e riesame | C237: =INDEX(Checklist!$I$8:$I$237,MATCH(A237,Checklist!$A$8:$A$237,0)) -> DA COMPILARE | D237: =INDEX(Checklist!$D$8:$D$237,MATCH(A237,Checklist!$A$8:$A$237,0)) -> Gestione | E237: =IF(OR(C237="NC",C237="NV"),INDEX(Catalogo!$H$8:$H$237,MATCH(A237,Catalogo!$A$8:$A$237,0)),"") | O237: =IF(NOT(OR(C237="NC",C237="NV")),IF(COUNTA(F237:N237)=0,"NON RICHIESTA","VERIFICARE COLLEGAMENTO"),IF(J237="Chiusa",IF(AND(F237<>"",G237<>"",ISNUMBER(H237),ISNUMBER(I237),K237<>"",L237<>"",ISNUMBER(M237),N237="C",H237>0,I237>=H237,M237>=H237,M237>=INDEX(Checklist!$G$8:$G$237,MATCH(A237,Checklist!$A$8:$A$237,0)),H237<=Anagrafica!$K$8,M237<=Anagrafica!$K$8),"CHIUSA VERIFICATA","CHIUSURA INCOMPLETA"),IF(OR(F237="",G237="",H237="",I237="",J237=""),"DA COMPLETARE",IF(OR(NOT(ISNUMBER(H237)),NOT(ISNUMBER(I237)),H237<=0,I237<H237,H237>Anagrafica!$K$8),"DATI NON VALIDI","APERTA")))) -> NON RICHIESTA | P237: =IF(NOT(OR(C237="NC",C237="NV")),"",IF(O237="CHIUSA VERIFICATA","CHIUSA",IF(I237="","TERMINE MANCANTE",IF(NOT(ISNUMBER(I237)),"DATA NON VALIDA",IF(I237<Anagrafica!$K$8,"SCADUTA",IF(I237=Anagrafica!$K$8,"SCADENZA OGGI",IF(I237-Anagrafica!$K$8<=Anagrafica!$K$11,"IN SCADENZA","PIANIFICATA"))))))) | Q237: =IF(AND(OR(C237="NC",C237="NV"),ISNUMBER(I237),O237<>"CHIUSA VERIFICATA"),I237-Anagrafica!$K$8,"")

Sheet Preuso
A1: PRE-UTILIZZO | VISTA RAPIDA
A3: 21 controlli A05 collegati alla Checklist. Aprire la riga per compilare: questa vista non crea un secondo registro.
A4: =IFERROR(HYPERLINK("#'Dashboard'!A1","◀ DASHBOARD"),"◀ DASHBOARD") -> ◀ DASHBOARD | D4: =IFERROR(HYPERLINK("#'Guida'!A1","GUIDA / LEGENDA"),"GUIDA / LEGENDA") -> GUIDA / LEGENDA
A7: ID | B7: Verifica visiva / funzionale | C7: Esito corrente | D7: Evidenza | E7: Data | F7: Verificatore | G7: Compila | H7: Esito iniziale | J7: benni
A8: A05-01 | B8: Targa e identificativi corrispondenti; stato “disponibile”; nessun cartello di fermo. | C8: =IF(INDEX(Checklist!$L$8:$L$237,MATCH(A8,Checklist!$A$8:$A$237,0))="","",INDEX(Checklist!$L$8:$L$237,MATCH(A8,Checklist!$A$8:$A$237,0))) -> DA COMPILARE | D8: =IF(INDEX(Checklist!$F$8:$F$237,MATCH(A8,Checklist!$A$8:$A$237,0))="","",INDEX(Checklist!$F$8:$F$237,MATCH(A8,Checklist!$A$8:$A$237,0))) | E8: =IF(INDEX(Checklist!$G$8:$G$237,MATCH(A8,Checklist!$A$8:$A$237,0))="","",INDEX(Checklist!$G$8:$G$237,MATCH(A8,Checklist!$A$8:$A$237,0))) | F8: =IF(INDEX(Checklist!$H$8:$H$237,MATCH(A8,Checklist!$A$8:$A$237,0))="","",INDEX(Checklist!$H$8:$H$237,MATCH(A8,Checklist!$A$8:$A$237,0))) | G8: =IFERROR(HYPERLINK("#'Checklist'!E"&(MATCH(A8,Checklist!$A$8:$A$237,0)+7),"COMPILA"),"COMPILA") -> COMPILA | H8: =IF(INDEX(Checklist!$I$8:$I$237,MATCH(A8,Checklist!$A$8:$A$237,0))="","",INDEX(Checklist!$I$8:$I$237,MATCH(A8,Checklist!$A$8:$A$237,0))) -> DA COMPILARE
A9: A05-02 | B9: Manuale e diagrammi necessari presenti, leggibili e pertinenti. | C9: =IF(INDEX(Checklist!$L$8:$L$237,MATCH(A9,Checklist!$A$8:$A$237,0))="","",INDEX(Checklist!$L$8:$L$237,MATCH(A9,Checklist!$A$8:$A$237,0))) -> DA COMPILARE | D9: =IF(INDEX(Checklist!$F$8:$F$237,MATCH(A9,Checklist!$A$8:$A$237,0))="","",INDEX(Checklist!$F$8:$F$237,MATCH(A9,Checklist!$A$8:$A$237,0))) | E9: =IF(INDEX(Checklist!$G$8:$G$237,MATCH(A9,Checklist!$A$8:$A$237,0))="","",INDEX(Checklist!$G$8:$G$237,MATCH(A9,Checklist!$A$8:$A$237,0))) | F9: =IF(INDEX(Checklist!$H$8:$H$237,MATCH(A9,Checklist!$A$8:$A$237,0))="","",INDEX(Checklist!$H$8:$H$237,MATCH(A9,Checklist!$A$8:$A$237,0))) | G9: =IFERROR(HYPERLINK("#'Checklist'!E"&(MATCH(A9,Checklist!$A$8:$A$237,0)+7),"COMPILA"),"COMPILA") -> COMPILA | H9: =IF(INDEX(Checklist!$I$8:$I$237,MATCH(A9,Checklist!$A$8:$A$237,0))="","",INDEX(Checklist!$I$8:$I$237,MATCH(A9,Checklist!$A$8:$A$237,0))) -> DA COMPILARE
A10: A05-03 | B10: Braccio, telaio e attacchi senza danni sospetti, cricche o deformazioni. | C10: =IF(INDEX(Checklist!$L$8:$L$237,MATCH(A10,Checklist!$A$8:$A$237,0))="","",INDEX(Checklist!$L$8:$L$237,MATCH(A10,Checklist!$A$8:$A$237,0))) -> DA COMPILARE | D10: =IF(INDEX(Checklist!$F$8:$F$237,MATCH(A10,Checklist!$A$8:$A$237,0))="","",INDEX(Checklist!$F$8:$F$237,MATCH(A10,Checklist!$A$8:$A$237,0))) | E10: =IF(INDEX(Checklist!$G$8:$G$237,MATCH(A10,Checklist!$A$8:$A$237,0))="","",INDEX(Checklist!$G$8:$G$237,MATCH(A10,Checklist!$A$8:$A$237,0))) | F10: =IF(INDEX(Checklist!$H$8:$H$237,MATCH(A10,Checklist!$A$8:$A$237,0))="","",INDEX(Checklist!$H$8:$H$237,MATCH(A10,Checklist!$A$8:$A$237,0))) | G10: =IFERROR(HYPERLINK("#'Checklist'!E"&(MATCH(A10,Checklist!$A$8:$A$237,0)+7),"COMPILA"),"COMPILA") -> COMPILA | H10: =IF(INDEX(Checklist!$I$8:$I$237,MATCH(A10,Checklist!$A$8:$A$237,0))="","",INDEX(Checklist!$I$8:$I$237,MATCH(A10,Checklist!$A$8:$A$237,0))) -> DA COMPILARE
A11: A05-04 | B11: Perni, fermi, sistemi di aggancio e blocchi accessorio presenti / corretti. | C11: =IF(INDEX(Checklist!$L$8:$L$237,MATCH(A11,Checklist!$A$8:$A$237,0))="","",INDEX(Checklist!$L$8:$L$237,MATCH(A11,Checklist!$A$8:$A$237,0))) -> DA COMPILARE | D11: =IF(INDEX(Checklist!$F$8:$F$237,MATCH(A11,Checklist!$A$8:$A$237,0))="","",INDEX(Checklist!$F$8:$F$237,MATCH(A11,Checklist!$A$8:$A$237,0))) | E11: =IF(INDEX(Checklist!$G$8:$G$237,MATCH(A11,Checklist!$A$8:$A$237,0))="","",INDEX(Checklist!$G$8:$G$237,MATCH(A11,Checklist!$A$8:$A$237,0))) | F11: =IF(INDEX(Checklist!$H$8:$H$237,MATCH(A11,Checklist!$A$8:$A$237,0))="","",INDEX(Checklist!$H$8:$H$237,MATCH(A11,Checklist!$A$8:$A$237,0))) | G11: =IFERROR(HYPERLINK("#'Checklist'!E"&(MATCH(A11,Checklist!$A$8:$A$237,0)+7),"COMPILA"),"COMPILA") -> COMPILA | H11: =IF(INDEX(Checklist!$I$8:$I$237,MATCH(A11,Checklist!$A$8:$A$237,0))="","",INDEX(Checklist!$I$8:$I$237,MATCH(A11,Checklist!$A$8:$A$237,0))) -> DA COMPILARE
A12: A05-05 | B12: Forche, pinza o altro accessorio integro e nei limiti di controllo previsti. | C12: =IF(INDEX(Checklist!$L$8:$L$237,MATCH(A12,Checklist!$A$8:$A$237,0))="","",INDEX(Checklist!$L$8:$L$237,MATCH(A12,Checklist!$A$8:$A$237,0))) -> DA COMPILARE | D12: =IF(INDEX(Checklist!$F$8:$F$237,MATCH(A12,Checklist!$A$8:$A$237,0))="","",INDEX(Checklist!$F$8:$F$237,MATCH(A12,Checklist!$A$8:$A$237,0))) | E12: =IF(INDEX(Checklist!$G$8:$G$237,MATCH(A12,Checklist!$A$8:$A$237,0))="","",INDEX(Checklist!$G$8:$G$237,MATCH(A12,Checklist!$A$8:$A$237,0))) | F12: =IF(INDEX(Checklist!$H$8:$H$237,MATCH(A12,Checklist!$A$8:$A$237,0))="","",INDEX(Checklist!$H$8:$H$237,MATCH(A12,Checklist!$A$8:$A$237,0))) | G12: =IFERROR(HYPERLINK("#'Checklist'!E"&(MATCH(A12,Checklist!$A$8:$A$237,0)+7),"COMPILA"),"COMPILA") -> COMPILA | H12: =IF(INDEX(Checklist!$I$8:$I$237,MATCH(A12,Checklist!$A$8:$A$237,0))="","",INDEX(Checklist!$I$8:$I$237,MATCH(A12,Checklist!$A$8:$A$237,0))) -> DA COMPILARE
A13: A05-06 | B13: Tubazioni / raccordi integri; assenza di perdite o danni rilevanti. | C13: =IF(INDEX(Checklist!$L$8:$L$237,MATCH(A13,Checklist!$A$8:$A$237,0))="","",INDEX(Checklist!$L$8:$L$237,MATCH(A13,Checklist!$A$8:$A$237,0))) -> DA COMPILARE | D13: =IF(INDEX(Checklist!$F$8:$F$237,MATCH(A13,Checklist!$A$8:$A$237,0))="","",INDEX(Checklist!$F$8:$F$237,MATCH(A13,Checklist!$A$8:$A$237,0))) | E13: =IF(INDEX(Checklist!$G$8:$G$237,MATCH(A13,Checklist!$A$8:$A$237,0))="","",INDEX(Checklist!$G$8:$G$237,MATCH(A13,Checklist!$A$8:$A$237,0))) | F13: =IF(INDEX(Checklist!$H$8:$H$237,MATCH(A13,Checklist!$A$8:$A$237,0))="","",INDEX(Checklist!$H$8:$H$237,MATCH(A13,Checklist!$A$8:$A$237,0))) | G13: =IFERROR(HYPERLINK("#'Checklist'!E"&(MATCH(A13,Checklist!$A$8:$A$237,0)+7),"COMPILA"),"COMPILA") -> COMPILA | H13: =IF(INDEX(Checklist!$I$8:$I$237,MATCH(A13,Checklist!$A$8:$A$237,0))="","",INDEX(Checklist!$I$8:$I$237,MATCH(A13,Checklist!$A$8:$A$237,0))) -> DA COMPILARE
A14: A05-07 | B14: Pneumatici, ruote e fissaggi conformi ai criteri del manuale. | C14: =IF(INDEX(Checklist!$L$8:$L$237,MATCH(A14,Checklist!$A$8:$A$237,0))="","",INDEX(Checklist!$L$8:$L$237,MATCH(A14,Checklist!$A$8:$A$237,0))) -> DA COMPILARE | D14: =IF(INDEX(Checklist!$F$8:$F$237,MATCH(A14,Checklist!$A$8:$A$237,0))="","",INDEX(Checklist!$F$8:$F$237,MATCH(A14,Checklist!$A$8:$A$237,0))) | E14: =IF(INDEX(Checklist!$G$8:$G$237,MATCH(A14,Checklist!$A$8:$A$237,0))="","",INDEX(Checklist!$G$8:$G$237,MATCH(A14,Checklist!$A$8:$A$237,0))) | F14: =IF(INDEX(Checklist!$H$8:$H$237,MATCH(A14,Checklist!$A$8:$A$237,0))="","",INDEX(Checklist!$H$8:$H$237,MATCH(A14,Checklist!$A$8:$A$237,0))) | G14: =IFERROR(HYPERLINK("#'Checklist'!E"&(MATCH(A14,Checklist!$A$8:$A$237,0)+7),"COMPILA"),"COMPILA") -> COMPILA | H14: =IF(INDEX(Checklist!$I$8:$I$237,MATCH(A14,Checklist!$A$8:$A$237,0))="","",INDEX(Checklist!$I$8:$I$237,MATCH(A14,Checklist!$A$8:$A$237,0))) -> DA COMPILARE
A15: A05-08 | B15: Stabilizzatori e piastre integri; nessun impedimento al funzionamento. | C15: =IF(INDEX(Checklist!$L$8:$L$237,MATCH(A15,Checklist!$A$8:$A$237,0))="","",INDEX(Checklist!$L$8:$L$237,MATCH(A15,Checklist!$A$8:$A$237,0))) -> DA COMPILARE | D15: =IF(INDEX(Checklist!$F$8:$F$237,MATCH(A15,Checklist!$A$8:$A$237,0))="","",INDEX(Checklist!$F$8:$F$237,MATCH(A15,Checklist!$A$8:$A$237,0))) | E15: =IF(INDEX(Checklist!$G$8:$G$237,MATCH(A15,Checklist!$A$8:$A$237,0))="","",INDEX(Checklist!$G$8:$G$237,MATCH(A15,Checklist!$A$8:$A$237,0))) | F15: =IF(INDEX(Checklist!$H$8:$H$237,MATCH(A15,Checklist!$A$8:$A$237,0))="","",INDEX(Checklist!$H$8:$H$237,MATCH(A15,Checklist!$A$8:$A$237,0))) | G15: =IFERROR(HYPERLINK("#'Checklist'!E"&(MATCH(A15,Checklist!$A$8:$A$237,0)+7),"COMPILA"),"COMPILA") -> COMPILA | H15: =IF(INDEX(Checklist!$I$8:$I$237,MATCH(A15,Checklist!$A$8:$A$237,0))="","",INDEX(Checklist!$I$8:$I$237,MATCH(A15,Checklist!$A$8:$A$237,0))) -> DA COMPILARE
A16: A05-09 | B16: Cabina, vetri, specchi, gradini e appigli integri e sufficientemente puliti. | C16: =IF(INDEX(Checklist!$L$8:$L$237,MATCH(A16,Checklist!$A$8:$A$237,0))="","",INDEX(Checklist!$L$8:$L$237,MATCH(A16,Checklist!$A$8:$A$237,0))) -> DA COMPILARE | D16: =IF(INDEX(Checklist!$F$8:$F$237,MATCH(A16,Checklist!$A$8:$A$237,0))="","",INDEX(Checklist!$F$8:$F$237,MATCH(A16,Checklist!$A$8:$A$237,0))) | E16: =IF(INDEX(Checklist!$G$8:$G$237,MATCH(A16,Checklist!$A$8:$A$237,0))="","",INDEX(Checklist!$G$8:$G$237,MATCH(A16,Checklist!$A$8:$A$237,0))) | F16: =IF(INDEX(Checklist!$H$8:$H$237,MATCH(A16,Checklist!$A$8:$A$237,0))="","",INDEX(Checklist!$H$8:$H$237,MATCH(A16,Checklist!$A$8:$A$237,0))) | G16: =IFERROR(HYPERLINK("#'Checklist'!E"&(MATCH(A16,Checklist!$A$8:$A$237,0)+7),"COMPILA"),"COMPILA") -> COMPILA | H16: =IF(INDEX(Checklist!$I$8:$I$237,MATCH(A16,Checklist!$A$8:$A$237,0))="","",INDEX(Checklist!$I$8:$I$237,MATCH(A16,Checklist!$A$8:$A$237,0))) -> DA COMPILARE
A17: A05-10 | B17: Sedile, cintura e dispositivi della postazione integri e utilizzabili. | C17: =IF(INDEX(Checklist!$L$8:$L$237,MATCH(A17,Checklist!$A$8:$A$237,0))="","",INDEX(Checklist!$L$8:$L$237,MATCH(A17,Checklist!$A$8:$A$237,0))) -> DA COMPILARE | D17: =IF(INDEX(Checklist!$F$8:$F$237,MATCH(A17,Checklist!$A$8:$A$237,0))="","",INDEX(Checklist!$F$8:$F$237,MATCH(A17,Checklist!$A$8:$A$237,0))) | E17: =IF(INDEX(Checklist!$G$8:$G$237,MATCH(A17,Checklist!$A$8:$A$237,0))="","",INDEX(Checklist!$G$8:$G$237,MATCH(A17,Checklist!$A$8:$A$237,0))) | F17: =IF(INDEX(Checklist!$H$8:$H$237,MATCH(A17,Checklist!$A$8:$A$237,0))="","",INDEX(Checklist!$H$8:$H$237,MATCH(A17,Checklist!$A$8:$A$237,0))) | G17: =IFERROR(HYPERLINK("#'Checklist'!E"&(MATCH(A17,Checklist!$A$8:$A$237,0)+7),"COMPILA"),"COMPILA") -> COMPILA | H17: =IF(INDEX(Checklist!$I$8:$I$237,MATCH(A17,Checklist!$A$8:$A$237,0))="","",INDEX(Checklist!$I$8:$I$237,MATCH(A17,Checklist!$A$8:$A$237,0))) -> DA COMPILARE
A18: A05-11 | B18: Livelli, rifornimenti e controlli previsti eseguiti con modalità sicure. | C18: =IF(INDEX(Checklist!$L$8:$L$237,MATCH(A18,Checklist!$A$8:$A$237,0))="","",INDEX(Checklist!$L$8:$L$237,MATCH(A18,Checklist!$A$8:$A$237,0))) -> DA COMPILARE | D18: =IF(INDEX(Checklist!$F$8:$F$237,MATCH(A18,Checklist!$A$8:$A$237,0))="","",INDEX(Checklist!$F$8:$F$237,MATCH(A18,Checklist!$A$8:$A$237,0))) | E18: =IF(INDEX(Checklist!$G$8:$G$237,MATCH(A18,Checklist!$A$8:$A$237,0))="","",INDEX(Checklist!$G$8:$G$237,MATCH(A18,Checklist!$A$8:$A$237,0))) | F18: =IF(INDEX(Checklist!$H$8:$H$237,MATCH(A18,Checklist!$A$8:$A$237,0))="","",INDEX(Checklist!$H$8:$H$237,MATCH(A18,Checklist!$A$8:$A$237,0))) | G18: =IFERROR(HYPERLINK("#'Checklist'!E"&(MATCH(A18,Checklist!$A$8:$A$237,0)+7),"COMPILA"),"COMPILA") -> COMPILA | H18: =IF(INDEX(Checklist!$I$8:$I$237,MATCH(A18,Checklist!$A$8:$A$237,0))="","",INDEX(Checklist!$I$8:$I$237,MATCH(A18,Checklist!$A$8:$A$237,0))) -> DA COMPILARE
A19: A05-12 | B19: Area prova libera, appoggio idoneo e condizioni richieste dal manuale. | C19: =IF(INDEX(Checklist!$L$8:$L$237,MATCH(A19,Checklist!$A$8:$A$237,0))="","",INDEX(Checklist!$L$8:$L$237,MATCH(A19,Checklist!$A$8:$A$237,0))) -> DA COMPILARE | D19: =IF(INDEX(Checklist!$F$8:$F$237,MATCH(A19,Checklist!$A$8:$A$237,0))="","",INDEX(Checklist!$F$8:$F$237,MATCH(A19,Checklist!$A$8:$A$237,0))) | E19: =IF(INDEX(Checklist!$G$8:$G$237,MATCH(A19,Checklist!$A$8:$A$237,0))="","",INDEX(Checklist!$G$8:$G$237,MATCH(A19,Checklist!$A$8:$A$237,0))) | F19: =IF(INDEX(Checklist!$H$8:$H$237,MATCH(A19,Checklist!$A$8:$A$237,0))="","",INDEX(Checklist!$H$8:$H$237,MATCH(A19,Checklist!$A$8:$A$237,0))) | G19: =IFERROR(HYPERLINK("#'Checklist'!E"&(MATCH(A19,Checklist!$A$8:$A$237,0)+7),"COMPILA"),"COMPILA") -> COMPILA | H19: =IF(INDEX(Checklist!$I$8:$I$237,MATCH(A19,Checklist!$A$8:$A$237,0))="","",INDEX(Checklist!$I$8:$I$237,MATCH(A19,Checklist!$A$8:$A$237,0))) -> DA COMPILARE
... A28: A05-21 | B28: Requisiti di operatore, sito, carico e scadenze confermati per l’attività. | C28: =IF(INDEX(Checklist!$L$8:$L$237,MATCH(A28,Checklist!$A$8:$A$237,0))="","",INDEX(Checklist!$L$8:$L$237,MATCH(A28,Checklist!$A$8:$A$237,0))) -> DA COMPILARE | D28: =IF(INDEX(Checklist!$F$8:$F$237,MATCH(A28,Checklist!$A$8:$A$237,0))="","",INDEX(Checklist!$F$8:$F$237,MATCH(A28,Checklist!$A$8:$A$237,0))) | E28: =IF(INDEX(Checklist!$G$8:$G$237,MATCH(A28,Checklist!$A$8:$A$237,0))="","",INDEX(Checklist!$G$8:$G$237,MATCH(A28,Checklist!$A$8:$A$237,0))) | F28: =IF(INDEX(Checklist!$H$8:$H$237,MATCH(A28,Checklist!$A$8:$A$237,0))="","",INDEX(Checklist!$H$8:$H$237,MATCH(A28,Checklist!$A$8:$A$237,0))) | G28: =IFERROR(HYPERLINK("#'Checklist'!E"&(MATCH(A28,Checklist!$A$8:$A$237,0)+7),"COMPILA"),"COMPILA") -> COMPILA | H28: =IF(INDEX(Checklist!$I$8:$I$237,MATCH(A28,Checklist!$A$8:$A$237,0))="","",INDEX(Checklist!$I$8:$I$237,MATCH(A28,Checklist!$A$8:$A$237,0))) -> DA COMPILARE
A31: Le prove funzionali si eseguono soltanto nelle condizioni consentite dal manuale e in area protetta. Non comprende prove di sovraccarico. Una sessione precedente non vale come controllo giornaliero corrente: archiviare e aprire una nuova copia.

Sheet Scadenze
A1: SCADENZARIO | TEMPO, ORE E ADEMPIMENTI
A3: Inserire scadenze documentate. Preavvisi interni: non sono proroghe. Applicabilità e fonti devono essere confermate.
A4: =IFERROR(HYPERLINK("#'Dashboard'!A1","◀ DASHBOARD"),"◀ DASHBOARD") -> ◀ DASHBOARD | D4: =IFERROR(HYPERLINK("#'Guida'!A1","GUIDA / LEGENDA"),"GUIDA / LEGENDA") -> GUIDA / LEGENDA
A7: ID | B7: Categoria | C7: Evento / attività | D7: Applicabile | E7: Data base | F7: Intervallo mesi | G7: Scadenza documentata | H7: Scadenza utilizzata | I7: Fonte / manuale / verbale | J7: Responsabile | K7: Residuo giorni | L7: Stato | M7: Ore ultimo intervento | N7: Intervallo ore | O7: Soglia ore documentata | P7: Residuo ore | Q7: Evidenza / motivo esclusione | R7: Rilevanza
A8: SC-01 | B8: Verifica periodica | C8: Verifica periodica annuale del carrello | D8: Si | F8: =Anagrafica!$K$14 -> 12 | H8: =IF(D8<>"Si","",IF(G8<>"",IF(ISNUMBER(G8),G8,""),IF(AND(ISNUMBER(E8),ISNUMBER(F8),F8>0),EDATE(E8,F8),""))) | K8: =IF(ISNUMBER(H8),H8-Anagrafica!$K$8,"") | L8: =IF(D8="No",IF(A8="SC-01","ESCLUSIONE NON AMMESSA",IF(Q8="","MOTIVO NA MANCANTE","NON APPLICABILE")),IF(D8<>"Si","DA DEFINIRE",IF(OR(AND(E8<>"",NOT(ISNUMBER(E8))),AND(F8<>"",NOT(ISNUMBER(F8))),AND(G8<>"",NOT(ISNUMBER(G8))),AND(M8<>"",NOT(ISNUMBER(M8))),AND(N8<>"",NOT(ISNUMBER(N8))),AND(O8<>"",NOT(ISNUMBER(O8))),AND(ISNUMBER(E8),E8<=0),AND(ISNUMBER(F8),F8<=0),AND(ISNUMBER(G8),G8<=0),AND(ISNUMBER(M8),M8<0),AND(ISNUMBER(N8),N8<=0),AND(ISNUMBER(O8),O8<0)),"DATI NON VALIDI",IF(OR(AND(ISNUMBER(K8),K8<0),AND(ISNUMBER(P8),P8<0)),"SCADUTA",IF(OR(AND(ISNUMBER(K8),K8=0),AND(ISNUMBER(P8),P8=0)),"SCADENZA OGGI / ORE",IF(AND(OR(O8<>"",AND(M8<>"",N8<>"")),NOT(ISNUMBER(Anagrafica!$C$19))),"CONTATORE MANCANTE",IF(AND(H8="",P8=""),"SCADENZA MANCANTE",IF(OR(I8="",J8="",Q8=""),"DOCUMENTARE",IF(OR(AND(ISNUMBER(K8),K8<=Anagrafica!$K$11),AND(ISNUMBER(P8),P8<=Anagrafica!$K$12)),"IN SCADENZA",IF(AND(ISNUMBER(K8),K8<=Anagrafica!$K$10),"PREAVVISO","NEI TERMINI")))))))))) -> SCADENZA MANCANTE | P8: =IF(AND(D8="Si",ISNUMBER(Anagrafica!$C$19)),IF(ISNUMBER(O8),O8-Anagrafica!$C$19,IF(AND(ISNUMBER(M8),ISNUMBER(N8),N8>0),M8+N8-Anagrafica!$C$19,"")),"") | R8: Sicurezza
A9: SC-02 | B9: Manutenzione | C9: Freni e sterzatura | D9: Da definire | H9: =IF(D9<>"Si","",IF(G9<>"",IF(ISNUMBER(G9),G9,""),IF(AND(ISNUMBER(E9),ISNUMBER(F9),F9>0),EDATE(E9,F9),""))) | K9: =IF(ISNUMBER(H9),H9-Anagrafica!$K$8,"") | L9: =IF(D9="No",IF(A9="SC-01","ESCLUSIONE NON AMMESSA",IF(Q9="","MOTIVO NA MANCANTE","NON APPLICABILE")),IF(D9<>"Si","DA DEFINIRE",IF(OR(AND(E9<>"",NOT(ISNUMBER(E9))),AND(F9<>"",NOT(ISNUMBER(F9))),AND(G9<>"",NOT(ISNUMBER(G9))),AND(M9<>"",NOT(ISNUMBER(M9))),AND(N9<>"",NOT(ISNUMBER(N9))),AND(O9<>"",NOT(ISNUMBER(O9))),AND(ISNUMBER(E9),E9<=0),AND(ISNUMBER(F9),F9<=0),AND(ISNUMBER(G9),G9<=0),AND(ISNUMBER(M9),M9<0),AND(ISNUMBER(N9),N9<=0),AND(ISNUMBER(O9),O9<0)),"DATI NON VALIDI",IF(OR(AND(ISNUMBER(K9),K9<0),AND(ISNUMBER(P9),P9<0)),"SCADUTA",IF(OR(AND(ISNUMBER(K9),K9=0),AND(ISNUMBER(P9),P9=0)),"SCADENZA OGGI / ORE",IF(AND(OR(O9<>"",AND(M9<>"",N9<>"")),NOT(ISNUMBER(Anagrafica!$C$19))),"CONTATORE MANCANTE",IF(AND(H9="",P9=""),"SCADENZA MANCANTE",IF(OR(I9="",J9="",Q9=""),"DOCUMENTARE",IF(OR(AND(ISNUMBER(K9),K9<=Anagrafica!$K$11),AND(ISNUMBER(P9),P9<=Anagrafica!$K$12)),"IN SCADENZA",IF(AND(ISNUMBER(K9),K9<=Anagrafica!$K$10),"PREAVVISO","NEI TERMINI")))))))))) -> DA DEFINIRE | P9: =IF(AND(D9="Si",ISNUMBER(Anagrafica!$C$19)),IF(ISNUMBER(O9),O9-Anagrafica!$C$19,IF(AND(ISNUMBER(M9),ISNUMBER(N9),N9>0),M9+N9-Anagrafica!$C$19,"")),"") | R9: Sicurezza
A10: SC-03 | B10: Manutenzione | C10: Braccio, perni e pattini | D10: Da definire | H10: =IF(D10<>"Si","",IF(G10<>"",IF(ISNUMBER(G10),G10,""),IF(AND(ISNUMBER(E10),ISNUMBER(F10),F10>0),EDATE(E10,F10),""))) | K10: =IF(ISNUMBER(H10),H10-Anagrafica!$K$8,"") | L10: =IF(D10="No",IF(A10="SC-01","ESCLUSIONE NON AMMESSA",IF(Q10="","MOTIVO NA MANCANTE","NON APPLICABILE")),IF(D10<>"Si","DA DEFINIRE",IF(OR(AND(E10<>"",NOT(ISNUMBER(E10))),AND(F10<>"",NOT(ISNUMBER(F10))),AND(G10<>"",NOT(ISNUMBER(G10))),AND(M10<>"",NOT(ISNUMBER(M10))),AND(N10<>"",NOT(ISNUMBER(N10))),AND(O10<>"",NOT(ISNUMBER(O10))),AND(ISNUMBER(E10),E10<=0),AND(ISNUMBER(F10),F10<=0),AND(ISNUMBER(G10),G10<=0),AND(ISNUMBER(M10),M10<0),AND(ISNUMBER(N10),N10<=0),AND(ISNUMBER(O10),O10<0)),"DATI NON VALIDI",IF(OR(AND(ISNUMBER(K10),K10<0),AND(ISNUMBER(P10),P10<0)),"SCADUTA",IF(OR(AND(ISNUMBER(K10),K10=0),AND(ISNUMBER(P10),P10=0)),"SCADENZA OGGI / ORE",IF(AND(OR(O10<>"",AND(M10<>"",N10<>"")),NOT(ISNUMBER(Anagrafica!$C$19))),"CONTATORE MANCANTE",IF(AND(H10="",P10=""),"SCADENZA MANCANTE",IF(OR(I10="",J10="",Q10=""),"DOCUMENTARE",IF(OR(AND(ISNUMBER(K10),K10<=Anagrafica!$K$11),AND(ISNUMBER(P10),P10<=Anagrafica!$K$12)),"IN SCADENZA",IF(AND(ISNUMBER(K10),K10<=Anagrafica!$K$10),"PREAVVISO","NEI TERMINI")))))))))) -> DA DEFINIRE | P10: =IF(AND(D10="Si",ISNUMBER(Anagrafica!$C$19)),IF(ISNUMBER(O10),O10-Anagrafica!$C$19,IF(AND(ISNUMBER(M10),ISNUMBER(N10),N10>0),M10+N10-Anagrafica!$C$19,"")),"") | R10: Sicurezza
A11: SC-04 | B11: Manutenzione | C11: Circuito oleodinamico, tubazioni e livelli | D11: Da definire | H11: =IF(D11<>"Si","",IF(G11<>"",IF(ISNUMBER(G11),G11,""),IF(AND(ISNUMBER(E11),ISNUMBER(F11),F11>0),EDATE(E11,F11),""))) | K11: =IF(ISNUMBER(H11),H11-Anagrafica!$K$8,"") | L11: =IF(D11="No",IF(A11="SC-01","ESCLUSIONE NON AMMESSA",IF(Q11="","MOTIVO NA MANCANTE","NON APPLICABILE")),IF(D11<>"Si","DA DEFINIRE",IF(OR(AND(E11<>"",NOT(ISNUMBER(E11))),AND(F11<>"",NOT(ISNUMBER(F11))),AND(G11<>"",NOT(ISNUMBER(G11))),AND(M11<>"",NOT(ISNUMBER(M11))),AND(N11<>"",NOT(ISNUMBER(N11))),AND(O11<>"",NOT(ISNUMBER(O11))),AND(ISNUMBER(E11),E11<=0),AND(ISNUMBER(F11),F11<=0),AND(ISNUMBER(G11),G11<=0),AND(ISNUMBER(M11),M11<0),AND(ISNUMBER(N11),N11<=0),AND(ISNUMBER(O11),O11<0)),"DATI NON VALIDI",IF(OR(AND(ISNUMBER(K11),K11<0),AND(ISNUMBER(P11),P11<0)),"SCADUTA",IF(OR(AND(ISNUMBER(K11),K11=0),AND(ISNUMBER(P11),P11=0)),"SCADENZA OGGI / ORE",IF(AND(OR(O11<>"",AND(M11<>"",N11<>"")),NOT(ISNUMBER(Anagrafica!$C$19))),"CONTATORE MANCANTE",IF(AND(H11="",P11=""),"SCADENZA MANCANTE",IF(OR(I11="",J11="",Q11=""),"DOCUMENTARE",IF(OR(AND(ISNUMBER(K11),K11<=Anagrafica!$K$11),AND(ISNUMBER(P11),P11<=Anagrafica!$K$12)),"IN SCADENZA",IF(AND(ISNUMBER(K11),K11<=Anagrafica!$K$10),"PREAVVISO","NEI TERMINI")))))))))) -> DA DEFINIRE | P11: =IF(AND(D11="Si",ISNUMBER(Anagrafica!$C$19)),IF(ISNUMBER(O11),O11-Anagrafica!$C$19,IF(AND(ISNUMBER(M11),ISNUMBER(N11),N11>0),M11+N11-Anagrafica!$C$19,"")),"") | R11: Sicurezza
A12: SC-05 | B12: Manutenzione | C12: Stabilizzatori e assali | D12: Da definire | H12: =IF(D12<>"Si","",IF(G12<>"",IF(ISNUMBER(G12),G12,""),IF(AND(ISNUMBER(E12),ISNUMBER(F12),F12>0),EDATE(E12,F12),""))) | K12: =IF(ISNUMBER(H12),H12-Anagrafica!$K$8,"") | L12: =IF(D12="No",IF(A12="SC-01","ESCLUSIONE NON AMMESSA",IF(Q12="","MOTIVO NA MANCANTE","NON APPLICABILE")),IF(D12<>"Si","DA DEFINIRE",IF(OR(AND(E12<>"",NOT(ISNUMBER(E12))),AND(F12<>"",NOT(ISNUMBER(F12))),AND(G12<>"",NOT(ISNUMBER(G12))),AND(M12<>"",NOT(ISNUMBER(M12))),AND(N12<>"",NOT(ISNUMBER(N12))),AND(O12<>"",NOT(ISNUMBER(O12))),AND(ISNUMBER(E12),E12<=0),AND(ISNUMBER(F12),F12<=0),AND(ISNUMBER(G12),G12<=0),AND(ISNUMBER(M12),M12<0),AND(ISNUMBER(N12),N12<=0),AND(ISNUMBER(O12),O12<0)),"DATI NON VALIDI",IF(OR(AND(ISNUMBER(K12),K12<0),AND(ISNUMBER(P12),P12<0)),"SCADUTA",IF(OR(AND(ISNUMBER(K12),K12=0),AND(ISNUMBER(P12),P12=0)),"SCADENZA OGGI / ORE",IF(AND(OR(O12<>"",AND(M12<>"",N12<>"")),NOT(ISNUMBER(Anagrafica!$C$19))),"CONTATORE MANCANTE",IF(AND(H12="",P12=""),"SCADENZA MANCANTE",IF(OR(I12="",J12="",Q12=""),"DOCUMENTARE",IF(OR(AND(ISNUMBER(K12),K12<=Anagrafica!$K$11),AND(ISNUMBER(P12),P12<=Anagrafica!$K$12)),"IN SCADENZA",IF(AND(ISNUMBER(K12),K12<=Anagrafica!$K$10),"PREAVVISO","NEI TERMINI")))))))))) -> DA DEFINIRE | P12: =IF(AND(D12="Si",ISNUMBER(Anagrafica!$C$19)),IF(ISNUMBER(O12),O12-Anagrafica!$C$19,IF(AND(ISNUMBER(M12),ISNUMBER(N12),N12>0),M12+N12-Anagrafica!$C$19,"")),"") | R12: Sicurezza
A13: SC-06 | B13: Manutenzione | C13: Pneumatici, ruote e fissaggi | D13: Da definire | H13: =IF(D13<>"Si","",IF(G13<>"",IF(ISNUMBER(G13),G13,""),IF(AND(ISNUMBER(E13),ISNUMBER(F13),F13>0),EDATE(E13,F13),""))) | K13: =IF(ISNUMBER(H13),H13-Anagrafica!$K$8,"") | L13: =IF(D13="No",IF(A13="SC-01","ESCLUSIONE NON AMMESSA",IF(Q13="","MOTIVO NA MANCANTE","NON APPLICABILE")),IF(D13<>"Si","DA DEFINIRE",IF(OR(AND(E13<>"",NOT(ISNUMBER(E13))),AND(F13<>"",NOT(ISNUMBER(F13))),AND(G13<>"",NOT(ISNUMBER(G13))),AND(M13<>"",NOT(ISNUMBER(M13))),AND(N13<>"",NOT(ISNUMBER(N13))),AND(O13<>"",NOT(ISNUMBER(O13))),AND(ISNUMBER(E13),E13<=0),AND(ISNUMBER(F13),F13<=0),AND(ISNUMBER(G13),G13<=0),AND(ISNUMBER(M13),M13<0),AND(ISNUMBER(N13),N13<=0),AND(ISNUMBER(O13),O13<0)),"DATI NON VALIDI",IF(OR(AND(ISNUMBER(K13),K13<0),AND(ISNUMBER(P13),P13<0)),"SCADUTA",IF(OR(AND(ISNUMBER(K13),K13=0),AND(ISNUMBER(P13),P13=0)),"SCADENZA OGGI / ORE",IF(AND(OR(O13<>"",AND(M13<>"",N13<>"")),NOT(ISNUMBER(Anagrafica!$C$19))),"CONTATORE MANCANTE",IF(AND(H13="",P13=""),"SCADENZA MANCANTE",IF(OR(I13="",J13="",Q13=""),"DOCUMENTARE",IF(OR(AND(ISNUMBER(K13),K13<=Anagrafica!$K$11),AND(ISNUMBER(P13),P13<=Anagrafica!$K$12)),"IN SCADENZA",IF(AND(ISNUMBER(K13),K13<=Anagrafica!$K$10),"PREAVVISO","NEI TERMINI")))))))))) -> DA DEFINIRE | P13: =IF(AND(D13="Si",ISNUMBER(Anagrafica!$C$19)),IF(ISNUMBER(O13),O13-Anagrafica!$C$19,IF(AND(ISNUMBER(M13),ISNUMBER(N13),N13>0),M13+N13-Anagrafica!$C$19,"")),"") | R13: Sicurezza
A14: SC-07 | B14: Manutenzione | C14: Forche e sistemi di aggancio | D14: Da definire | H14: =IF(D14<>"Si","",IF(G14<>"",IF(ISNUMBER(G14),G14,""),IF(AND(ISNUMBER(E14),ISNUMBER(F14),F14>0),EDATE(E14,F14),""))) | K14: =IF(ISNUMBER(H14),H14-Anagrafica!$K$8,"") | L14: =IF(D14="No",IF(A14="SC-01","ESCLUSIONE NON AMMESSA",IF(Q14="","MOTIVO NA MANCANTE","NON APPLICABILE")),IF(D14<>"Si","DA DEFINIRE",IF(OR(AND(E14<>"",NOT(ISNUMBER(E14))),AND(F14<>"",NOT(ISNUMBER(F14))),AND(G14<>"",NOT(ISNUMBER(G14))),AND(M14<>"",NOT(ISNUMBER(M14))),AND(N14<>"",NOT(ISNUMBER(N14))),AND(O14<>"",NOT(ISNUMBER(O14))),AND(ISNUMBER(E14),E14<=0),AND(ISNUMBER(F14),F14<=0),AND(ISNUMBER(G14),G14<=0),AND(ISNUMBER(M14),M14<0),AND(ISNUMBER(N14),N14<=0),AND(ISNUMBER(O14),O14<0)),"DATI NON VALIDI",IF(OR(AND(ISNUMBER(K14),K14<0),AND(ISNUMBER(P14),P14<0)),"SCADUTA",IF(OR(AND(ISNUMBER(K14),K14=0),AND(ISNUMBER(P14),P14=0)),"SCADENZA OGGI / ORE",IF(AND(OR(O14<>"",AND(M14<>"",N14<>"")),NOT(ISNUMBER(Anagrafica!$C$19))),"CONTATORE MANCANTE",IF(AND(H14="",P14=""),"SCADENZA MANCANTE",IF(OR(I14="",J14="",Q14=""),"DOCUMENTARE",IF(OR(AND(ISNUMBER(K14),K14<=Anagrafica!$K$11),AND(ISNUMBER(P14),P14<=Anagrafica!$K$12)),"IN SCADENZA",IF(AND(ISNUMBER(K14),K14<=Anagrafica!$K$10),"PREAVVISO","NEI TERMINI")))))))))) -> DA DEFINIRE | P14: =IF(AND(D14="Si",ISNUMBER(Anagrafica!$C$19)),IF(ISNUMBER(O14),O14-Anagrafica!$C$19,IF(AND(ISNUMBER(M14),ISNUMBER(N14),N14>0),M14+N14-Anagrafica!$C$19,"")),"") | R14: Sicurezza
A15: SC-08 | B15: Manutenzione | C15: Limitatori e interblocchi | D15: Da definire | H15: =IF(D15<>"Si","",IF(G15<>"",IF(ISNUMBER(G15),G15,""),IF(AND(ISNUMBER(E15),ISNUMBER(F15),F15>0),EDATE(E15,F15),""))) | K15: =IF(ISNUMBER(H15),H15-Anagrafica!$K$8,"") | L15: =IF(D15="No",IF(A15="SC-01","ESCLUSIONE NON AMMESSA",IF(Q15="","MOTIVO NA MANCANTE","NON APPLICABILE")),IF(D15<>"Si","DA DEFINIRE",IF(OR(AND(E15<>"",NOT(ISNUMBER(E15))),AND(F15<>"",NOT(ISNUMBER(F15))),AND(G15<>"",NOT(ISNUMBER(G15))),AND(M15<>"",NOT(ISNUMBER(M15))),AND(N15<>"",NOT(ISNUMBER(N15))),AND(O15<>"",NOT(ISNUMBER(O15))),AND(ISNUMBER(E15),E15<=0),AND(ISNUMBER(F15),F15<=0),AND(ISNUMBER(G15),G15<=0),AND(ISNUMBER(M15),M15<0),AND(ISNUMBER(N15),N15<=0),AND(ISNUMBER(O15),O15<0)),"DATI NON VALIDI",IF(OR(AND(ISNUMBER(K15),K15<0),AND(ISNUMBER(P15),P15<0)),"SCADUTA",IF(OR(AND(ISNUMBER(K15),K15=0),AND(ISNUMBER(P15),P15=0)),"SCADENZA OGGI / ORE",IF(AND(OR(O15<>"",AND(M15<>"",N15<>"")),NOT(ISNUMBER(Anagrafica!$C$19))),"CONTATORE MANCANTE",IF(AND(H15="",P15=""),"SCADENZA MANCANTE",IF(OR(I15="",J15="",Q15=""),"DOCUMENTARE",IF(OR(AND(ISNUMBER(K15),K15<=Anagrafica!$K$11),AND(ISNUMBER(P15),P15<=Anagrafica!$K$12)),"IN SCADENZA",IF(AND(ISNUMBER(K15),K15<=Anagrafica!$K$10),"PREAVVISO","NEI TERMINI")))))))))) -> DA DEFINIRE | P15: =IF(AND(D15="Si",ISNUMBER(Anagrafica!$C$19)),IF(ISNUMBER(O15),O15-Anagrafica!$C$19,IF(AND(ISNUMBER(M15),ISNUMBER(N15),N15>0),M15+N15-Anagrafica!$C$19,"")),"") | R15: Sicurezza
A16: SC-09 | B16: Manutenzione | C16: Piattaforma e sistemi di recupero | D16: Da definire | H16: =IF(D16<>"Si","",IF(G16<>"",IF(ISNUMBER(G16),G16,""),IF(AND(ISNUMBER(E16),ISNUMBER(F16),F16>0),EDATE(E16,F16),""))) | K16: =IF(ISNUMBER(H16),H16-Anagrafica!$K$8,"") | L16: =IF(D16="No",IF(A16="SC-01","ESCLUSIONE NON AMMESSA",IF(Q16="","MOTIVO NA MANCANTE","NON APPLICABILE")),IF(D16<>"Si","DA DEFINIRE",IF(OR(AND(E16<>"",NOT(ISNUMBER(E16))),AND(F16<>"",NOT(ISNUMBER(F16))),AND(G16<>"",NOT(ISNUMBER(G16))),AND(M16<>"",NOT(ISNUMBER(M16))),AND(N16<>"",NOT(ISNUMBER(N16))),AND(O16<>"",NOT(ISNUMBER(O16))),AND(ISNUMBER(E16),E16<=0),AND(ISNUMBER(F16),F16<=0),AND(ISNUMBER(G16),G16<=0),AND(ISNUMBER(M16),M16<0),AND(ISNUMBER(N16),N16<=0),AND(ISNUMBER(O16),O16<0)),"DATI NON VALIDI",IF(OR(AND(ISNUMBER(K16),K16<0),AND(ISNUMBER(P16),P16<0)),"SCADUTA",IF(OR(AND(ISNUMBER(K16),K16=0),AND(ISNUMBER(P16),P16=0)),"SCADENZA OGGI / ORE",IF(AND(OR(O16<>"",AND(M16<>"",N16<>"")),NOT(ISNUMBER(Anagrafica!$C$19))),"CONTATORE MANCANTE",IF(AND(H16="",P16=""),"SCADENZA MANCANTE",IF(OR(I16="",J16="",Q16=""),"DOCUMENTARE",IF(OR(AND(ISNUMBER(K16),K16<=Anagrafica!$K$11),AND(ISNUMBER(P16),P16<=Anagrafica!$K$12)),"IN SCADENZA",IF(AND(ISNUMBER(K16),K16<=Anagrafica!$K$10),"PREAVVISO","NEI TERMINI")))))))))) -> DA DEFINIRE | P16: =IF(AND(D16="Si",ISNUMBER(Anagrafica!$C$19)),IF(ISNUMBER(O16),O16-Anagrafica!$C$19,IF(AND(ISNUMBER(M16),ISNUMBER(N16),N16>0),M16+N16-Anagrafica!$C$19,"")),"") | R16: Sicurezza
A17: SC-10 | B17: Accessori | C17: Ganci e accessori per carichi sospesi | D17: Da definire | H17: =IF(D17<>"Si","",IF(G17<>"",IF(ISNUMBER(G17),G17,""),IF(AND(ISNUMBER(E17),ISNUMBER(F17),F17>0),EDATE(E17,F17),""))) | K17: =IF(ISNUMBER(H17),H17-Anagrafica!$K$8,"") | L17: =IF(D17="No",IF(A17="SC-01","ESCLUSIONE NON AMMESSA",IF(Q17="","MOTIVO NA MANCANTE","NON APPLICABILE")),IF(D17<>"Si","DA DEFINIRE",IF(OR(AND(E17<>"",NOT(ISNUMBER(E17))),AND(F17<>"",NOT(ISNUMBER(F17))),AND(G17<>"",NOT(ISNUMBER(G17))),AND(M17<>"",NOT(ISNUMBER(M17))),AND(N17<>"",NOT(ISNUMBER(N17))),AND(O17<>"",NOT(ISNUMBER(O17))),AND(ISNUMBER(E17),E17<=0),AND(ISNUMBER(F17),F17<=0),AND(ISNUMBER(G17),G17<=0),AND(ISNUMBER(M17),M17<0),AND(ISNUMBER(N17),N17<=0),AND(ISNUMBER(O17),O17<0)),"DATI NON VALIDI",IF(OR(AND(ISNUMBER(K17),K17<0),AND(ISNUMBER(P17),P17<0)),"SCADUTA",IF(OR(AND(ISNUMBER(K17),K17=0),AND(ISNUMBER(P17),P17=0)),"SCADENZA OGGI / ORE",IF(AND(OR(O17<>"",AND(M17<>"",N17<>"")),NOT(ISNUMBER(Anagrafica!$C$19))),"CONTATORE MANCANTE",IF(AND(H17="",P17=""),"SCADENZA MANCANTE",IF(OR(I17="",J17="",Q17=""),"DOCUMENTARE",IF(OR(AND(ISNUMBER(K17),K17<=Anagrafica!$K$11),AND(ISNUMBER(P17),P17<=Anagrafica!$K$12)),"IN SCADENZA",IF(AND(ISNUMBER(K17),K17<=Anagrafica!$K$10),"PREAVVISO","NEI TERMINI")))))))))) -> DA DEFINIRE | P17: =IF(AND(D17="Si",ISNUMBER(Anagrafica!$C$19)),IF(ISNUMBER(O17),O17-Anagrafica!$C$19,IF(AND(ISNUMBER(M17),ISNUMBER(N17),N17>0),M17+N17-Anagrafica!$C$19,"")),"") | R17: Sicurezza
A18: SC-11 | B18: Accessori | C18: Pinze, benne e accessori speciali | D18: Da definire | H18: =IF(D18<>"Si","",IF(G18<>"",IF(ISNUMBER(G18),G18,""),IF(AND(ISNUMBER(E18),ISNUMBER(F18),F18>0),EDATE(E18,F18),""))) | K18: =IF(ISNUMBER(H18),H18-Anagrafica!$K$8,"") | L18: =IF(D18="No",IF(A18="SC-01","ESCLUSIONE NON AMMESSA",IF(Q18="","MOTIVO NA MANCANTE","NON APPLICABILE")),IF(D18<>"Si","DA DEFINIRE",IF(OR(AND(E18<>"",NOT(ISNUMBER(E18))),AND(F18<>"",NOT(ISNUMBER(F18))),AND(G18<>"",NOT(ISNUMBER(G18))),AND(M18<>"",NOT(ISNUMBER(M18))),AND(N18<>"",NOT(ISNUMBER(N18))),AND(O18<>"",NOT(ISNUMBER(O18))),AND(ISNUMBER(E18),E18<=0),AND(ISNUMBER(F18),F18<=0),AND(ISNUMBER(G18),G18<=0),AND(ISNUMBER(M18),M18<0),AND(ISNUMBER(N18),N18<=0),AND(ISNUMBER(O18),O18<0)),"DATI NON VALIDI",IF(OR(AND(ISNUMBER(K18),K18<0),AND(ISNUMBER(P18),P18<0)),"SCADUTA",IF(OR(AND(ISNUMBER(K18),K18=0),AND(ISNUMBER(P18),P18=0)),"SCADENZA OGGI / ORE",IF(AND(OR(O18<>"",AND(M18<>"",N18<>"")),NOT(ISNUMBER(Anagrafica!$C$19))),"CONTATORE MANCANTE",IF(AND(H18="",P18=""),"SCADENZA MANCANTE",IF(OR(I18="",J18="",Q18=""),"DOCUMENTARE",IF(OR(AND(ISNUMBER(K18),K18<=Anagrafica!$K$11),AND(ISNUMBER(P18),P18<=Anagrafica!$K$12)),"IN SCADENZA",IF(AND(ISNUMBER(K18),K18<=Anagrafica!$K$10),"PREAVVISO","NEI TERMINI")))))))))) -> DA DEFINIRE | P18: =IF(AND(D18="Si",ISNUMBER(Anagrafica!$C$19)),IF(ISNUMBER(O18),O18-Anagrafica!$C$19,IF(AND(ISNUMBER(M18),ISNUMBER(N18),N18>0),M18+N18-Anagrafica!$C$19,"")),"") | R18: Sicurezza
A19: SC-12 | B19: Controlli | C19: Controllo competente programmato | D19: Da definire | H19: =IF(D19<>"Si","",IF(G19<>"",IF(ISNUMBER(G19),G19,""),IF(AND(ISNUMBER(E19),ISNUMBER(F19),F19>0),EDATE(E19,F19),""))) | K19: =IF(ISNUMBER(H19),H19-Anagrafica!$K$8,"") | L19: =IF(D19="No",IF(A19="SC-01","ESCLUSIONE NON AMMESSA",IF(Q19="","MOTIVO NA MANCANTE","NON APPLICABILE")),IF(D19<>"Si","DA DEFINIRE",IF(OR(AND(E19<>"",NOT(ISNUMBER(E19))),AND(F19<>"",NOT(ISNUMBER(F19))),AND(G19<>"",NOT(ISNUMBER(G19))),AND(M19<>"",NOT(ISNUMBER(M19))),AND(N19<>"",NOT(ISNUMBER(N19))),AND(O19<>"",NOT(ISNUMBER(O19))),AND(ISNUMBER(E19),E19<=0),AND(ISNUMBER(F19),F19<=0),AND(ISNUMBER(G19),G19<=0),AND(ISNUMBER(M19),M19<0),AND(ISNUMBER(N19),N19<=0),AND(ISNUMBER(O19),O19<0)),"DATI NON VALIDI",IF(OR(AND(ISNUMBER(K19),K19<0),AND(ISNUMBER(P19),P19<0)),"SCADUTA",IF(OR(AND(ISNUMBER(K19),K19=0),AND(ISNUMBER(P19),P19=0)),"SCADENZA OGGI / ORE",IF(AND(OR(O19<>"",AND(M19<>"",N19<>"")),NOT(ISNUMBER(Anagrafica!$C$19))),"CONTATORE MANCANTE",IF(AND(H19="",P19=""),"SCADENZA MANCANTE",IF(OR(I19="",J19="",Q19=""),"DOCUMENTARE",IF(OR(AND(ISNUMBER(K19),K19<=Anagrafica!$K$11),AND(ISNUMBER(P19),P19<=Anagrafica!$K$12)),"IN SCADENZA",IF(AND(ISNUMBER(K19),K19<=Anagrafica!$K$10),"PREAVVISO","NEI TERMINI")))))))))) -> DA DEFINIRE | P19: =IF(AND(D19="Si",ISNUMBER(Anagrafica!$C$19)),IF(ISNUMBER(O19),O19-Anagrafica!$C$19,IF(AND(ISNUMBER(M19),ISNUMBER(N19),N19>0),M19+N19-Anagrafica!$C$19,"")),"") | R19: Sicurezza
A20: SC-13 | B20: Controlli | C20: Controllo straordinario per evento / variazione | D20: Da definire | H20: =IF(D20<>"Si","",IF(G20<>"",IF(ISNUMBER(G20),G20,""),IF(AND(ISNUMBER(E20),ISNUMBER(F20),F20>0),EDATE(E20,F20),""))) | K20: =IF(ISNUMBER(H20),H20-Anagrafica!$K$8,"") | L20: =IF(D20="No",IF(A20="SC-01","ESCLUSIONE NON AMMESSA",IF(Q20="","MOTIVO NA MANCANTE","NON APPLICABILE")),IF(D20<>"Si","DA DEFINIRE",IF(OR(AND(E20<>"",NOT(ISNUMBER(E20))),AND(F20<>"",NOT(ISNUMBER(F20))),AND(G20<>"",NOT(ISNUMBER(G20))),AND(M20<>"",NOT(ISNUMBER(M20))),AND(N20<>"",NOT(ISNUMBER(N20))),AND(O20<>"",NOT(ISNUMBER(O20))),AND(ISNUMBER(E20),E20<=0),AND(ISNUMBER(F20),F20<=0),AND(ISNUMBER(G20),G20<=0),AND(ISNUMBER(M20),M20<0),AND(ISNUMBER(N20),N20<=0),AND(ISNUMBER(O20),O20<0)),"DATI NON VALIDI",IF(OR(AND(ISNUMBER(K20),K20<0),AND(ISNUMBER(P20),P20<0)),"SCADUTA",IF(OR(AND(ISNUMBER(K20),K20=0),AND(ISNUMBER(P20),P20=0)),"SCADENZA OGGI / ORE",IF(AND(OR(O20<>"",AND(M20<>"",N20<>"")),NOT(ISNUMBER(Anagrafica!$C$19))),"CONTATORE MANCANTE",IF(AND(H20="",P20=""),"SCADENZA MANCANTE",IF(OR(I20="",J20="",Q20=""),"DOCUMENTARE",IF(OR(AND(ISNUMBER(K20),K20<=Anagrafica!$K$11),AND(ISNUMBER(P20),P20<=Anagrafica!$K$12)),"IN SCADENZA",IF(AND(ISNUMBER(K20),K20<=Anagrafica!$K$10),"PREAVVISO","NEI TERMINI")))))))))) -> DA DEFINIRE | P20: =IF(AND(D20="Si",ISNUMBER(Anagrafica!$C$19)),IF(ISNUMBER(O20),O20-Anagrafica!$C$19,IF(AND(ISNUMBER(M20),ISNUMBER(N20),N20>0),M20+N20-Anagrafica!$C$19,"")),"") | R20: Sicurezza
... A27: SC-20 | B27: Personalizzabile | C27: Ulteriore attività da specificare | D27: Da definire | H27: =IF(D27<>"Si","",IF(G27<>"",IF(ISNUMBER(G27),G27,""),IF(AND(ISNUMBER(E27),ISNUMBER(F27),F27>0),EDATE(E27,F27),""))) | K27: =IF(ISNUMBER(H27),H27-Anagrafica!$K$8,"") | L27: =IF(D27="No",IF(A27="SC-01","ESCLUSIONE NON AMMESSA",IF(Q27="","MOTIVO NA MANCANTE","NON APPLICABILE")),IF(D27<>"Si","DA DEFINIRE",IF(OR(AND(E27<>"",NOT(ISNUMBER(E27))),AND(F27<>"",NOT(ISNUMBER(F27))),AND(G27<>"",NOT(ISNUMBER(G27))),AND(M27<>"",NOT(ISNUMBER(M27))),AND(N27<>"",NOT(ISNUMBER(N27))),AND(O27<>"",NOT(ISNUMBER(O27))),AND(ISNUMBER(E27),E27<=0),AND(ISNUMBER(F27),F27<=0),AND(ISNUMBER(G27),G27<=0),AND(ISNUMBER(M27),M27<0),AND(ISNUMBER(N27),N27<=0),AND(ISNUMBER(O27),O27<0)),"DATI NON VALIDI",IF(OR(AND(ISNUMBER(K27),K27<0),AND(ISNUMBER(P27),P27<0)),"SCADUTA",IF(OR(AND(ISNUMBER(K27),K27=0),AND(ISNUMBER(P27),P27=0)),"SCADENZA OGGI / ORE",IF(AND(OR(O27<>"",AND(M27<>"",N27<>"")),NOT(ISNUMBER(Anagrafica!$C$19))),"CONTATORE MANCANTE",IF(AND(H27="",P27=""),"SCADENZA MANCANTE",IF(OR(I27="",J27="",Q27=""),"DOCUMENTARE",IF(OR(AND(ISNUMBER(K27),K27<=Anagrafica!$K$11),AND(ISNUMBER(P27),P27<=Anagrafica!$K$12)),"IN SCADENZA",IF(AND(ISNUMBER(K27),K27<=Anagrafica!$K$10),"PREAVVISO","NEI TERMINI")))))))))) -> DA DEFINIRE | P27: =IF(AND(D27="Si",ISNUMBER(Anagrafica!$C$19)),IF(ISNUMBER(O27),O27-Anagrafica!$C$19,IF(AND(ISNUMBER(M27),ISNUMBER(N27),N27>0),M27+N27-Anagrafica!$C$19,"")),"") | R27: Sicurezza
A29: Le frequenze manutentive devono provenire dal manuale. Con doppio limite tempo/ore, verificare il criterio del fabbricante: l'allerta considera il primo limite raggiunto. Nessuna indagine strutturale diventa automaticamente obbligatoria solo per l'età. SC-20: specificare l'attività o motivarne l'esclusione.

Sheet Operatori
A1: OPERATORI | REQUISITI E AUTORIZZAZIONI
A3: Registrare soltanto dati pertinenti. Nessuna diagnosi. La presenza di un attestato non dimostra da sola l'addestramento.
A4: =IFERROR(HYPERLINK("#'Dashboard'!A1","◀ DASHBOARD"),"◀ DASHBOARD") -> ◀ DASHBOARD | D4: =IFERROR(HYPERLINK("#'Guida'!A1","GUIDA / LEGENDA"),"GUIDA / LEGENDA") -> GUIDA / LEGENDA
A7: Operatore | B7: Impresa / ruolo | C7: Assegnato | D7: Categorie verificate | E7: Attestato / evidenza | F7: Ultimo corso / aggiornamento | G7: Scadenza documentata | H7: Prossima scadenza | I7: Funzioni aggiuntive | J7: Modulo / motivo NA | K7: Addestramento sul mezzo | L7: Autorizzazione interna | M7: Verificatore requisiti | N7: Data riscontro | O7: Stato | P7: Residuo giorni
H8: =IF(A8="","",IF(ISNUMBER(G8),G8,IF(ISNUMBER(F8),EDATE(F8,Anagrafica!$K$13),""))) | O8: =IF(AND(A8<>"",C8="Si",OR(AND(G8<>"",NOT(ISNUMBER(G8))),AND(ISNUMBER(G8),G8<=0),AND(ISNUMBER(F8),F8<=0),AND(ISNUMBER(N8),N8<=0),AND(ISNUMBER(G8),ISNUMBER(F8),G8<F8))),"DATE DA VERIFICARE",IF(A8="","",IF(C8="No","NON ASSEGNATO",IF(C8<>"Si","ASSEGNAZIONE DA DEFINIRE",IF(OR(D8="",E8="",F8="",I8="",J8="",K8="",L8="",M8="",N8=""),"REQUISITI INCOMPLETI",IF(OR(NOT(ISNUMBER(F8)),NOT(ISNUMBER(N8)),H8="",F8>Anagrafica!$K$8,N8>Anagrafica!$K$8),"DATE DA VERIFICARE",IF(OR(AND(Anagrafica!$C$16="Fisso",NOT(OR(D8="Fisso",D8="Fisso e rotativo"))),AND(Anagrafica!$C$16="Rotativo",NOT(OR(D8="Rotativo",D8="Fisso e rotativo")))),"CATEGORIA NON COERENTE",IF(AND(OR(Anagrafica!$K$16="Si",Anagrafica!$K$17="Si"),I8<>"Verificate"),"FUNZIONE NON VERIFICATA",IF(H8<=Anagrafica!$K$8,"AGGIORNAMENTO DA ESEGUIRE",IF(P8<=Anagrafica!$K$10,"REQUISITI IN SCADENZA","REQUISITI DOCUMENTATI")))))))))) | P8: =IF(AND(A8<>"",ISNUMBER(H8)),H8-Anagrafica!$K$8,"")
H9: =IF(A9="","",IF(ISNUMBER(G9),G9,IF(ISNUMBER(F9),EDATE(F9,Anagrafica!$K$13),""))) | O9: =IF(AND(A9<>"",C9="Si",OR(AND(G9<>"",NOT(ISNUMBER(G9))),AND(ISNUMBER(G9),G9<=0),AND(ISNUMBER(F9),F9<=0),AND(ISNUMBER(N9),N9<=0),AND(ISNUMBER(G9),ISNUMBER(F9),G9<F9))),"DATE DA VERIFICARE",IF(A9="","",IF(C9="No","NON ASSEGNATO",IF(C9<>"Si","ASSEGNAZIONE DA DEFINIRE",IF(OR(D9="",E9="",F9="",I9="",J9="",K9="",L9="",M9="",N9=""),"REQUISITI INCOMPLETI",IF(OR(NOT(ISNUMBER(F9)),NOT(ISNUMBER(N9)),H9="",F9>Anagrafica!$K$8,N9>Anagrafica!$K$8),"DATE DA VERIFICARE",IF(OR(AND(Anagrafica!$C$16="Fisso",NOT(OR(D9="Fisso",D9="Fisso e rotativo"))),AND(Anagrafica!$C$16="Rotativo",NOT(OR(D9="Rotativo",D9="Fisso e rotativo")))),"CATEGORIA NON COERENTE",IF(AND(OR(Anagrafica!$K$16="Si",Anagrafica!$K$17="Si"),I9<>"Verificate"),"FUNZIONE NON VERIFICATA",IF(H9<=Anagrafica!$K$8,"AGGIORNAMENTO DA ESEGUIRE",IF(P9<=Anagrafica!$K$10,"REQUISITI IN SCADENZA","REQUISITI DOCUMENTATI")))))))))) | P9: =IF(AND(A9<>"",ISNUMBER(H9)),H9-Anagrafica!$K$8,"")
H10: =IF(A10="","",IF(ISNUMBER(G10),G10,IF(ISNUMBER(F10),EDATE(F10,Anagrafica!$K$13),""))) | O10: =IF(AND(A10<>"",C10="Si",OR(AND(G10<>"",NOT(ISNUMBER(G10))),AND(ISNUMBER(G10),G10<=0),AND(ISNUMBER(F10),F10<=0),AND(ISNUMBER(N10),N10<=0),AND(ISNUMBER(G10),ISNUMBER(F10),G10<F10))),"DATE DA VERIFICARE",IF(A10="","",IF(C10="No","NON ASSEGNATO",IF(C10<>"Si","ASSEGNAZIONE DA DEFINIRE",IF(OR(D10="",E10="",F10="",I10="",J10="",K10="",L10="",M10="",N10=""),"REQUISITI INCOMPLETI",IF(OR(NOT(ISNUMBER(F10)),NOT(ISNUMBER(N10)),H10="",F10>Anagrafica!$K$8,N10>Anagrafica!$K$8),"DATE DA VERIFICARE",IF(OR(AND(Anagrafica!$C$16="Fisso",NOT(OR(D10="Fisso",D10="Fisso e rotativo"))),AND(Anagrafica!$C$16="Rotativo",NOT(OR(D10="Rotativo",D10="Fisso e rotativo")))),"CATEGORIA NON COERENTE",IF(AND(OR(Anagrafica!$K$16="Si",Anagrafica!$K$17="Si"),I10<>"Verificate"),"FUNZIONE NON VERIFICATA",IF(H10<=Anagrafica!$K$8,"AGGIORNAMENTO DA ESEGUIRE",IF(P10<=Anagrafica!$K$10,"REQUISITI IN SCADENZA","REQUISITI DOCUMENTATI")))))))))) | P10: =IF(AND(A10<>"",ISNUMBER(H10)),H10-Anagrafica!$K$8,"")
H11: =IF(A11="","",IF(ISNUMBER(G11),G11,IF(ISNUMBER(F11),EDATE(F11,Anagrafica!$K$13),""))) | O11: =IF(AND(A11<>"",C11="Si",OR(AND(G11<>"",NOT(ISNUMBER(G11))),AND(ISNUMBER(G11),G11<=0),AND(ISNUMBER(F11),F11<=0),AND(ISNUMBER(N11),N11<=0),AND(ISNUMBER(G11),ISNUMBER(F11),G11<F11))),"DATE DA VERIFICARE",IF(A11="","",IF(C11="No","NON ASSEGNATO",IF(C11<>"Si","ASSEGNAZIONE DA DEFINIRE",IF(OR(D11="",E11="",F11="",I11="",J11="",K11="",L11="",M11="",N11=""),"REQUISITI INCOMPLETI",IF(OR(NOT(ISNUMBER(F11)),NOT(ISNUMBER(N11)),H11="",F11>Anagrafica!$K$8,N11>Anagrafica!$K$8),"DATE DA VERIFICARE",IF(OR(AND(Anagrafica!$C$16="Fisso",NOT(OR(D11="Fisso",D11="Fisso e rotativo"))),AND(Anagrafica!$C$16="Rotativo",NOT(OR(D11="Rotativo",D11="Fisso e rotativo")))),"CATEGORIA NON COERENTE",IF(AND(OR(Anagrafica!$K$16="Si",Anagrafica!$K$17="Si"),I11<>"Verificate"),"FUNZIONE NON VERIFICATA",IF(H11<=Anagrafica!$K$8,"AGGIORNAMENTO DA ESEGUIRE",IF(P11<=Anagrafica!$K$10,"REQUISITI IN SCADENZA","REQUISITI DOCUMENTATI")))))))))) | P11: =IF(AND(A11<>"",ISNUMBER(H11)),H11-Anagrafica!$K$8,"")
H12: =IF(A12="","",IF(ISNUMBER(G12),G12,IF(ISNUMBER(F12),EDATE(F12,Anagrafica!$K$13),""))) | O12: =IF(AND(A12<>"",C12="Si",OR(AND(G12<>"",NOT(ISNUMBER(G12))),AND(ISNUMBER(G12),G12<=0),AND(ISNUMBER(F12),F12<=0),AND(ISNUMBER(N12),N12<=0),AND(ISNUMBER(G12),ISNUMBER(F12),G12<F12))),"DATE DA VERIFICARE",IF(A12="","",IF(C12="No","NON ASSEGNATO",IF(C12<>"Si","ASSEGNAZIONE DA DEFINIRE",IF(OR(D12="",E12="",F12="",I12="",J12="",K12="",L12="",M12="",N12=""),"REQUISITI INCOMPLETI",IF(OR(NOT(ISNUMBER(F12)),NOT(ISNUMBER(N12)),H12="",F12>Anagrafica!$K$8,N12>Anagrafica!$K$8),"DATE DA VERIFICARE",IF(OR(AND(Anagrafica!$C$16="Fisso",NOT(OR(D12="Fisso",D12="Fisso e rotativo"))),AND(Anagrafica!$C$16="Rotativo",NOT(OR(D12="Rotativo",D12="Fisso e rotativo")))),"CATEGORIA NON COERENTE",IF(AND(OR(Anagrafica!$K$16="Si",Anagrafica!$K$17="Si"),I12<>"Verificate"),"FUNZIONE NON VERIFICATA",IF(H12<=Anagrafica!$K$8,"AGGIORNAMENTO DA ESEGUIRE",IF(P12<=Anagrafica!$K$10,"REQUISITI IN SCADENZA","REQUISITI DOCUMENTATI")))))))))) | P12: =IF(AND(A12<>"",ISNUMBER(H12)),H12-Anagrafica!$K$8,"")
H13: =IF(A13="","",IF(ISNUMBER(G13),G13,IF(ISNUMBER(F13),EDATE(F13,Anagrafica!$K$13),""))) | O13: =IF(AND(A13<>"",C13="Si",OR(AND(G13<>"",NOT(ISNUMBER(G13))),AND(ISNUMBER(G13),G13<=0),AND(ISNUMBER(F13),F13<=0),AND(ISNUMBER(N13),N13<=0),AND(ISNUMBER(G13),ISNUMBER(F13),G13<F13))),"DATE DA VERIFICARE",IF(A13="","",IF(C13="No","NON ASSEGNATO",IF(C13<>"Si","ASSEGNAZIONE DA DEFINIRE",IF(OR(D13="",E13="",F13="",I13="",J13="",K13="",L13="",M13="",N13=""),"REQUISITI INCOMPLETI",IF(OR(NOT(ISNUMBER(F13)),NOT(ISNUMBER(N13)),H13="",F13>Anagrafica!$K$8,N13>Anagrafica!$K$8),"DATE DA VERIFICARE",IF(OR(AND(Anagrafica!$C$16="Fisso",NOT(OR(D13="Fisso",D13="Fisso e rotativo"))),AND(Anagrafica!$C$16="Rotativo",NOT(OR(D13="Rotativo",D13="Fisso e rotativo")))),"CATEGORIA NON COERENTE",IF(AND(OR(Anagrafica!$K$16="Si",Anagrafica!$K$17="Si"),I13<>"Verificate"),"FUNZIONE NON VERIFICATA",IF(H13<=Anagrafica!$K$8,"AGGIORNAMENTO DA ESEGUIRE",IF(P13<=Anagrafica!$K$10,"REQUISITI IN SCADENZA","REQUISITI DOCUMENTATI")))))))))) | P13: =IF(AND(A13<>"",ISNUMBER(H13)),H13-Anagrafica!$K$8,"")
H14: =IF(A14="","",IF(ISNUMBER(G14),G14,IF(ISNUMBER(F14),EDATE(F14,Anagrafica!$K$13),""))) | O14: =IF(AND(A14<>"",C14="Si",OR(AND(G14<>"",NOT(ISNUMBER(G14))),AND(ISNUMBER(G14),G14<=0),AND(ISNUMBER(F14),F14<=0),AND(ISNUMBER(N14),N14<=0),AND(ISNUMBER(G14),ISNUMBER(F14),G14<F14))),"DATE DA VERIFICARE",IF(A14="","",IF(C14="No","NON ASSEGNATO",IF(C14<>"Si","ASSEGNAZIONE DA DEFINIRE",IF(OR(D14="",E14="",F14="",I14="",J14="",K14="",L14="",M14="",N14=""),"REQUISITI INCOMPLETI",IF(OR(NOT(ISNUMBER(F14)),NOT(ISNUMBER(N14)),H14="",F14>Anagrafica!$K$8,N14>Anagrafica!$K$8),"DATE DA VERIFICARE",IF(OR(AND(Anagrafica!$C$16="Fisso",NOT(OR(D14="Fisso",D14="Fisso e rotativo"))),AND(Anagrafica!$C$16="Rotativo",NOT(OR(D14="Rotativo",D14="Fisso e rotativo")))),"CATEGORIA NON COERENTE",IF(AND(OR(Anagrafica!$K$16="Si",Anagrafica!$K$17="Si"),I14<>"Verificate"),"FUNZIONE NON VERIFICATA",IF(H14<=Anagrafica!$K$8,"AGGIORNAMENTO DA ESEGUIRE",IF(P14<=Anagrafica!$K$10,"REQUISITI IN SCADENZA","REQUISITI DOCUMENTATI")))))))))) | P14: =IF(AND(A14<>"",ISNUMBER(H14)),H14-Anagrafica!$K$8,"")
H15: =IF(A15="","",IF(ISNUMBER(G15),G15,IF(ISNUMBER(F15),EDATE(F15,Anagrafica!$K$13),""))) | O15: =IF(AND(A15<>"",C15="Si",OR(AND(G15<>"",NOT(ISNUMBER(G15))),AND(ISNUMBER(G15),G15<=0),AND(ISNUMBER(F15),F15<=0),AND(ISNUMBER(N15),N15<=0),AND(ISNUMBER(G15),ISNUMBER(F15),G15<F15))),"DATE DA VERIFICARE",IF(A15="","",IF(C15="No","NON ASSEGNATO",IF(C15<>"Si","ASSEGNAZIONE DA DEFINIRE",IF(OR(D15="",E15="",F15="",I15="",J15="",K15="",L15="",M15="",N15=""),"REQUISITI INCOMPLETI",IF(OR(NOT(ISNUMBER(F15)),NOT(ISNUMBER(N15)),H15="",F15>Anagrafica!$K$8,N15>Anagrafica!$K$8),"DATE DA VERIFICARE",IF(OR(AND(Anagrafica!$C$16="Fisso",NOT(OR(D15="Fisso",D15="Fisso e rotativo"))),AND(Anagrafica!$C$16="Rotativo",NOT(OR(D15="Rotativo",D15="Fisso e rotativo")))),"CATEGORIA NON COERENTE",IF(AND(OR(Anagrafica!$K$16="Si",Anagrafica!$K$17="Si"),I15<>"Verificate"),"FUNZIONE NON VERIFICATA",IF(H15<=Anagrafica!$K$8,"AGGIORNAMENTO DA ESEGUIRE",IF(P15<=Anagrafica!$K$10,"REQUISITI IN SCADENZA","REQUISITI DOCUMENTATI")))))))))) | P15: =IF(AND(A15<>"",ISNUMBER(H15)),H15-Anagrafica!$K$8,"")
H16: =IF(A16="","",IF(ISNUMBER(G16),G16,IF(ISNUMBER(F16),EDATE(F16,Anagrafica!$K$13),""))) | O16: =IF(AND(A16<>"",C16="Si",OR(AND(G16<>"",NOT(ISNUMBER(G16))),AND(ISNUMBER(G16),G16<=0),AND(ISNUMBER(F16),F16<=0),AND(ISNUMBER(N16),N16<=0),AND(ISNUMBER(G16),ISNUMBER(F16),G16<F16))),"DATE DA VERIFICARE",IF(A16="","",IF(C16="No","NON ASSEGNATO",IF(C16<>"Si","ASSEGNAZIONE DA DEFINIRE",IF(OR(D16="",E16="",F16="",I16="",J16="",K16="",L16="",M16="",N16=""),"REQUISITI INCOMPLETI",IF(OR(NOT(ISNUMBER(F16)),NOT(ISNUMBER(N16)),H16="",F16>Anagrafica!$K$8,N16>Anagrafica!$K$8),"DATE DA VERIFICARE",IF(OR(AND(Anagrafica!$C$16="Fisso",NOT(OR(D16="Fisso",D16="Fisso e rotativo"))),AND(Anagrafica!$C$16="Rotativo",NOT(OR(D16="Rotativo",D16="Fisso e rotativo")))),"CATEGORIA NON COERENTE",IF(AND(OR(Anagrafica!$K$16="Si",Anagrafica!$K$17="Si"),I16<>"Verificate"),"FUNZIONE NON VERIFICATA",IF(H16<=Anagrafica!$K$8,"AGGIORNAMENTO DA ESEGUIRE",IF(P16<=Anagrafica!$K$10,"REQUISITI IN SCADENZA","REQUISITI DOCUMENTATI")))))))))) | P16: =IF(AND(A16<>"",ISNUMBER(H16)),H16-Anagrafica!$K$8,"")
H17: =IF(A17="","",IF(ISNUMBER(G17),G17,IF(ISNUMBER(F17),EDATE(F17,Anagrafica!$K$13),""))) | O17: =IF(AND(A17<>"",C17="Si",OR(AND(G17<>"",NOT(ISNUMBER(G17))),AND(ISNUMBER(G17),G17<=0),AND(ISNUMBER(F17),F17<=0),AND(ISNUMBER(N17),N17<=0),AND(ISNUMBER(G17),ISNUMBER(F17),G17<F17))),"DATE DA VERIFICARE",IF(A17="","",IF(C17="No","NON ASSEGNATO",IF(C17<>"Si","ASSEGNAZIONE DA DEFINIRE",IF(OR(D17="",E17="",F17="",I17="",J17="",K17="",L17="",M17="",N17=""),"REQUISITI INCOMPLETI",IF(OR(NOT(ISNUMBER(F17)),NOT(ISNUMBER(N17)),H17="",F17>Anagrafica!$K$8,N17>Anagrafica!$K$8),"DATE DA VERIFICARE",IF(OR(AND(Anagrafica!$C$16="Fisso",NOT(OR(D17="Fisso",D17="Fisso e rotativo"))),AND(Anagrafica!$C$16="Rotativo",NOT(OR(D17="Rotativo",D17="Fisso e rotativo")))),"CATEGORIA NON COERENTE",IF(AND(OR(Anagrafica!$K$16="Si",Anagrafica!$K$17="Si"),I17<>"Verificate"),"FUNZIONE NON VERIFICATA",IF(H17<=Anagrafica!$K$8,"AGGIORNAMENTO DA ESEGUIRE",IF(P17<=Anagrafica!$K$10,"REQUISITI IN SCADENZA","REQUISITI DOCUMENTATI")))))))))) | P17: =IF(AND(A17<>"",ISNUMBER(H17)),H17-Anagrafica!$K$8,"")
H18: =IF(A18="","",IF(ISNUMBER(G18),G18,IF(ISNUMBER(F18),EDATE(F18,Anagrafica!$K$13),""))) | O18: =IF(AND(A18<>"",C18="Si",OR(AND(G18<>"",NOT(ISNUMBER(G18))),AND(ISNUMBER(G18),G18<=0),AND(ISNUMBER(F18),F18<=0),AND(ISNUMBER(N18),N18<=0),AND(ISNUMBER(G18),ISNUMBER(F18),G18<F18))),"DATE DA VERIFICARE",IF(A18="","",IF(C18="No","NON ASSEGNATO",IF(C18<>"Si","ASSEGNAZIONE DA DEFINIRE",IF(OR(D18="",E18="",F18="",I18="",J18="",K18="",L18="",M18="",N18=""),"REQUISITI INCOMPLETI",IF(OR(NOT(ISNUMBER(F18)),NOT(ISNUMBER(N18)),H18="",F18>Anagrafica!$K$8,N18>Anagrafica!$K$8),"DATE DA VERIFICARE",IF(OR(AND(Anagrafica!$C$16="Fisso",NOT(OR(D18="Fisso",D18="Fisso e rotativo"))),AND(Anagrafica!$C$16="Rotativo",NOT(OR(D18="Rotativo",D18="Fisso e rotativo")))),"CATEGORIA NON COERENTE",IF(AND(OR(Anagrafica!$K$16="Si",Anagrafica!$K$17="Si"),I18<>"Verificate"),"FUNZIONE NON VERIFICATA",IF(H18<=Anagrafica!$K$8,"AGGIORNAMENTO DA ESEGUIRE",IF(P18<=Anagrafica!$K$10,"REQUISITI IN SCADENZA","REQUISITI DOCUMENTATI")))))))))) | P18: =IF(AND(A18<>"",ISNUMBER(H18)),H18-Anagrafica!$K$8,"")
H19: =IF(A19="","",IF(ISNUMBER(G19),G19,IF(ISNUMBER(F19),EDATE(F19,Anagrafica!$K$13),""))) | O19: =IF(AND(A19<>"",C19="Si",OR(AND(G19<>"",NOT(ISNUMBER(G19))),AND(ISNUMBER(G19),G19<=0),AND(ISNUMBER(F19),F19<=0),AND(ISNUMBER(N19),N19<=0),AND(ISNUMBER(G19),ISNUMBER(F19),G19<F19))),"DATE DA VERIFICARE",IF(A19="","",IF(C19="No","NON ASSEGNATO",IF(C19<>"Si","ASSEGNAZIONE DA DEFINIRE",IF(OR(D19="",E19="",F19="",I19="",J19="",K19="",L19="",M19="",N19=""),"REQUISITI INCOMPLETI",IF(OR(NOT(ISNUMBER(F19)),NOT(ISNUMBER(N19)),H19="",F19>Anagrafica!$K$8,N19>Anagrafica!$K$8),"DATE DA VERIFICARE",IF(OR(AND(Anagrafica!$C$16="Fisso",NOT(OR(D19="Fisso",D19="Fisso e rotativo"))),AND(Anagrafica!$C$16="Rotativo",NOT(OR(D19="Rotativo",D19="Fisso e rotativo")))),"CATEGORIA NON COERENTE",IF(AND(OR(Anagrafica!$K$16="Si",Anagrafica!$K$17="Si"),I19<>"Verificate"),"FUNZIONE NON VERIFICATA",IF(H19<=Anagrafica!$K$8,"AGGIORNAMENTO DA ESEGUIRE",IF(P19<=Anagrafica!$K$10,"REQUISITI IN SCADENZA","REQUISITI DOCUMENTATI")))))))))) | P19: =IF(AND(A19<>"",ISNUMBER(H19)),H19-Anagrafica!$K$8,"")
... H27: =IF(A27="","",IF(ISNUMBER(G27),G27,IF(ISNUMBER(F27),EDATE(F27,Anagrafica!$K$13),""))) | O27: =IF(AND(A27<>"",C27="Si",OR(AND(G27<>"",NOT(ISNUMBER(G27))),AND(ISNUMBER(G27),G27<=0),AND(ISNUMBER(F27),F27<=0),AND(ISNUMBER(N27),N27<=0),AND(ISNUMBER(G27),ISNUMBER(F27),G27<F27))),"DATE DA VERIFICARE",IF(A27="","",IF(C27="No","NON ASSEGNATO",IF(C27<>"Si","ASSEGNAZIONE DA DEFINIRE",IF(OR(D27="",E27="",F27="",I27="",J27="",K27="",L27="",M27="",N27=""),"REQUISITI INCOMPLETI",IF(OR(NOT(ISNUMBER(F27)),NOT(ISNUMBER(N27)),H27="",F27>Anagrafica!$K$8,N27>Anagrafica!$K$8),"DATE DA VERIFICARE",IF(OR(AND(Anagrafica!$C$16="Fisso",NOT(OR(D27="Fisso",D27="Fisso e rotativo"))),AND(Anagrafica!$C$16="Rotativo",NOT(OR(D27="Rotativo",D27="Fisso e rotativo")))),"CATEGORIA NON COERENTE",IF(AND(OR(Anagrafica!$K$16="Si",Anagrafica!$K$17="Si"),I27<>"Verificate"),"FUNZIONE NON VERIFICATA",IF(H27<=Anagrafica!$K$8,"AGGIORNAMENTO DA ESEGUIRE",IF(P27<=Anagrafica!$K$10,"REQUISITI IN SCADENZA","REQUISITI DOCUMENTATI")))))))))) | P27: =IF(AND(A27<>"",ISNUMBER(H27)),H27-Anagrafica!$K$8,"")
A30: La scadenza calcolata a 60 mesi è un promemoria del riferimento richiamato dalla procedura, da verificare sul percorso effettivo e sulle regole transitorie. La data documentata prevale. “Requisiti documentati” non equivale a rilascio automatico di abilitazioni o autorizzazioni.

Sheet Accessori
A1: ACCESSORI | COMPATIBILITÀ DELL'INSIEME
A3: L'agganciabilità fisica non dimostra la compatibilità. Registrare documenti della combinazione reale.
A4: =IFERROR(HYPERLINK("#'Dashboard'!A1","◀ DASHBOARD"),"◀ DASHBOARD") -> ◀ DASHBOARD | D4: =IFERROR(HYPERLINK("#'Guida'!A1","GUIDA / LEGENDA"),"GUIDA / LEGENDA") -> GUIDA / LEGENDA
A7: ID accessorio | B7: Tipo / funzione | C7: Marca, modello e matricola | D7: In uso nella sessione | E7: Compatibilità documentata | F7: Manuale / revisione | G7: Diagramma / profilo | H7: Stato controllo | I7: Data controllo | J7: Prossimo controllo | K7: Responsabile riscontro | L7: Evidenza / rapporto | M7: Stato registrazione | N7: Rinvio evidenza
M8: =IF(AND(A8<>"",D8="Si",OR(AND(ISNUMBER(I8),I8<=0),AND(ISNUMBER(J8),J8<=0),AND(ISNUMBER(J8),ISNUMBER(I8),J8<I8))),"DATA NON VALIDA",IF(A8="","",IF(D8="No","NON IN USO",IF(D8<>"Si","USO DA DEFINIRE",IF(OR(H8="NC",H8="NV"),"NON UTILIZZARE",IF(OR(B8="",C8="",E8="",F8="",G8="",H8="",I8="",K8="",L8=""),"DATI INCOMPLETI",IF(OR(H8<>"C",NOT(ISNUMBER(I8)),I8>Anagrafica!$K$8),"DA VERIFICARE",IF(AND(J8<>"",NOT(ISNUMBER(J8))),"DATA NON VALIDA",IF(AND(ISNUMBER(J8),J8<=Anagrafica!$K$8),"CONTROLLO SCADUTO","DATI DOCUMENTATI")))))))))
M9: =IF(AND(A9<>"",D9="Si",OR(AND(ISNUMBER(I9),I9<=0),AND(ISNUMBER(J9),J9<=0),AND(ISNUMBER(J9),ISNUMBER(I9),J9<I9))),"DATA NON VALIDA",IF(A9="","",IF(D9="No","NON IN USO",IF(D9<>"Si","USO DA DEFINIRE",IF(OR(H9="NC",H9="NV"),"NON UTILIZZARE",IF(OR(B9="",C9="",E9="",F9="",G9="",H9="",I9="",K9="",L9=""),"DATI INCOMPLETI",IF(OR(H9<>"C",NOT(ISNUMBER(I9)),I9>Anagrafica!$K$8),"DA VERIFICARE",IF(AND(J9<>"",NOT(ISNUMBER(J9))),"DATA NON VALIDA",IF(AND(ISNUMBER(J9),J9<=Anagrafica!$K$8),"CONTROLLO SCADUTO","DATI DOCUMENTATI")))))))))
M10: =IF(AND(A10<>"",D10="Si",OR(AND(ISNUMBER(I10),I10<=0),AND(ISNUMBER(J10),J10<=0),AND(ISNUMBER(J10),ISNUMBER(I10),J10<I10))),"DATA NON VALIDA",IF(A10="","",IF(D10="No","NON IN USO",IF(D10<>"Si","USO DA DEFINIRE",IF(OR(H10="NC",H10="NV"),"NON UTILIZZARE",IF(OR(B10="",C10="",E10="",F10="",G10="",H10="",I10="",K10="",L10=""),"DATI INCOMPLETI",IF(OR(H10<>"C",NOT(ISNUMBER(I10)),I10>Anagrafica!$K$8),"DA VERIFICARE",IF(AND(J10<>"",NOT(ISNUMBER(J10))),"DATA NON VALIDA",IF(AND(ISNUMBER(J10),J10<=Anagrafica!$K$8),"CONTROLLO SCADUTO","DATI DOCUMENTATI")))))))))
M11: =IF(AND(A11<>"",D11="Si",OR(AND(ISNUMBER(I11),I11<=0),AND(ISNUMBER(J11),J11<=0),AND(ISNUMBER(J11),ISNUMBER(I11),J11<I11))),"DATA NON VALIDA",IF(A11="","",IF(D11="No","NON IN USO",IF(D11<>"Si","USO DA DEFINIRE",IF(OR(H11="NC",H11="NV"),"NON UTILIZZARE",IF(OR(B11="",C11="",E11="",F11="",G11="",H11="",I11="",K11="",L11=""),"DATI INCOMPLETI",IF(OR(H11<>"C",NOT(ISNUMBER(I11)),I11>Anagrafica!$K$8),"DA VERIFICARE",IF(AND(J11<>"",NOT(ISNUMBER(J11))),"DATA NON VALIDA",IF(AND(ISNUMBER(J11),J11<=Anagrafica!$K$8),"CONTROLLO SCADUTO","DATI DOCUMENTATI")))))))))
M12: =IF(AND(A12<>"",D12="Si",OR(AND(ISNUMBER(I12),I12<=0),AND(ISNUMBER(J12),J12<=0),AND(ISNUMBER(J12),ISNUMBER(I12),J12<I12))),"DATA NON VALIDA",IF(A12="","",IF(D12="No","NON IN USO",IF(D12<>"Si","USO DA DEFINIRE",IF(OR(H12="NC",H12="NV"),"NON UTILIZZARE",IF(OR(B12="",C12="",E12="",F12="",G12="",H12="",I12="",K12="",L12=""),"DATI INCOMPLETI",IF(OR(H12<>"C",NOT(ISNUMBER(I12)),I12>Anagrafica!$K$8),"DA VERIFICARE",IF(AND(J12<>"",NOT(ISNUMBER(J12))),"DATA NON VALIDA",IF(AND(ISNUMBER(J12),J12<=Anagrafica!$K$8),"CONTROLLO SCADUTO","DATI DOCUMENTATI")))))))))
M13: =IF(AND(A13<>"",D13="Si",OR(AND(ISNUMBER(I13),I13<=0),AND(ISNUMBER(J13),J13<=0),AND(ISNUMBER(J13),ISNUMBER(I13),J13<I13))),"DATA NON VALIDA",IF(A13="","",IF(D13="No","NON IN USO",IF(D13<>"Si","USO DA DEFINIRE",IF(OR(H13="NC",H13="NV"),"NON UTILIZZARE",IF(OR(B13="",C13="",E13="",F13="",G13="",H13="",I13="",K13="",L13=""),"DATI INCOMPLETI",IF(OR(H13<>"C",NOT(ISNUMBER(I13)),I13>Anagrafica!$K$8),"DA VERIFICARE",IF(AND(J13<>"",NOT(ISNUMBER(J13))),"DATA NON VALIDA",IF(AND(ISNUMBER(J13),J13<=Anagrafica!$K$8),"CONTROLLO SCADUTO","DATI DOCUMENTATI")))))))))
M14: =IF(AND(A14<>"",D14="Si",OR(AND(ISNUMBER(I14),I14<=0),AND(ISNUMBER(J14),J14<=0),AND(ISNUMBER(J14),ISNUMBER(I14),J14<I14))),"DATA NON VALIDA",IF(A14="","",IF(D14="No","NON IN USO",IF(D14<>"Si","USO DA DEFINIRE",IF(OR(H14="NC",H14="NV"),"NON UTILIZZARE",IF(OR(B14="",C14="",E14="",F14="",G14="",H14="",I14="",K14="",L14=""),"DATI INCOMPLETI",IF(OR(H14<>"C",NOT(ISNUMBER(I14)),I14>Anagrafica!$K$8),"DA VERIFICARE",IF(AND(J14<>"",NOT(ISNUMBER(J14))),"DATA NON VALIDA",IF(AND(ISNUMBER(J14),J14<=Anagrafica!$K$8),"CONTROLLO SCADUTO","DATI DOCUMENTATI")))))))))
M15: =IF(AND(A15<>"",D15="Si",OR(AND(ISNUMBER(I15),I15<=0),AND(ISNUMBER(J15),J15<=0),AND(ISNUMBER(J15),ISNUMBER(I15),J15<I15))),"DATA NON VALIDA",IF(A15="","",IF(D15="No","NON IN USO",IF(D15<>"Si","USO DA DEFINIRE",IF(OR(H15="NC",H15="NV"),"NON UTILIZZARE",IF(OR(B15="",C15="",E15="",F15="",G15="",H15="",I15="",K15="",L15=""),"DATI INCOMPLETI",IF(OR(H15<>"C",NOT(ISNUMBER(I15)),I15>Anagrafica!$K$8),"DA VERIFICARE",IF(AND(J15<>"",NOT(ISNUMBER(J15))),"DATA NON VALIDA",IF(AND(ISNUMBER(J15),J15<=Anagrafica!$K$8),"CONTROLLO SCADUTO","DATI DOCUMENTATI")))))))))
M16: =IF(AND(A16<>"",D16="Si",OR(AND(ISNUMBER(I16),I16<=0),AND(ISNUMBER(J16),J16<=0),AND(ISNUMBER(J16),ISNUMBER(I16),J16<I16))),"DATA NON VALIDA",IF(A16="","",IF(D16="No","NON IN USO",IF(D16<>"Si","USO DA DEFINIRE",IF(OR(H16="NC",H16="NV"),"NON UTILIZZARE",IF(OR(B16="",C16="",E16="",F16="",G16="",H16="",I16="",K16="",L16=""),"DATI INCOMPLETI",IF(OR(H16<>"C",NOT(ISNUMBER(I16)),I16>Anagrafica!$K$8),"DA VERIFICARE",IF(AND(J16<>"",NOT(ISNUMBER(J16))),"DATA NON VALIDA",IF(AND(ISNUMBER(J16),J16<=Anagrafica!$K$8),"CONTROLLO SCADUTO","DATI DOCUMENTATI")))))))))
M17: =IF(AND(A17<>"",D17="Si",OR(AND(ISNUMBER(I17),I17<=0),AND(ISNUMBER(J17),J17<=0),AND(ISNUMBER(J17),ISNUMBER(I17),J17<I17))),"DATA NON VALIDA",IF(A17="","",IF(D17="No","NON IN USO",IF(D17<>"Si","USO DA DEFINIRE",IF(OR(H17="NC",H17="NV"),"NON UTILIZZARE",IF(OR(B17="",C17="",E17="",F17="",G17="",H17="",I17="",K17="",L17=""),"DATI INCOMPLETI",IF(OR(H17<>"C",NOT(ISNUMBER(I17)),I17>Anagrafica!$K$8),"DA VERIFICARE",IF(AND(J17<>"",NOT(ISNUMBER(J17))),"DATA NON VALIDA",IF(AND(ISNUMBER(J17),J17<=Anagrafica!$K$8),"CONTROLLO SCADUTO","DATI DOCUMENTATI")))))))))
M18: =IF(AND(A18<>"",D18="Si",OR(AND(ISNUMBER(I18),I18<=0),AND(ISNUMBER(J18),J18<=0),AND(ISNUMBER(J18),ISNUMBER(I18),J18<I18))),"DATA NON VALIDA",IF(A18="","",IF(D18="No","NON IN USO",IF(D18<>"Si","USO DA DEFINIRE",IF(OR(H18="NC",H18="NV"),"NON UTILIZZARE",IF(OR(B18="",C18="",E18="",F18="",G18="",H18="",I18="",K18="",L18=""),"DATI INCOMPLETI",IF(OR(H18<>"C",NOT(ISNUMBER(I18)),I18>Anagrafica!$K$8),"DA VERIFICARE",IF(AND(J18<>"",NOT(ISNUMBER(J18))),"DATA NON VALIDA",IF(AND(ISNUMBER(J18),J18<=Anagrafica!$K$8),"CONTROLLO SCADUTO","DATI DOCUMENTATI")))))))))
M19: =IF(AND(A19<>"",D19="Si",OR(AND(ISNUMBER(I19),I19<=0),AND(ISNUMBER(J19),J19<=0),AND(ISNUMBER(J19),ISNUMBER(I19),J19<I19))),"DATA NON VALIDA",IF(A19="","",IF(D19="No","NON IN USO",IF(D19<>"Si","USO DA DEFINIRE",IF(OR(H19="NC",H19="NV"),"NON UTILIZZARE",IF(OR(B19="",C19="",E19="",F19="",G19="",H19="",I19="",K19="",L19=""),"DATI INCOMPLETI",IF(OR(H19<>"C",NOT(ISNUMBER(I19)),I19>Anagrafica!$K$8),"DA VERIFICARE",IF(AND(J19<>"",NOT(ISNUMBER(J19))),"DATA NON VALIDA",IF(AND(ISNUMBER(J19),J19<=Anagrafica!$K$8),"CONTROLLO SCADUTO","DATI DOCUMENTATI")))))))))
... M27: =IF(AND(A27<>"",D27="Si",OR(AND(ISNUMBER(I27),I27<=0),AND(ISNUMBER(J27),J27<=0),AND(ISNUMBER(J27),ISNUMBER(I27),J27<I27))),"DATA NON VALIDA",IF(A27="","",IF(D27="No","NON IN USO",IF(D27<>"Si","USO DA DEFINIRE",IF(OR(H27="NC",H27="NV"),"NON UTILIZZARE",IF(OR(B27="",C27="",E27="",F27="",G27="",H27="",I27="",K27="",L27=""),"DATI INCOMPLETI",IF(OR(H27<>"C",NOT(ISNUMBER(I27)),I27>Anagrafica!$K$8),"DA VERIFICARE",IF(AND(J27<>"",NOT(ISNUMBER(J27))),"DATA NON VALIDA",IF(AND(ISNUMBER(J27),J27<=Anagrafica!$K$8),"CONTROLLO SCADUTO","DATI DOCUMENTATI")))))))))
A30: Una riga riguarda una precisa combinazione con la macchina identificata in Anagrafica. Non attribuisce compatibilità a tutti i modelli di un marchio. Se non esiste una scadenza calendariale del controllo, documentarne il criterio nel rapporto; gli intervalli applicabili si gestiscono in Scadenze.

Sheet Piano_manovra
A1: PIANO DI MANOVRA | RISCONTRO DEL DIAGRAMMA
A3: I valori di portata si trascrivono dal diagramma originale. Il foglio non calcola la stabilità e non autorizza la manovra.
A4: =IFERROR(HYPERLINK("#'Dashboard'!A1","◀ DASHBOARD"),"◀ DASHBOARD") -> ◀ DASHBOARD | D4: =IFERROR(HYPERLINK("#'Guida'!A1","GUIDA / LEGENDA"),"GUIDA / LEGENDA") -> GUIDA / LEGENDA
A6: Attività e piano / ID
A7: Carico: descrizione e dimensioni
A8: Massa e metodo di accertamento | R8: benni
A9: Baricentro e presa
A10: Diagramma: codice / revisione / pagina
A11: Accessorio, profilo, appoggi e settore
A12: Trattamento masse accessorie nel diagramma
A13: Sito, percorso e piano appoggi
A14: Responsabile piano / operatore / segnalatore
A15: Condizioni ambientali e criteri STOP
A17: RISCONTRO NUMERICO DEL SOLO VALORE TRASCRITTO | Non interpolare o estrapolare. Sbraccio, altezza, baricentro, assetto e tutte le condizioni del diagramma devono essere verificati dal competente.
A20: Fase | B20: Applicabile | C20: Sbraccio m | D20: Altezza m | E20: Carico kg | F20: Portata kg | G20: Margine kg | H20: Utilizzo % | I20: Pagina / punto diagramma | J20: Riscontro | K20: Nota / esclusione | L20: Validatore
A21: Presa | B21: Da definire | G21: =IF(AND(B21="Si",ISNUMBER(E21),ISNUMBER(F21),E21>0,F21>0),F21-E21,"") | H21: =IF(AND(B21="Si",ISNUMBER(E21),ISNUMBER(F21),E21>0,F21>0),E21/F21,"") | J21: =IF(B21="No",IF(K21="","MOTIVARE NA","NON APPLICABILE"),IF(B21<>"Si","DA DEFINIRE",IF(OR(NOT(ISNUMBER(C21)),NOT(ISNUMBER(D21)),NOT(ISNUMBER(E21)),NOT(ISNUMBER(F21)),E21<=0,F21<=0,C21<0,D21<0,I21="",L21=""),"DATI INSUFFICIENTI",IF(E21>F21,"SUPERAMENTO","ENTRO VALORE INSERITO")))) -> DA DEFINIRE
A22: Intermedia | B22: Da definire | G22: =IF(AND(B22="Si",ISNUMBER(E22),ISNUMBER(F22),E22>0,F22>0),F22-E22,"") | H22: =IF(AND(B22="Si",ISNUMBER(E22),ISNUMBER(F22),E22>0,F22>0),E22/F22,"") | J22: =IF(B22="No",IF(K22="","MOTIVARE NA","NON APPLICABILE"),IF(B22<>"Si","DA DEFINIRE",IF(OR(NOT(ISNUMBER(C22)),NOT(ISNUMBER(D22)),NOT(ISNUMBER(E22)),NOT(ISNUMBER(F22)),E22<=0,F22<=0,C22<0,D22<0,I22="",L22=""),"DATI INSUFFICIENTI",IF(E22>F22,"SUPERAMENTO","ENTRO VALORE INSERITO")))) -> DA DEFINIRE
A23: Deposito | B23: Da definire | G23: =IF(AND(B23="Si",ISNUMBER(E23),ISNUMBER(F23),E23>0,F23>0),F23-E23,"") | H23: =IF(AND(B23="Si",ISNUMBER(E23),ISNUMBER(F23),E23>0,F23>0),E23/F23,"") | J23: =IF(B23="No",IF(K23="","MOTIVARE NA","NON APPLICABILE"),IF(B23<>"Si","DA DEFINIRE",IF(OR(NOT(ISNUMBER(C23)),NOT(ISNUMBER(D23)),NOT(ISNUMBER(E23)),NOT(ISNUMBER(F23)),E23<=0,F23<=0,C23<0,D23<0,I23="",L23=""),"DATI INSUFFICIENTI",IF(E23>F23,"SUPERAMENTO","ENTRO VALORE INSERITO")))) -> DA DEFINIRE
A24: Altra condizione | B24: Da definire | G24: =IF(AND(B24="Si",ISNUMBER(E24),ISNUMBER(F24),E24>0,F24>0),F24-E24,"") | H24: =IF(AND(B24="Si",ISNUMBER(E24),ISNUMBER(F24),E24>0,F24>0),E24/F24,"") | J24: =IF(B24="No",IF(K24="","MOTIVARE NA","NON APPLICABILE"),IF(B24<>"Si","DA DEFINIRE",IF(OR(NOT(ISNUMBER(C24)),NOT(ISNUMBER(D24)),NOT(ISNUMBER(E24)),NOT(ISNUMBER(F24)),E24<=0,F24<=0,C24<0,D24<0,I24="",L24=""),"DATI INSUFFICIENTI",IF(E24>F24,"SUPERAMENTO","ENTRO VALORE INSERITO")))) -> DA DEFINIRE
A27: =IF(COUNTIF(J21:J24,"SUPERAMENTO")>0,"STOP | PORTATA INSERITA SUPERATA",IF(OR(COUNTIF(J21:J24,"DATI INSUFFICIENTI")>0,COUNTIF(J21:J24,"DA DEFINIRE")>0,COUNTIF(J21:J24,"MOTIVARE NA")>0,COUNTIF(B21:B24,"Si")=0),"PIANO NUMERICO INCOMPLETO","RISCONTRO NUMERICO COMPLETATO | NECESSARIA VALIDAZIONE TECNICA")) -> PIANO NUMERICO INCOMPLETO
A30: Presa, stabilità, percorso e segregazione
A32: Emergenza, recupero e comunicazioni
A34: Condizioni non coperte / limitazioni
A36: Validazione tecnica: documento, autore e data
A39: Un confronto carico/portata favorevole non valuta terreno, resistenza del solaio, stabilità, accessori, dinamica, vento o interferenze. Collegare A05–A11 della procedura. Nessuna percentuale generica di utilizzo sostituisce il diagramma del fabbricante.

Sheet Evidenze
A1: EVIDENZE | DOCUMENTI E RISCONTRI
A3: Registro di riferimenti: i file non vengono incorporati automaticamente. Conservare copie accessibili, pertinenti e controllate.
A4: =IFERROR(HYPERLINK("#'Dashboard'!A1","◀ DASHBOARD"),"◀ DASHBOARD") -> ◀ DASHBOARD | D4: =IFERROR(HYPERLINK("#'Guida'!A1","GUIDA / LEGENDA"),"GUIDA / LEGENDA") -> GUIDA / LEGENDA
A7: ID evidenza | B7: ID controllo / azione | C7: Data | D7: Tipo | E7: Descrizione / riscontro | F7: Percorso file / URL | G7: Autore | H7: Verificatore | I7: Revisione | J7: Note / limitazioni

Sheet Verbale
A1: RIEPILOGO DI VERIFICA | USO INTERNO
A3: Non è un verbale di verifica periodica dell'Allegato VII e non attesta conformità CE. | P3: moira
A4: =IFERROR(HYPERLINK("#'Dashboard'!A1","◀ DASHBOARD"),"◀ DASHBOARD") -> ◀ DASHBOARD | D4: =IFERROR(HYPERLINK("#'Guida'!A1","GUIDA / LEGENDA"),"GUIDA / LEGENDA") -> GUIDA / LEGENDA
A6: Azienda / sito | E6: =IF(Anagrafica!C7="","DA COMPILARE",Anagrafica!C7&" | "&Anagrafica!C10) -> demo srl |
A8: Macchina / matricola | E8: =IF(Anagrafica!C15="","DA COMPILARE",Anagrafica!C13&" "&Anagrafica!C14&" | "&Anagrafica!C15) -> DA COMPILARE
A10: ID e data verifica | E10: =IF(Anagrafica!C8="","DA COMPILARE",Anagrafica!C8&" | "&IF(ISNUMBER(Anagrafica!C9),TEXT(Anagrafica!C9,"dd/mm/yyyy"),"data mancante")) -> DA COMPILARE
A12: Campo / configurazione | E12: =IF(Anagrafica!C20="","DA COMPILARE",Anagrafica!C20) -> DA COMPILARE
A14: Verificatore e responsabile | E14: =IF(Anagrafica!C11="","DA COMPILARE",Anagrafica!C11&" | "&Anagrafica!C12) -> DA COMPILARE
A17: Stato riepilogativo | E17: =Catalogo!Q19 -> DA CONFIGURARE | VERIFICA NON CONCLUSA
A19: Copertura e conformi | E19: ="Copertura: "&TEXT(Catalogo!Q14,"0%")&" | Conformi / perimetro: "&TEXT(Catalogo!Q15,"0%") -> Copertura: 0% | Conformi / perimetro: 0%
A21: Rilievi e chiusure | E21: ="NC iniziali: "&Catalogo!Q8&" | NC correnti: "&Catalogo!Q4&" | Azioni chiuse: "&Catalogo!Q10 -> NC iniziali: 0 | NC correnti: 0 | Azioni chiuse: 0
A23: Punti di attenzione | E23: ="Sicurezza: "&Catalogo!Q9&" | Scadenze critiche: "&Catalogo!Q12&" | NV / da completare: "&(Catalogo!Q5+Catalogo!Q7) -> Sicurezza: 0 | Scadenze critiche: 0 | NV / da completare: 230
A26: VALUTAZIONE DEL RESPONSABILE | La compilazione dei campi sottostanti non annulla i rilievi, le sospensioni o gli obblighi esterni.
A29: Rilievi principali e riferimenti ID
A33: Limitazioni, misure immediate e attività sospese
A37: Documenti esaminati e allegati
A41: Decisione motivata e condizioni di eventuale ripresa
A45: Responsabile / competenza e data
A48: Firma / riferimento al documento approvato
A52: Nessuna firma è precompilata. L'eventuale rilascio operativo richiede una decisione del responsabile competente, evidenze di chiusura e gli accertamenti richiesti. Archiviare una copia non modificabile con la procedura documentale aziendale: questo XLSX non offre audit trail immodificabile o firma digitale.

Sheet Catalogo
A1: CATALOGO CONTROLLI | ORIGINE E CRITERI | P1: METRICHE DI SUPPORTO | Q1: VALORE CALCOLATO | S1: Esiti correnti | T1: Controlli | V1: Presa in carico | W1: Elementi
P2: Controlli catalogati | Q2: =COUNTA(Checklist!$A$8:$A$237) -> 230 | S2: Conformi | T2: =Q3 -> 0 | V2: Azioni chiuse | W2: =Q10 -> 0
A3: 230 voci: criteri della procedura e controlli documentali derivati, distinti nella colonna Origine. Rilevanza e azioni sono proposte organizzative. | P3: Conformi correnti | Q3: =COUNTIF(Checklist!$L$8:$L$237,"C")+COUNTIF(Checklist!$L$8:$L$237,"C dopo riesame") -> 0 | S3: NC | T3: =Q4 -> 0 | V3: Azioni scadute | W3: =Q11 -> 0
A4: =IFERROR(HYPERLINK("#'Dashboard'!A1","◀ DASHBOARD"),"◀ DASHBOARD") -> ◀ DASHBOARD | D4: =IFERROR(HYPERLINK("#'Guida'!A1","GUIDA / LEGENDA"),"GUIDA / LEGENDA") -> GUIDA / LEGENDA | P4: NC correnti | Q4: =COUNTIF(Checklist!$L$8:$L$237,"NC") -> 0 | S4: NV | T4: =Q5 -> 0 | V4: Scadenze da definire | W4: =Q13 -> 20
P5: NV correnti | Q5: =COUNTIF(Checklist!$L$8:$L$237,"NV") -> 0 | S5: NA | T5: =Q6 -> 0 | V5: Rilievi sicurezza | W5: =Q9 -> 0
P6: NA validati | Q6: =COUNTIF(Checklist!$L$8:$L$237,"NA") -> 0 | S6: Da completare | T6: =Q7 -> 230
A7: ID | B7: Ambito | C7: Requisito / criterio | D7: Riscontro suggerito | E7: Rilevanza proposta | F7: NA ammesso (1/0) | G7: Applicabilità | H7: Azione proposta per NC | I7: Ruolo indicativo | J7: Quando controllare | K7: Origine del controllo | L7: Riferimento nella procedura | M7: Fonte primaria / URL | P7: Da compilare / invalidi | Q7: =Q2-SUM(Q3:Q6) -> 230
A8: A01-01 | B8: Adozione e responsabilità | C8: DVR e documenti del sito coerenti con le attività incluse; riferimenti identificati. | D8: Atti approvati, ruoli nominativi e riferimenti DVR/POS/DUVRI pertinenti. | E8: Gestione | F8: 0 | G8: Requisito di base; NA non ammesso | H8: Completare e approvare perimetro, ruoli e documenti; non attivare attività con requisiti di sicurezza mancanti. | I8: Datore di lavoro / RSPP | J8: Prima adozione e revisione | K8: Criterio della procedura | L8: PR-CT-01, A01; cap. 01–02, 21–22 | M8: Procedura_Aziendale_Carrelli_Telescopici_2026.docx | P8: NC iniziali | Q8: =COUNTIF(Checklist!$I$8:$I$237,"NC") -> 0
A9: A01-02 | B9: Adozione e responsabilità | C9: A02 e manuali completati per ogni macchina; limiti tecnici necessari disponibili. | D9: Atti approvati, ruoli nominativi e riferimenti DVR/POS/DUVRI pertinenti. | E9: Gestione | F9: 0 | G9: Requisito di base; NA non ammesso | H9: Completare e approvare perimetro, ruoli e documenti; non attivare attività con requisiti di sicurezza mancanti. | I9: Datore di lavoro / RSPP | J9: Prima adozione e revisione | K9: Criterio della procedura | L9: PR-CT-01, A01; cap. 01–02, 21–22 | M9: Procedura_Aziendale_Carrelli_Telescopici_2026.docx | P9: Rilievi sicurezza | Q9: =COUNTIFS(Checklist!$D$8:$D$237,"Sicurezza",Checklist!$E$8:$E$237,"NC",Checklist!$L$8:$L$237,"<>C dopo riesame")+COUNTIFS(Checklist!$D$8:$D$237,"Sicurezza",Checklist!$E$8:$E$237,"NV",Checklist!$L$8:$L$237,"<>C dopo riesame") -> 0
A10: A01-03 | B10: Adozione e responsabilità | C10: Accessori ammessi e operatori autorizzati identificati; funzioni escluse esplicitate. | D10: Atti approvati, ruoli nominativi e riferimenti DVR/POS/DUVRI pertinenti. | E10: Gestione | F10: 0 | G10: Requisito di base; NA non ammesso | H10: Completare e approvare perimetro, ruoli e documenti; non attivare attività con requisiti di sicurezza mancanti. | I10: Datore di lavoro / RSPP | J10: Prima adozione e revisione | K10: Criterio della procedura | L10: PR-CT-01, A01; cap. 01–02, 21–22 | M10: Procedura_Aziendale_Carrelli_Telescopici_2026.docx | P10: Azioni chiuse verificate | Q10: =COUNTIF(Azioni!$O$8:$O$237,"CHIUSA VERIFICATA") -> 0
A11: A01-04 | B11: Adozione e responsabilità | C11: Piani per persone / carichi sospesi approvati ove pertinenti; recupero verificato. | D11: Atti approvati, ruoli nominativi e riferimenti DVR/POS/DUVRI pertinenti. | E11: Gestione | F11: 1 | G11: Secondo componente/configurazione | H11: Completare e approvare perimetro, ruoli e documenti; non attivare attività con requisiti di sicurezza mancanti. | I11: Datore di lavoro / RSPP | J11: Prima adozione e revisione | K11: Criterio della procedura | L11: PR-CT-01, A01; cap. 01–02, 21–22 | M11: Procedura_Aziendale_Carrelli_Telescopici_2026.docx | P11: Azioni scadute | Q11: =COUNTIF(Azioni!$P$8:$P$237,"SCADUTA")+COUNTIF(Azioni!$P$8:$P$237,"SCADENZA OGGI") -> 0
A12: A01-05 | B12: Adozione e responsabilità | C12: Scadenze, manutenzioni, fermo e ripresa assegnati; modulistica distribuita. | D12: Atti approvati, ruoli nominativi e riferimenti DVR/POS/DUVRI pertinenti. | E12: Gestione | F12: 0 | G12: Requisito di base; NA non ammesso | H12: Completare e approvare perimetro, ruoli e documenti; non attivare attività con requisiti di sicurezza mancanti. | I12: Datore di lavoro / RSPP | J12: Prima adozione e revisione | K12: Criterio della procedura | L12: PR-CT-01, A01; cap. 01–02, 21–22 | M12: Procedura_Aziendale_Carrelli_Telescopici_2026.docx | P12: Scadenze critiche | Q12: =COUNTIF(Scadenze!$L$8:$L$27,"SCADUTA")+COUNTIF(Scadenze!$L$8:$L$27,"SCADENZA OGGI / ORE")+COUNTIF(Scadenze!$L$8:$L$27,"ESCLUSIONE NON AMMESSA") -> 0
A13: A01-06 | B13: Adozione e responsabilità | C13: Perimetro dell'audit, configurazioni escluse e responsabile della decisione identificati. | D13: Atti approvati, ruoli nominativi e riferimenti DVR/POS/DUVRI pertinenti. | E13: Gestione | F13: 0 | G13: Requisito di base; NA non ammesso | H13: Completare e approvare perimetro, ruoli e documenti; non attivare attività con requisiti di sicurezza mancanti. | I13: Datore di lavoro / RSPP | J13: Prima adozione e revisione | K13: Controllo ricavato da campi/capitoli | L13: PR-CT-01, A01; cap. 01–02 | M13: Procedura_Aziendale_Carrelli_Telescopici_2026.docx | P13: Scadenze da definire | Q13: =COUNTA(Scadenze!$A$8:$A$27)-COUNTIF(Scadenze!$L$8:$L$27,"NEI TERMINI")-COUNTIF(Scadenze!$L$8:$L$27,"NON APPLICABILE")-COUNTIF(Scadenze!$L$8:$L$27,"IN SCADENZA")-COUNTIF(Scadenze!$L$8:$L$27,"PREAVVISO")-Q12 -> 20
A14: A01-07 | B14: Adozione e responsabilità | C14: Responsabili, sostituti, recapiti e custodia del fascicolo operativo definiti. | D14: Atti approvati, ruoli nominativi e riferimenti DVR/POS/DUVRI pertinenti. | E14: Gestione | F14: 0 | G14: Requisito di base; NA non ammesso | H14: Completare e approvare perimetro, ruoli e documenti; non attivare attività con requisiti di sicurezza mancanti. | I14: Datore di lavoro / RSPP | J14: Prima adozione e revisione | K14: Controllo ricavato da campi/capitoli | L14: PR-CT-01, A01; cap. 02, 21 | M14: Procedura_Aziendale_Carrelli_Telescopici_2026.docx | P14: Copertura verificata | Q14: =IF(Q2=0,0,(Q3+Q4+Q6)/Q2) -> 0
A15: A02-01 | B15: Identità e limiti tecnici | C15: Targa, numero di fabbrica, modello, anno e matricola corrispondono al fascicolo. | D15: Targa, manuale originale, diagramma e riscontro della configurazione reale. | E15: Sicurezza | F15: 1 | G15: Secondo componente/configurazione | H15: Acquisire dal fabbricante il dato esatto e la relativa pagina del manuale; sospendere la configurazione non dimostrata. | I15: Responsabile flotta / tecnico | J15: Ingresso e cambio configurazione | K15: Controllo ricavato da campi/capitoli | L15: PR-CT-01, A02; cap. 03–04 | M15: Procedura_Aziendale_Carrelli_Telescopici_2026.docx | P15: Conformi sul perimetro | Q15: =IF(Q2-Q6<=0,0,Q3/(Q2-Q6)) -> 0
A16: A02-02 | B16: Identità e limiti tecnici | C16: Regime di conformità e documentazione della specifica macchina sono identificati. | D16: Targa, manuale originale, diagramma e riscontro della configurazione reale. | E16: Sicurezza | F16: 1 | G16: Secondo componente/configurazione | H16: Acquisire dal fabbricante il dato esatto e la relativa pagina del manuale; sospendere la configurazione non dimostrata. | I16: Responsabile flotta / tecnico | J16: Ingresso e cambio configurazione | K16: Controllo ricavato da campi/capitoli | L16: PR-CT-01, A02; cap. 04 | M16: Procedura_Aziendale_Carrelli_Telescopici_2026.docx | P16: Profilo da completare | Q16: =IF(Anagrafica!$C7="",1,0)+IF(Anagrafica!$C8="",1,0)+IF(Anagrafica!$C9="",1,0)+IF(Anagrafica!$C10="",1,0)+IF(Anagrafica!$C11="",1,0)+IF(Anagrafica!$C12="",1,0)+IF(Anagrafica!$C13="",1,0)+IF(Anagrafica!$C14="",1,0)+IF(Anagrafica!$C15="",1,0)+IF(Anagrafica!$C16="",1,0)+IF(Anagrafica!$C20="",1,0)+IF(Anagrafica!$C21="",1,0)+IF(Anagrafica!$C22="",1,0)+IF(Anagrafica!$K22="",1,0)+COUNTIF(Anagrafica!$K$16:$K$20,"Da definire")+IF(Anagrafica!$K$21="Si",0,1)+IF(NOT(ISNUMBER(Anagrafica!$C$9)),1,IF(Anagrafica!$C$9>Anagrafica!$K$8,1,0))+IF(AND(Anagrafica!$K$7<>"",OR(NOT(ISNUMBER(Anagrafica!$K$7)),Anagrafica!$K$7<=0)),1,0) -> 19
A17: A02-03 | B17: Identità e limiti tecnici | C17: Manuale: codice, revisione, lingua e ubicazione registrati. | D17: Targa, manuale originale, diagramma e riscontro della configurazione reale. | E17: Sicurezza | F17: 1 | G17: Secondo componente/configurazione | H17: Acquisire dal fabbricante il dato esatto e la relativa pagina del manuale; sospendere la configurazione non dimostrata. | I17: Responsabile flotta / tecnico | J17: Ingresso e cambio configurazione | K17: Controllo ricavato da campi/capitoli | L17: PR-CT-01, A02; cap. 03–04 | M17: Procedura_Aziendale_Carrelli_Telescopici_2026.docx | P17: Operatori da completare | Q17: =IF(COUNTIF(Operatori!$C$8:$C$27,"Si")=0,1,0)+COUNTIFS(Operatori!$C$8:$C$27,"Si",Operatori!$O$8:$O$27,"<>REQUISITI DOCUMENTATI",Operatori!$O$8:$O$27,"<>REQUISITI IN SCADENZA") -> 1
A18: A02-04 | B18: Identità e limiti tecnici | C18: Le combinazioni ammesse e i relativi diagrammi sono censiti. | D18: Targa, manuale originale, diagramma e riscontro della configurazione reale. | E18: Sicurezza | F18: 1 | G18: Secondo componente/configurazione | H18: Acquisire dal fabbricante il dato esatto e la relativa pagina del manuale; sospendere la configurazione non dimostrata. | I18: Responsabile flotta / tecnico | J18: Ingresso e cambio configurazione | K18: Controllo ricavato da campi/capitoli | L18: PR-CT-01, A02; cap. 03, 07 | M18: Procedura_Aziendale_Carrelli_Telescopici_2026.docx | P18: Accessori da completare | Q18: =IF(COUNTIF(Accessori!$D$8:$D$27,"Si")=0,1,0)+COUNTIFS(Accessori!$D$8:$D$27,"Si",Accessori!$M$8:$M$27,"<>DATI DOCUMENTATI") -> 1
A19: A02-05 | B19: Identità e limiti tecnici | C19: Documentati valore/condizione e fonte specifica per: Pressioni, tipo e limiti pneumatici. | D19: Registrare valore, unità, configurazione e pagina del manuale in Anagrafica; NA solo motivato. | E19: Sicurezza | F19: 1 | G19: Secondo componente/configurazione | H19: Acquisire dal fabbricante il dato esatto e la relativa pagina del manuale; sospendere la configurazione non dimostrata. | I19: Responsabile flotta / tecnico | J19: Ingresso e cambio configurazione | K19: Controllo ricavato da campo A02 | L19: PR-CT-01, A02; cap. 03, 06–08, 11, 15 | M19: Procedura_Aziendale_Carrelli_Telescopici_2026.docx | P19: Stato sintetico | Q19: =IF(OR(Q9>0,Q12>0),"STOP | CRITICITÀ DA GESTIRE",IF(Q16>0,"DA CONFIGURARE | VERIFICA NON CONCLUSA",IF(OR(Q5>0,Q7>0,Q13>0,Q17>0,Q18>0),"VERIFICA INCOMPLETA",IF(Q4>0,"RILIEVI APERTI | VALUTAZIONE NECESSARIA","NESSUN RILIEVO REGISTRATO | VALIDARE")))) -> DA CONFIGURARE | VERIFICA NON CONCLUSA
A20: A02-06 | B20: Identità e limiti tecnici | C20: Documentati valore/condizione e fonte specifica per: Pendenza / assetto longitudinale e trasversale. | D20: Registrare valore, unità, configurazione e pagina del manuale in Anagrafica; NA solo motivato. | E20: Sicurezza | F20: 1 | G20: Secondo componente/configurazione | H20: Acquisire dal fabbricante il dato esatto e la relativa pagina del manuale; sospendere la configurazione non dimostrata. | I20: Responsabile flotta / tecnico | J20: Ingresso e cambio configurazione | K20: Controllo ricavato da campo A02 | L20: PR-CT-01, A02; cap. 03, 06–08, 11, 15 | M20: Procedura_Aziendale_Carrelli_Telescopici_2026.docx | P20: Riesami favorevoli | Q20: =COUNTIF(Checklist!$L$8:$L$237,"C dopo riesame") -> 0
A21: A02-07 | B21: Identità e limiti tecnici | C21: Documentati valore/condizione e fonte specifica per: Condizioni di marcia e posizione braccio / accessorio. | D21: Registrare valore, unità, configurazione e pagina del manuale in Anagrafica; NA solo motivato. | E21: Sicurezza | F21: 1 | G21: Secondo componente/configurazione | H21: Acquisire dal fabbricante il dato esatto e la relativa pagina del manuale; sospendere la configurazione non dimostrata. | I21: Responsabile flotta / tecnico | J21: Ingresso e cambio configurazione | K21: Controllo ricavato da campo A02 | L21: PR-CT-01, A02; cap. 03, 06–08, 11, 15 | M21: Procedura_Aziendale_Carrelli_Telescopici_2026.docx | P21: C senza riesame | Q21: =COUNTIF(Checklist!$L$8:$L$237,"C") -> 0
A22: A02-08 | B22: Identità e limiti tecnici | C22: Documentati valore/condizione e fonte specifica per: Velocità ammesse; limite aziendale del percorso. | D22: Registrare valore, unità, configurazione e pagina del manuale in Anagrafica; NA solo motivato. | E22: Sicurezza | F22: 1 | G22: Secondo componente/configurazione | H22: Acquisire dal fabbricante il dato esatto e la relativa pagina del manuale; sospendere la configurazione non dimostrata. | I22: Responsabile flotta / tecnico | J22: Ingresso e cambio configurazione | K22: Controllo ricavato da campo A02 | L22: PR-CT-01, A02; cap. 03, 06–08, 11, 15 | M22: Procedura_Aziendale_Carrelli_Telescopici_2026.docx | P22: Elaborazione data | Q22: =Anagrafica!$K$8 -> 46286
A23: A02-09 | B23: Identità e limiti tecnici | C23: Documentati valore/condizione e fonte specifica per: Vento e condizioni ambientali per funzione. | D23: Registrare valore, unità, configurazione e pagina del manuale in Anagrafica; NA solo motivato. | E23: Sicurezza | F23: 1 | G23: Secondo componente/configurazione | H23: Acquisire dal fabbricante il dato esatto e la relativa pagina del manuale; sospendere la configurazione non dimostrata. | I23: Responsabile flotta / tecnico | J23: Ingresso e cambio configurazione | K23: Controllo ricavato da campo A02 | L23: PR-CT-01, A02; cap. 03, 06–08, 11, 15 | M23: Procedura_Aziendale_Carrelli_Telescopici_2026.docx
A24: A02-10 | B24: Identità e limiti tecnici | C24: Documentati valore/condizione e fonte specifica per: Stabilizzatori: aperture e configurazioni consentite. | D24: Registrare valore, unità, configurazione e pagina del manuale in Anagrafica; NA solo motivato. | E24: Sicurezza | F24: 1 | G24: Secondo componente/configurazione | H24: Acquisire dal fabbricante il dato esatto e la relativa pagina del manuale; sospendere la configurazione non dimostrata. | I24: Responsabile flotta / tecnico | J24: Ingresso e cambio configurazione | K24: Controllo ricavato da campo A02 | L24: PR-CT-01, A02; cap. 03, 06–08, 11, 15 | M24: Procedura_Aziendale_Carrelli_Telescopici_2026.docx
A25: A02-11 | B25: Identità e limiti tecnici | C25: Documentati valore/condizione e fonte specifica per: Reazioni massime / dati per verifica appoggi. | D25: Registrare valore, unità, configurazione e pagina del manuale in Anagrafica; NA solo motivato. | E25: Sicurezza | F25: 1 | G25: Secondo componente/configurazione | H25: Acquisire dal fabbricante il dato esatto e la relativa pagina del manuale; sospendere la configurazione non dimostrata. | I25: Responsabile flotta / tecnico | J25: Ingresso e cambio configurazione | K25: Controllo ricavato da campo A02 | L25: PR-CT-01, A02; cap. 03, 06–08, 11, 15 | M25: Procedura_Aziendale_Carrelli_Telescopici_2026.docx
A26: A02-12 | B26: Identità e limiti tecnici | C26: Documentati valore/condizione e fonte specifica per: Diagrammi: settori, baricentro, masse incluse. | D26: Registrare valore, unità, configurazione e pagina del manuale in Anagrafica; NA solo motivato. | E26: Sicurezza | F26: 1 | G26: Secondo componente/configurazione | H26: Acquisire dal fabbricante il dato esatto e la relativa pagina del manuale; sospendere la configurazione non dimostrata. | I26: Responsabile flotta / tecnico | J26: Ingresso e cambio configurazione | K26: Controllo ricavato da campo A02 | L26: PR-CT-01, A02; cap. 03, 06–08, 11, 15 | M26: Procedura_Aziendale_Carrelli_Telescopici_2026.docx
A27: A02-13 | B27: Identità e limiti tecnici | C27: Documentati valore/condizione e fonte specifica per: Persone: numero / massa / DPI / ancoraggi. | D27: Registrare valore, unità, configurazione e pagina del manuale in Anagrafica; NA solo motivato. | E27: Sicurezza | F27: 1 | G27: Secondo componente/configurazione | H27: Acquisire dal fabbricante il dato esatto e la relativa pagina del manuale; sospendere la configurazione non dimostrata. | I27: Responsabile flotta / tecnico | J27: Ingresso e cambio configurazione | K27: Controllo ricavato da campo A02 | L27: PR-CT-01, A02; cap. 03, 06–08, 11, 15 | M27: Procedura_Aziendale_Carrelli_Telescopici_2026.docx
A28: A02-14 | B28: Identità e limiti tecnici | C28: Documentati valore/condizione e fonte specifica per: Traslazione con carico sospeso: consentita? condizioni. | D28: Registrare valore, unità, configurazione e pagina del manuale in Anagrafica; NA solo motivato. | E28: Sicurezza | F28: 1 | G28: Secondo componente/configurazione | H28: Acquisire dal fabbricante il dato esatto e la relativa pagina del manuale; sospendere la configurazione non dimostrata. | I28: Responsabile flotta / tecnico | J28: Ingresso e cambio configurazione | K28: Controllo ricavato da campo A02 | L28: PR-CT-01, A02; cap. 03, 06–08, 11, 15 | M28: Procedura_Aziendale_Carrelli_Telescopici_2026.docx
A29: A02-15 | B29: Identità e limiti tecnici | C29: Documentati valore/condizione e fonte specifica per: Recupero: sistemi e istruzioni / pagine. | D29: Registrare valore, unità, configurazione e pagina del manuale in Anagrafica; NA solo motivato. | E29: Sicurezza | F29: 1 | G29: Secondo componente/configurazione | H29: Acquisire dal fabbricante il dato esatto e la relativa pagina del manuale; sospendere la configurazione non dimostrata. | I29: Responsabile flotta / tecnico | J29: Ingresso e cambio configurazione | K29: Controllo ricavato da campo A02 | L29: PR-CT-01, A02; cap. 03, 06–08, 11, 15 | M29: Procedura_Aziendale_Carrelli_Telescopici_2026.docx
A30: A02-16 | B30: Identità e limiti tecnici | C30: Documentati valore/condizione e fonte specifica per: Limiti usura e attività di controllo dell’operatore. | D30: Registrare valore, unità, configurazione e pagina del manuale in Anagrafica; NA solo motivato. | E30: Sicurezza | F30: 1 | G30: Secondo componente/configurazione | H30: Acquisire dal fabbricante il dato esatto e la relativa pagina del manuale; sospendere la configurazione non dimostrata. | I30: Responsabile flotta / tecnico | J30: Ingresso e cambio configurazione | K30: Controllo ricavato da campo A02 | L30: PR-CT-01, A02; cap. 03, 06–08, 11, 15 | M30: Procedura_Aziendale_Carrelli_Telescopici_2026.docx
A31: A03-01 | B31: Accettazione e noleggio | C31: Identificazione macchina, targa, dichiarazioni e manuale coerenti. | D31: Riscontro mezzo/documenti, verbale di consegna e prove consentite. | E31: Sicurezza | F31: 0 | G31: Requisito di base; NA non ammesso | H31: Non assegnare il mezzo; contestare la carenza al fornitore e acquisire documentazione o ripristino competente. | I31: Responsabile flotta | J31: Consegna, noleggio e rientro | K31: Criterio della procedura | L31: PR-CT-01, A03; cap. 04, 16 | M31: Procedura_Aziendale_Carrelli_Telescopici_2026.docx
A32: A03-02 | B32: Accettazione e noleggio | C32: Accessori consegnati identificati, documentati e compatibili; elenco allegato. | D32: Riscontro mezzo/documenti, verbale di consegna e prove consentite. | E32: Sicurezza | F32: 0 | G32: Requisito di base; NA non ammesso | H32: Non assegnare il mezzo; contestare la carenza al fornitore e acquisire documentazione o ripristino competente. | I32: Responsabile flotta | J32: Consegna, noleggio e rientro | K32: Criterio della procedura | L32: PR-CT-01, A03; cap. 04, 16 | M32: Procedura_Aziendale_Carrelli_Telescopici_2026.docx
A33: A03-03 | B33: Accettazione e noleggio | C33: Diagrammi leggibili e pertinenti; comandi e segnali comprensibili. | D33: Riscontro mezzo/documenti, verbale di consegna e prove consentite. | E33: Sicurezza | F33: 0 | G33: Requisito di base; NA non ammesso | H33: Non assegnare il mezzo; contestare la carenza al fornitore e acquisire documentazione o ripristino competente. | I33: Responsabile flotta | J33: Consegna, noleggio e rientro | K33: Criterio della procedura | L33: PR-CT-01, A03; cap. 04, 16 | M33: Procedura_Aziendale_Carrelli_Telescopici_2026.docx
A34: A03-04 | B34: Accettazione e noleggio | C34: Verbali e scadenze acquisiti; ultimo controllo positivo pertinente disponibile. | D34: Riscontro mezzo/documenti, verbale di consegna e prove consentite. | E34: Sicurezza | F34: 0 | G34: Requisito di base; NA non ammesso | H34: Non assegnare il mezzo; contestare la carenza al fornitore e acquisire documentazione o ripristino competente. | I34: Responsabile flotta | J34: Consegna, noleggio e rientro | K34: Criterio della procedura | L34: PR-CT-01, A03; cap. 04, 16 | M34: Procedura_Aziendale_Carrelli_Telescopici_2026.docx
... A237: A24-07 | B237: Distribuzione e riesame | C237: Conservazione, accessi e correzioni delle registrazioni sono disciplinati senza firme retroattive. | D237: Registro revisioni, destinatari, ricevute e ritiro copie superate. | E237: Gestione | F237: 0 | G237: Requisito di base; NA non ammesso | H237: Aggiornare e redistribuire la revisione applicabile; ritirare le copie obsolete e verificare la comprensione. | I237: Custode documenti | J237: Emissione e revisione | K237: Controllo ricavato da campi/capitoli | L237: PR-CT-01, A24; cap. 21 | M237: Procedura_Aziendale_Carrelli_Telescopici_2026.docx

Sheet Fonti
A1: FONTI, LIMITI E PRECISAZIONI
A3: Fonte di lavoro: procedura PR-CT-01 fornita. Integrazioni Excel e riscontri esterni sono identificati separatamente.
A4: =IFERROR(HYPERLINK("#'Dashboard'!A1","◀ DASHBOARD"),"◀ DASHBOARD") -> ◀ DASHBOARD | D4: =IFERROR(HYPERLINK("#'Guida'!A1","GUIDA / LEGENDA"),"GUIDA / LEGENDA") -> GUIDA / LEGENDA
A7: Codice | B7: Livello | C7: Fonte | D7: Localizzatore | E7: Utilizzo nel file | F7: URL / documento | G7: Stato riscontro | H7: Limiti e precisazioni
A8: P1 | B8: Procedura fornita | C8: Procedura_Aziendale_Carrelli_Telescopici_2026.docx | D8: PR-CT-01 Rev.00; capitoli 01–23 e allegati A01–A24 | E8: Base dei requisiti e della modulistica. Modello da personalizzare e approvare. | F8: Documento fornito nella conversazione | G8: Fonte primaria | H8: Le pagine dipendono dalla resa Word; si usano capitoli e codici allegato stabili.
A9: F1 | B9: Fonte ATS | C9: ATS Val Padana, Carrelli semoventi a braccio telescopico – ed.2026 | D9: carrelli telescopici.pdf, pp.2–22 | E9: Quadro tecnico originario; non approva questa checklist. | F9: PDF fornito nella conversazione | G9: Fonte documentale | H9: Riferimenti storici mantenuti ma non assunti indistintamente come prescrizioni vigenti.
A10: F2 | B10: Presentazione | C10: Carrelli_Telescopici_Presentazione_Professionale_2026.pptx | D10: 56 slide, percorso ampliato | E10: Fonte secondaria già richiamata nella procedura; non documento ufficiale ATS. | F10: File fornito nella conversazione | G10: Fonte documentale | H10: Non sostituisce manuali o verifiche obbligatorie.
A11: N1 | B11: Legislazione | C11: D.Lgs. 81/2008 e s.m.i. | D11: Artt.70–73; ruoli; Allegati V, VI, VII, IX secondo pertinenza | E11: Distinguere obblighi, controlli e verifiche; confermare testo applicabile. | F11: https://www.ispettorato.gov.it/documenti-e-normativa/normativa-di-interesse/salute-e-sicurezza-nei-luoghi-di-lavoro/ | G11: Pagina INL consultata 21/09/2026 | H11: Non è stato eseguito un audit integrale del testo coordinato vigente.
A12: N2 | B12: Legislazione | C12: D.M. 11 aprile 2011 | D12: Allegato II; §5.1.1; categorie e indagini supplementari | E12: La comunicazione di messa in servizio è immediata; non è assunto un termine di tolleranza di 30 giorni. | F12: https://www.arpal.liguria.it/images/stories/testi_normative/DM_11042011.pdf | G12: Riscontro esterno mirato 21/09/2026 | H12: Testo originario da leggere insieme alle modifiche legislative successive.
A13: N3 | B13: Formazione | C13: Accordo Stato-Regioni 17 aprile 2025, Rep.59/CSR | D13: §8.3.4; Parte III | E13: Percorsi carrelli; modulo funzioni aggiuntive; aggiornamento quinquennale pratico. | F13: https://www.lavoro.gov.it/sites/default/files/documenti-pubblicita-legale/Accordo%20formazione%20salute%20e%20sicurezza%20sancito%20CSR%2017%20aprile%202025.pdf | G13: Riscontro esterno mirato 21/09/2026 | H13: Esaminare categorie, prove e riconoscimenti degli attestati reali; la checklist non abilita.
A14: N4 | B14: Guida tecnica | C14: INAIL, Carrelli semoventi a braccio telescopico, 2020 | D14: Istruzioni per la prima verifica periodica | E14: Documentazione e verifica delle configurazioni; non sostituisce manuali specifici. | F14: https://www.inail.it/content/dam/inail-hub-site/documenti/2020/06/CarreliSemoventi.pdf | G14: Guida istituzionale consultata | H14: La periodicità annuale e i 45 giorni sono richiamati dalla procedura P1 cap.18; non confonderli.
A15: N5 | B15: Disciplina prodotto | C15: Direttiva 2006/42/CE e Regolamento (UE) 2023/1230 | D15: P1 cap.23; date e regime di prodotto | E15: Riferimenti conservati. La procedura distingue entrata in vigore e applicazione generale. | F15: https://eur-lex.europa.eu/eli/reg/2023/1230/oj/ita | G15: Riferimento mantenuto dalla procedura | H15: Confermare testo e disposizioni transitorie; non impone automaticamente rimarcatura delle macchine già in uso.
A16: N5b | B16: Rettifica | C16: Rettifica GUUE 4 luglio 2023 | D16: P1 cap.23 | E16: Riferimento alle date richiamate nella procedura. | F16: https://eur-lex.europa.eu/legal-content/IT/TXT/PDF/?uri=CELEX:32023R1230R(01) | G16: Riferimento mantenuto | H16: Il file Excel non esegue una verifica completa del regime di immissione sul mercato.
A17: T1 | B17: Metadati norme | C17: UNI EN 1459-1:2025 | D17: P1 cap.23 | E17: Riferimento di catalogo, non riproduzione della norma. | F17: https://store.uni.com/uni-en-1459-1-2025 | G17: Metadati citati da P1 | H17: Testo integrale e armonizzazione non verificati in questo foglio.
A18: T2 | B18: Metadati norme | C18: UNI EN 1459-4:2025 | D18: P1 cap.23 | E18: Requisiti aggiuntivi per carichi sospesi: riferimento bibliografico. | F18: https://store.uni.com/uni-en-1459-4-2025 | G18: Metadati citati da P1 | H18: Nessun criterio tecnico numerico estratto da un testo integrale non disponibile.
... A25: X3 | B25: Elaborazione Excel | C25: Preavvisi e scadenze | D25: Anagrafica K10:K14; Scadenze | E25: 60/30 giorni e 50 ore sono avvisi interni modificabili, non tolleranze o frequenze manutentive. | F25: P1 A17 per avvisi temporali; soglia ore proposta | G25: Parametri organizzativi | H25: 60 mesi e 12 mesi sono riferimenti del modello da confermare per i casi pertinenti.

Sheet Esempio
A1: ESEMPI DIDATTICI | FUORI DAI RIEPILOGHI
A3: Dati dimostrativi isolati. Nessuna azienda, macchina o verifica reale è rappresentata.
A4: =IFERROR(HYPERLINK("#'Dashboard'!A1","◀ DASHBOARD"),"◀ DASHBOARD") -> ◀ DASHBOARD | D4: =IFERROR(HYPERLINK("#'Guida'!A1","GUIDA / LEGENDA"),"GUIDA / LEGENDA") -> GUIDA / LEGENDA
A7: Caso | B7: Rilevanza | C7: NA ammesso | D7: Esito inserito | E7: Evidenza / motivo | F7: Data | G7: Verificatore | H7: Stato calcolato | I7: Atteso | J7: Test
A8: EX-01 | B8: Sicurezza | C8: 0 | D8: C | E8: Evidenza didattica presente | F8: =Anagrafica!$K$8 -> 46286 | G8: Dimostrazione | H8: =IF(D8="","DA COMPILARE",IF(AND(D8="NA",C8=0),"NA NON AMMESSO",IF(OR(E8="",G8="",F8=""),"INCOMPLETO",IF(OR(NOT(ISNUMBER(F8)),F8>Anagrafica!$K$8),"DATA NON VALIDA",D8)))) -> C | I8: C | J8: =IF(H8=I8,"OK","CONTROLLARE") -> OK
A9: EX-02 | B9: Sicurezza | C9: 0 | D9: NC | E9: Difetto simulato da gestire | F9: =Anagrafica!$K$8 -> 46286 | G9: Dimostrazione | H9: =IF(D9="","DA COMPILARE",IF(AND(D9="NA",C9=0),"NA NON AMMESSO",IF(OR(E9="",G9="",F9=""),"INCOMPLETO",IF(OR(NOT(ISNUMBER(F9)),F9>Anagrafica!$K$8),"DATA NON VALIDA",D9)))) -> NC | I9: NC | J9: =IF(H9=I9,"OK","CONTROLLARE") -> OK
A10: EX-03 | B10: Sicurezza | C10: 1 | D10: NV | E10: Riscontro simulato non eseguito | F10: =Anagrafica!$K$8 -> 46286 | G10: Dimostrazione | H10: =IF(D10="","DA COMPILARE",IF(AND(D10="NA",C10=0),"NA NON AMMESSO",IF(OR(E10="",G10="",F10=""),"INCOMPLETO",IF(OR(NOT(ISNUMBER(F10)),F10>Anagrafica!$K$8),"DATA NON VALIDA",D10)))) -> NV | I10: NV | J10: =IF(H10=I10,"OK","CONTROLLARE") -> OK
A11: EX-04 | B11: Sicurezza | C11: 1 | D11: NA | E11: Funzione non inclusa nel caso didattico | F11: =Anagrafica!$K$8 -> 46286 | G11: Dimostrazione | H11: =IF(D11="","DA COMPILARE",IF(AND(D11="NA",C11=0),"NA NON AMMESSO",IF(OR(E11="",G11="",F11=""),"INCOMPLETO",IF(OR(NOT(ISNUMBER(F11)),F11>Anagrafica!$K$8),"DATA NON VALIDA",D11)))) -> NA | I11: NA | J11: =IF(H11=I11,"OK","CONTROLLARE") -> OK
A12: EX-05 | B12: Sicurezza | C12: 0 | D12: NA | E12: Esclusione non ammessa nel caso | F12: =Anagrafica!$K$8 -> 46286 | G12: Dimostrazione | H12: =IF(D12="","DA COMPILARE",IF(AND(D12="NA",C12=0),"NA NON AMMESSO",IF(OR(E12="",G12="",F12=""),"INCOMPLETO",IF(OR(NOT(ISNUMBER(F12)),F12>Anagrafica!$K$8),"DATA NON VALIDA",D12)))) -> NA NON AMMESSO | I12: NA NON AMMESSO | J12: =IF(H12=I12,"OK","CONTROLLARE") -> OK
A13: EX-06 | B13: Sicurezza | C13: 0 | D13: C | F13: =Anagrafica!$K$8 -> 46286 | G13: Dimostrazione | H13: =IF(D13="","DA COMPILARE",IF(AND(D13="NA",C13=0),"NA NON AMMESSO",IF(OR(E13="",G13="",F13=""),"INCOMPLETO",IF(OR(NOT(ISNUMBER(F13)),F13>Anagrafica!$K$8),"DATA NON VALIDA",D13)))) -> INCOMPLETO | I13: INCOMPLETO | J13: =IF(H13=I13,"OK","CONTROLLARE") -> OK
A14: EX-07 | B14: Sicurezza | C14: 0 | D14: C | E14: Data simulata futura | F14: =Anagrafica!$K$8+1 -> 46287 | G14: Dimostrazione | H14: =IF(D14="","DA COMPILARE",IF(AND(D14="NA",C14=0),"NA NON AMMESSO",IF(OR(E14="",G14="",F14=""),"INCOMPLETO",IF(OR(NOT(ISNUMBER(F14)),F14>Anagrafica!$K$8),"DATA NON VALIDA",D14)))) -> DATA NON VALIDA | I14: DATA NON VALIDA | J14: =IF(H14=I14,"OK","CONTROLLARE") -> OK
A15: EX-08 | B15: Sicurezza | C15: 0 | D15: C | E15: Verificatore non indicato | F15: =Anagrafica!$K$8 -> 46286 | H15: =IF(D15="","DA COMPILARE",IF(AND(D15="NA",C15=0),"NA NON AMMESSO",IF(OR(E15="",G15="",F15=""),"INCOMPLETO",IF(OR(NOT(ISNUMBER(F15)),F15>Anagrafica!$K$8),"DATA NON VALIDA",D15)))) -> INCOMPLETO | I15: INCOMPLETO | J15: =IF(H15=I15,"OK","CONTROLLARE") -> OK
A16: EX-09 | B16: Sicurezza | C16: 0 | H16: =IF(D16="","DA COMPILARE",IF(AND(D16="NA",C16=0),"NA NON AMMESSO",IF(OR(E16="",G16="",F16=""),"INCOMPLETO",IF(OR(NOT(ISNUMBER(F16)),F16>Anagrafica!$K$8),"DATA NON VALIDA",D16)))) -> DA COMPILARE | I16: DA COMPILARE | J16: =IF(H16=I16,"OK","CONTROLLARE") -> OK
A19: NC DI SICUREZZA: la percentuale complessiva non può compensare il difetto. Interrompere l'attività pertinente e documentare il ripristino secondo procedura.
A22: CHIUSURA INCOMPLETA: scegliere “Chiusa” senza evidenza, verificatore, data e riesame favorevole lascia il rilievo aperto nel sistema. L'esito iniziale è sempre conservato.
A25: ESEMPIO DI SCADENZA: una richiesta di verifica inoltrata non proroga la data dell'attrezzatura. I promemoria interni anticipano l'organizzazione e non autorizzano l'uso oltre i limiti.
